BEGIN:VCALENDAR
VERSION:2.0
PRODID:-//Ateneu - ECPv6.15.20//NONSGML v1.0//EN
CALSCALE:GREGORIAN
METHOD:PUBLISH
X-WR-CALNAME:Ateneu
X-ORIGINAL-URL:https://ateneucoopbll.cat
X-WR-CALDESC:Esdeveniments per Ateneu
REFRESH-INTERVAL;VALUE=DURATION:PT1H
X-Robots-Tag:noindex
X-PUBLISHED-TTL:PT1H
BEGIN:VTIMEZONE
TZID:Europe/Madrid
BEGIN:DAYLIGHT
TZOFFSETFROM:+0100
TZOFFSETTO:+0200
TZNAME:CEST
DTSTART:20250330T010000
END:DAYLIGHT
BEGIN:STANDARD
TZOFFSETFROM:+0200
TZOFFSETTO:+0100
TZNAME:CET
DTSTART:20251026T010000
END:STANDARD
BEGIN:DAYLIGHT
TZOFFSETFROM:+0100
TZOFFSETTO:+0200
TZNAME:CEST
DTSTART:20260329T010000
END:DAYLIGHT
BEGIN:STANDARD
TZOFFSETFROM:+0200
TZOFFSETTO:+0100
TZNAME:CET
DTSTART:20261025T010000
END:STANDARD
BEGIN:DAYLIGHT
TZOFFSETFROM:+0100
TZOFFSETTO:+0200
TZNAME:CEST
DTSTART:20270328T010000
END:DAYLIGHT
BEGIN:STANDARD
TZOFFSETFROM:+0200
TZOFFSETTO:+0100
TZNAME:CET
DTSTART:20271031T010000
END:STANDARD
END:VTIMEZONE
BEGIN:VEVENT
DTSTART;TZID=Europe/Madrid:20260130T080000
DTEND;TZID=Europe/Madrid:20260201T170000
DTSTAMP:20260422T181226
CREATED:20251229T181918Z
LAST-MODIFIED:20251230T102720Z
UID:7063-1769760000-1769965200@ateneucoopbll.cat
SUMMARY:Fira de l’Economia Social i Cooperativa de Molins de Rei (FESCMdR2026)
DESCRIPTION:Fira de l’Economia Social i Cooperativa de Molins de Rei (FESCMdR2026)\n🗓️ 30\, 31 de gener i 1 de febrer de 2026📍 Passeig del Terraplè (entre c. del Molí i c. Rubió i Ors)\, Molins de Rei🎯 Dins la 175a Fira de la Candelera \nTorna la Fira de l’Economia Social i Cooperativa de Molins de Rei! En la seva novena edició\, la FESCMdR2026 reunirà cooperatives del Baix Llobregat per mostrar el potencial d’un model econòmic transformador. Un espai d’exposició\, trobada i intercooperació obert al públic general\, en un dels esdeveniments més emblemàtics del territori. \n🔗 Inscripcions fins al 26 de gener📞 Més informació: 93 680 02 97🌐 www.espaiempresa.cat
URL:https://ateneucoopbll.cat/acte/fira-de-leconomia-social-i-cooperativa-de-molins-de-rei-fescmdr2026/
LOCATION:Molins de Rei\, Passeig del Terraplè (entre c. del Molí i c. Rubió i Ors)\,
ATTACH;FMTTYPE=image/png:https://ateneucoopbll.cat/wp-content/uploads/2025/12/Noticies-web-BO-11.png
END:VEVENT
BEGIN:VEVENT
DTSTART;TZID=Europe/Madrid:20260204T120000
DTEND;TZID=Europe/Madrid:20260204T140000
DTSTAMP:20260422T181226
CREATED:20260120T170440Z
LAST-MODIFIED:20260120T170510Z
UID:7098-1770206400-1770213600@ateneucoopbll.cat
SUMMARY:Jornada en línia: Monedes Locals\, Revisió d’Estat
DESCRIPTION:Jornada en línia: Monedes Locals\, Revisió d’Estat\n📅 Data: Dimecres\, 4 de febrer de 2026🕛 Hora: De 12.00 h a 14.00 h🌐 Modalitat: En línia (es facilitarà l’enllaç un cop feta la inscripció)🔗 Inscripció prèvia \nQuin paper tenen avui les monedes locals? Quins són els seus reptes\, potencialitats i aprenentatges? Aquesta jornada en línia proposa una revisió d’estat sobre el present i futur de les monedes complementàries\, amb la participació de municipis que han liderat iniciatives pioneres a Catalunya com La Rosa (Sant Feliu)\, la Grama (Santa Coloma) i els Vilawatts (Viladecans). \nOrganitzada per la XMESS i el Grup Intermunicipal de Monedes Complementàries\, la sessió també abordarà les conclusions del primer congrés europeu sobre monedes locals celebrat a Bordeus\, i compartirà experiències de col·laboració entre administracions\, entitats i projectes emergents en aquest àmbit. \nUna cita imprescindible per a totes les persones interessades en la innovació econòmica\, el desenvolupament local i les estratègies per relocalitzar l’economia. \n📌 Programa destacat: \n\n\n12:00 h · Benvinguda a càrrec del Grup de Moneda Local de la XMESS \n\n\n12:05 h · Presentació del projecte intermunicipal per la consolidació de monedes locals \n\n\n12:50 h · Conclusions del congrés europeu de Bordeus\, amb l’Observatori de la Moneda Complementària \n\n\n13:20 h · Taula d’experiències i balanç de projectes en marxa \n\n\nOrganitzen: XMESS i el Grup Intermunicipal de Monedes ComplementàriesAmb la col·laboració de: Novact\, Ubiquat i la Diputació de Barcelona
URL:https://ateneucoopbll.cat/acte/jornada-en-linia-monedes-locals-revisio-destat/
LOCATION:Taller Online
CATEGORIES:Jornada
ATTACH;FMTTYPE=image/png:https://ateneucoopbll.cat/wp-content/uploads/2026/01/Noticies-web-BO-19.png
END:VEVENT
BEGIN:VEVENT
DTSTART;TZID=Europe/Madrid:20260224T180000
DTEND;TZID=Europe/Madrid:20260224T200000
DTSTAMP:20260422T181226
CREATED:20260120T165719Z
LAST-MODIFIED:20260223T101252Z
UID:7094-1771956000-1771963200@ateneucoopbll.cat
SUMMARY:Sessió informativa: Què és l’habitatge cooperatiu en cessió d’ús?
DESCRIPTION:Sessió informativa: Què és l’habitatge cooperatiu en cessió d’ús?\n📅 Data: Dimarts\, 24 de febrer de 2026🕕 Hora: De 18 h a 20 h📍 Lloc: Ateneu La Nau – Cornellà de Llobregat \nEn el marc del cicle “Habitatge cooperatiu i solars del Pla 50.000”\, aquesta primera sessió divulgativa vol apropar el model d’habitatge cooperatiu en cessió d’ús a la ciutadania de Cornellà i del Baix Llobregat. \nUna oportunitat per entendre com funciona aquest model alternatiu i col·lectiu d’accés a l’habitatge\, quines són les seves característiques principals\, quins avantatges ofereix i quines experiències d’èxit ja existeixen al territori. \nTambé s’explicaran els passos per impulsar un projecte d’habitatge cooperatiu i es resoldran dubtes de les persones assistents. \nL’objectiu del cicle és crear un primer grup motor de persones interessades a formar part d’un projecte cooperatiu en cessió d’ús\, vinculat a solars disponibles a Cornellà i el seu entorn. \n🎤 Amb la participació de referents del sector i entitats impulsores de projectes cooperatius d’habitatge. \nInscripcions aquí
URL:https://ateneucoopbll.cat/acte/sessio-informativa-que-es-lhabitatge-cooperatiu-en-cessio-dus/
LOCATION:LA NAU DE L’ESS\, Carrer de les Moreres\, 119\, 08820 El Prat de Llobregat\, Barcelona\, El Prat\, Barcelona\, 08820
CATEGORIES:Sessió
ATTACH;FMTTYPE=image/png:https://ateneucoopbll.cat/wp-content/uploads/2026/01/Noticies-web-BO-18.png
END:VEVENT
BEGIN:VEVENT
DTSTART;TZID=Europe/Madrid:20260225T190000
DTEND;TZID=Europe/Madrid:20260225T190000
DTSTAMP:20260422T181226
CREATED:20260216T085111Z
LAST-MODIFIED:20260227T075459Z
UID:7165-1772046000-1772046000@ateneucoopbll.cat
SUMMARY:Xerrada: 7 claus per millorar la teva llar
DESCRIPTION:Xerrada: 7 claus per millorar la teva llar\nTips per ajudar-te a viure en una casa sana i lliure de contaminants\n📅 Data: Dimecres\, 25 de febrer de 2026🕖 Hora: 19:00 h \n📍 Lloc: Biblioteca Central de CornellàCarrer de Mossèn Andreu\, 15 – 08940 Cornellà de Llobregat – Sala Raimon Llort \n🎤 A càrrec de: La Rachola (cooperativa d’arquitectura) \n👥 Públic: Joves i adults \nUna xerrada oberta a la ciutadania on compartirem consells pràctics per millorar el confort\, la qualitat de l’aire interior i el benestar a casa teva. \nPetits canvis poden ajudar-te a transformar la teva llar en un espai més saludable\, confortable i lliure de contaminants. \n👉🏼 Participació:Inscripcions al formulari o a la Biblioteca Central \n📋 Formulari d’inscripció:https://docs.google.com/forms/d/e/1FAIpQLSf_7FmOkUID1gZRwQE2FEI75uvUo0PPfGg-aABZBZn6dOhD_w/viewform \n📧 Contacte:b.cornella.c@diba.cat
URL:https://ateneucoopbll.cat/acte/xerrada-7-claus-per-millorar-la-teva-llar/
LOCATION:Biblioteca Central de Corenllà\, Carrer Mossèn Andreu\, 15\, Cornellà de Llobregat\, Barcelona\, 08940
CATEGORIES:Xerrada
ATTACH;FMTTYPE=image/jpeg:https://ateneucoopbll.cat/wp-content/uploads/2026/02/75_XerradaHabitatge_MillorarLlar_250226_FB_TW_LINK.jpg
END:VEVENT
END:VCALENDAR