BEGIN:VCALENDAR
VERSION:2.0
PRODID:-//Ateneu - ECPv6.15.20//NONSGML v1.0//EN
CALSCALE:GREGORIAN
METHOD:PUBLISH
X-WR-CALNAME:Ateneu
X-ORIGINAL-URL:https://ateneucoopbll.cat
X-WR-CALDESC:Esdeveniments per Ateneu
REFRESH-INTERVAL;VALUE=DURATION:PT1H
X-Robots-Tag:noindex
X-PUBLISHED-TTL:PT1H
BEGIN:VTIMEZONE
TZID:Europe/Madrid
BEGIN:DAYLIGHT
TZOFFSETFROM:+0100
TZOFFSETTO:+0200
TZNAME:CEST
DTSTART:20250330T010000
END:DAYLIGHT
BEGIN:STANDARD
TZOFFSETFROM:+0200
TZOFFSETTO:+0100
TZNAME:CET
DTSTART:20251026T010000
END:STANDARD
BEGIN:DAYLIGHT
TZOFFSETFROM:+0100
TZOFFSETTO:+0200
TZNAME:CEST
DTSTART:20260329T010000
END:DAYLIGHT
BEGIN:STANDARD
TZOFFSETFROM:+0200
TZOFFSETTO:+0100
TZNAME:CET
DTSTART:20261025T010000
END:STANDARD
BEGIN:DAYLIGHT
TZOFFSETFROM:+0100
TZOFFSETTO:+0200
TZNAME:CEST
DTSTART:20270328T010000
END:DAYLIGHT
BEGIN:STANDARD
TZOFFSETFROM:+0200
TZOFFSETTO:+0100
TZNAME:CET
DTSTART:20271031T010000
END:STANDARD
END:VTIMEZONE
BEGIN:VEVENT
DTSTART;TZID=Europe/Madrid:20260122T100000
DTEND;TZID=Europe/Madrid:20260122T133000
DTSTAMP:20260422T195823
CREATED:20260114T140730Z
LAST-MODIFIED:20260115T130138Z
UID:7085-1769076000-1769088600@ateneucoopbll.cat
SUMMARY:Consell Estratègic 2026 de l’Ateneu Cooperatiu del Baix Llobregat
DESCRIPTION:Consell Estratègic 2026 de l’Ateneu Cooperatiu del Baix Llobregat\nEl pròxim 22 de gener\, us convidem a participar en una nova edició del Consell Estratègic\, un espai col·lectiu clau per continuar definint\, des de la intel·ligència compartida\, el rumb de l’Ateneu i els reptes de l’economia social i solidària al Baix Llobregat. \nDurant la trobada compartirem línies de treball\, analitzarem propostes i identificarem noves oportunitats per reforçar el teixit cooperatiu i fer créixer el model socioeconòmic transformador que defensem. Serà també una oportunitat per fer xarxa\, retrobar-nos\, construir aliances i sumar mirades diverses des del territori. \n📅 Data: 22 de gener de 2026🕙 Horari: de 10.00 h a 13.30 h📍 Lloc: Consell Comarcal del Baix Llobregat👉 Inscripció: Cliqueu aquí \nHi esteu totes convidades! La vostra participació és imprescindible per continuar enfortint un Ateneu obert\, participatiu i arrelat.
URL:https://ateneucoopbll.cat/acte/consell-estrategic-2026-de-lateneu-cooperatiu-del-baix-llobregat/
LOCATION:Consell Comarcal del Baix Llobregat\, N-340\, km 1249\, 08980 Sant Just Desvern\, BarcelonaBarcelona\, Sant Just Desvern\, Barcelona\, Sant Just Desvern\, Barcelona\, 08980\, Espanya
ATTACH;FMTTYPE=image/jpeg:https://ateneucoopbll.cat/wp-content/uploads/2026/01/69_Consell_Estrategic_220126_baner_WEB.jpg
ORGANIZER;CN="Ateneu Cooperatiu del Baix Llobregat":MAILTO:ateneucooperatiu@elbaixllobregat.cat
END:VEVENT
BEGIN:VEVENT
DTSTART;TZID=Europe/Madrid:20260126T093000
DTEND;TZID=Europe/Madrid:20260126T110000
DTSTAMP:20260422T195823
CREATED:20260113T145245Z
LAST-MODIFIED:20260114T093738Z
UID:7080-1769419800-1769425200@ateneucoopbll.cat
SUMMARY:Connectar\, crear i cooperar: Les fires com a motor del desenvolupament social i econòmic
DESCRIPTION:Connectar\, crear i cooperar: Les fires com a motor del desenvolupament social i econòmic\n📅 Dilluns 26 de gener de 2026🕘 De 9.30 h a 11 h📍 Sala Federació Obrera (C/ Jacint Verdaguer\, 48 – Molins de Rei)🎯 Adreçat a: cooperatives\, comerços\, autònoms\, emprenedores i qualsevol persona interessada en l’economia social i solidària🎟️ Activitat gratuïta \nEn el marc de la 175a Fira de la Candelera de Molins de Rei\, l’Ajuntament de Molins de Rei\, amb el suport de l’Ateneu Cooperatiu del Baix Llobregat i la Federació de Cooperatives de Treball de Catalunya\, organitza aquesta jornada per posar en valor el paper de les fires com a espais estratègics de connexió\, col·laboració i creixement col·lectiu. \nUna trobada per reflexionar\, compartir experiències i descobrir com les fires poden esdevenir eines de dinamització econòmica\, innovació social i cohesió comunitària des d’una mirada cooperativa. \n🔗 Inscripcions i més informació: www.espaiempresa.cat📞 Telèfon de contacte: 93 680 02 97 (Sara Mínguez)
URL:https://ateneucoopbll.cat/acte/connectar-crear-i-cooperar-les-fires-com-a-motor-del-desenvolupament-social-i-economic/
LOCATION:Federación Obrera de Molins de Rei
ATTACH;FMTTYPE=image/png:https://ateneucoopbll.cat/wp-content/uploads/2026/01/Noticies-web-BO-14.png
ORGANIZER;CN="Ajuntament de Molins de Rei":MAILTO:empresa@molinsderei.cat 
END:VEVENT
BEGIN:VEVENT
DTSTART;TZID=Europe/Madrid:20260130T080000
DTEND;TZID=Europe/Madrid:20260201T170000
DTSTAMP:20260422T195823
CREATED:20251229T181918Z
LAST-MODIFIED:20251230T102720Z
UID:7063-1769760000-1769965200@ateneucoopbll.cat
SUMMARY:Fira de l’Economia Social i Cooperativa de Molins de Rei (FESCMdR2026)
DESCRIPTION:Fira de l’Economia Social i Cooperativa de Molins de Rei (FESCMdR2026)\n🗓️ 30\, 31 de gener i 1 de febrer de 2026📍 Passeig del Terraplè (entre c. del Molí i c. Rubió i Ors)\, Molins de Rei🎯 Dins la 175a Fira de la Candelera \nTorna la Fira de l’Economia Social i Cooperativa de Molins de Rei! En la seva novena edició\, la FESCMdR2026 reunirà cooperatives del Baix Llobregat per mostrar el potencial d’un model econòmic transformador. Un espai d’exposició\, trobada i intercooperació obert al públic general\, en un dels esdeveniments més emblemàtics del territori. \n🔗 Inscripcions fins al 26 de gener📞 Més informació: 93 680 02 97🌐 www.espaiempresa.cat
URL:https://ateneucoopbll.cat/acte/fira-de-leconomia-social-i-cooperativa-de-molins-de-rei-fescmdr2026/
LOCATION:Molins de Rei\, Passeig del Terraplè (entre c. del Molí i c. Rubió i Ors)\,
ATTACH;FMTTYPE=image/png:https://ateneucoopbll.cat/wp-content/uploads/2025/12/Noticies-web-BO-11.png
END:VEVENT
END:VCALENDAR