BEGIN:VCALENDAR
VERSION:2.0
PRODID:-//Ateneu - ECPv6.15.20//NONSGML v1.0//EN
CALSCALE:GREGORIAN
METHOD:PUBLISH
X-WR-CALNAME:Ateneu
X-ORIGINAL-URL:https://ateneucoopbll.cat
X-WR-CALDESC:Esdeveniments per Ateneu
REFRESH-INTERVAL;VALUE=DURATION:PT1H
X-Robots-Tag:noindex
X-PUBLISHED-TTL:PT1H
BEGIN:VTIMEZONE
TZID:Europe/Madrid
BEGIN:DAYLIGHT
TZOFFSETFROM:+0100
TZOFFSETTO:+0200
TZNAME:CEST
DTSTART:20240331T010000
END:DAYLIGHT
BEGIN:STANDARD
TZOFFSETFROM:+0200
TZOFFSETTO:+0100
TZNAME:CET
DTSTART:20241027T010000
END:STANDARD
BEGIN:DAYLIGHT
TZOFFSETFROM:+0100
TZOFFSETTO:+0200
TZNAME:CEST
DTSTART:20250330T010000
END:DAYLIGHT
BEGIN:STANDARD
TZOFFSETFROM:+0200
TZOFFSETTO:+0100
TZNAME:CET
DTSTART:20251026T010000
END:STANDARD
BEGIN:DAYLIGHT
TZOFFSETFROM:+0100
TZOFFSETTO:+0200
TZNAME:CEST
DTSTART:20260329T010000
END:DAYLIGHT
BEGIN:STANDARD
TZOFFSETFROM:+0200
TZOFFSETTO:+0100
TZNAME:CET
DTSTART:20261025T010000
END:STANDARD
END:VTIMEZONE
BEGIN:VEVENT
DTSTART;TZID=Europe/Madrid:20250605T180000
DTEND;TZID=Europe/Madrid:20250605T193000
DTSTAMP:20260424T171853
CREATED:20250527T102625Z
LAST-MODIFIED:20250603T094732Z
UID:6349-1749146400-1749151800@ateneucoopbll.cat
SUMMARY:Xerrada: energia i habitatge. Redueix la teva factura energètica
DESCRIPTION:Xerrada: energia i habitatge. Redueix la teva factura energètica\nXerrada sobre energia i habitatge on s’explicarà com funcionen a nivell energètic els nostres edificis i les seves possibilitats de millora amb un cas d’estudi real. Resum de les normatives obligatòries que s’implantaran per arribar a edificis de consum zero i de les ajudes actuals de rehabilitació energètica. \nDetalls de l’activitat\nPúblic objectiu: Qualsevol persona adulta. \nNombre de persones: entre 8 i 20 adults. \nPonent: La Rachola  \nData: 05/06/2025 \nHora: 18 h – 19:30 h
URL:https://ateneucoopbll.cat/acte/xerrada-energia-i-habitatge-redueix-la-teva-factura-energetica-2/
LOCATION:Barcelona
CATEGORIES:Xerrada
ATTACH;FMTTYPE=image/jpeg:https://ateneucoopbll.cat/wp-content/uploads/2025/05/24_XerradaHabitatge050625_baners_WEB.jpg
END:VEVENT
BEGIN:VEVENT
DTSTART;TZID=Europe/Madrid:20250610T180000
DTEND;TZID=Europe/Madrid:20250610T190000
DTSTAMP:20260424T171853
CREATED:20250527T102522Z
LAST-MODIFIED:20250527T102522Z
UID:6352-1749578400-1749582000@ateneucoopbll.cat
SUMMARY:Xerrada: energia i habitatge. Redueix la teva factura energètica
DESCRIPTION:Xerrada: Energia i habitatge. Redueix la teva factura energètica\nXerrada sobre energia i habitatge on s’explicarà com funcionen a nivell energètic els nostres edificis i les seves possibilitats de millora amb un cas d’estudi real. Resum de les normatives obligatòries que s’implantaran per arribar a edificis de consum zero i de les ajudes actuals de rehabilitació energètica. \nDetalls de l’activitat\nPúblic objectiu: Adults \nNombre de persones: Entre 8 i 20. \nPonent: La Rachola  \nHora: 18 h – 19 h \nData: 10 de juny
URL:https://ateneucoopbll.cat/acte/xerrada-energia-i-habitatge-redueix-la-teva-factura-energetica/
LOCATION:Barcelona
CATEGORIES:Xerrada
END:VEVENT
BEGIN:VEVENT
DTSTART;TZID=Europe/Madrid:20250616T100000
DTEND;TZID=Europe/Madrid:20250616T120000
DTSTAMP:20260424T171853
CREATED:20250527T102120Z
LAST-MODIFIED:20250527T102120Z
UID:6354-1750068000-1750075200@ateneucoopbll.cat
SUMMARY:Espais estratègic Agroecologia i ruralitats
DESCRIPTION:AgroXarxa de Dones\nJornada participativa on es presentarà una diagnosi de l’estat de situació de les dones pageses i en general les que es dediquen a la producció i distribució agroalimentària\, posant el focus en l’agroecologia i altres formes de viure dignament \nDetalls de l’activitat\nOrganització: L’Àgora Agroecològica SCCL \nLloc : Consell Comarcal \nData: 16 de juny \nHora: 10:00h – 12:00h \n 
URL:https://ateneucoopbll.cat/acte/espais-estrategic-agroecologia-i-ruralitats/
LOCATION:Consell Comarcal Baix Llobregat\, Parc Torreblanca N-340 pk 1249\, San Feliu de Llobregat\, Barcelona\, 08980\, España
CATEGORIES:Jornada
END:VEVENT
BEGIN:VEVENT
DTSTART;TZID=Europe/Madrid:20250617T180000
DTEND;TZID=Europe/Madrid:20250617T190000
DTSTAMP:20260424T171853
CREATED:20250603T091744Z
LAST-MODIFIED:20250603T091744Z
UID:6407-1750183200-1750186800@ateneucoopbll.cat
SUMMARY:Xerrada: energia i habitatge. Redueix la teva factura energètica
DESCRIPTION:Xerrada: energia i habitatge. Redueix la teva factura energètica\nXerrada sobre energia i habitatge on s’explicarà com funcionen a nivell energètic els nostres edificis i les seves possibilitats de millora amb un cas d’estudi real. Resum de les normatives obligatòries que s’implantaran per arribar a edificis de consum zero i de les ajudes actuals de rehabilitació energètica. \nPúblic objectiu: qualsevol persona adulta. \nNombre de persones: entre 8 i 20 adults. \nPONENT: La Rachola \nDetalls de l’activitat\nData: 17 de juny \nHorari: 18 h – 19 h \nLLoc: AAVV Torreblanca
URL:https://ateneucoopbll.cat/acte/xerrada-energia-i-habitatge-redueix-la-teva-factura-energetica-3/
LOCATION:Barcelona
CATEGORIES:Xerrada
END:VEVENT
BEGIN:VEVENT
DTSTART;TZID=Europe/Madrid:20250618T100000
DTEND;TZID=Europe/Madrid:20250618T120000
DTSTAMP:20260424T171853
CREATED:20250527T103006Z
LAST-MODIFIED:20250527T103006Z
UID:6356-1750240800-1750248000@ateneucoopbll.cat
SUMMARY:Consell Estratègic Convocatoria 2024-27
DESCRIPTION:Consell Estratègic Convocatoria 2024-27\nReunió del Consell Estratègic \nOrdre del dia per determinar \nDetalls de l’activitat\nData: 18/06/2025 \nHora: 10:00 – 12:00h
URL:https://ateneucoopbll.cat/acte/consell-estrategic-convocatoria-2024-27/
LOCATION:Barcelona
END:VEVENT
BEGIN:VEVENT
DTSTART;TZID=Europe/Madrid:20250618T100000
DTEND;TZID=Europe/Madrid:20250618T133000
DTSTAMP:20260424T171853
CREATED:20250529T104453Z
LAST-MODIFIED:20250529T104453Z
UID:6385-1750240800-1750253400@ateneucoopbll.cat
SUMMARY:MiradESS
DESCRIPTION:MiradESS\nEspai de debat i reflexió al voltant de la Llei de l’economia Scoial i Solidària (ESS). Trobada dels diferents programes de la Direcció General. \nDetalls de l’activitat\nData: 18 de juny \nHora: 10 h – 13.30 h \nLloc: El Born Centre de Cultura i Memòria Sala Moragues \nFormulari d’inscripció: https://economiasocial.coop/formulari-acte-miradess-2025.
URL:https://ateneucoopbll.cat/acte/miradess/
LOCATION:Barcelona
CATEGORIES:Trobada
ATTACH;FMTTYPE=image/jpeg:https://ateneucoopbll.cat/wp-content/uploads/2025/05/MiradESS-2025.jpeg
END:VEVENT
BEGIN:VEVENT
DTSTART;TZID=Europe/Madrid:20250626T160000
DTEND;TZID=Europe/Madrid:20250626T190000
DTSTAMP:20260424T171853
CREATED:20250526T141914Z
LAST-MODIFIED:20250619T100057Z
UID:6358-1750953600-1750964400@ateneucoopbll.cat
SUMMARY:Taller Casa Cuba\, Secrets dels Balls Cubans: En clau de rumba
DESCRIPTION:Tallers Casa Cuba\, Secrets dels Balls Cubans: En clau de rumba\nExploració i Expressió Creativa  (versió Bootcamp)  \nObjectiu:  \nFomentar la cohesió social\, la integració i la tolerància a la població immigrada mediant una  proposta artística transversal que combina cos i emoció des d’un enfocament fresc\, lúdic i  participatiu.  \nMetodologia:  \n\nTreball en petits grups \nParticipació activa i cocreació\nEnfocament vivencial: descobriment\, autoexploració i celebració d’assoliments \n\nContinguts adaptats:  \n\nBenvinguda i Presentació:  \n\n– Introducció al taller i objectius \n– Dinàmiques trenca-gels  \n\nExploració Corporal i Moviment\n\n– Principis de la dansa cubana  \n– Exercicis de reconeixement corporal i seguretat en el moviment  \n\nConnexió Emocional i Expressió \n\n– Improvisació i exercicis d’expressió emocional mediant el ball \n– Breu reflexió col·lectiva  \n\nCreació Coreogràfica Col·laborativa \n\n– Treball grupal para construir una seqüència curta  \n– Assaig i posada en comú  \n\nTancament i Celebració \n\n– Presentació final  \n– Dinàmica de tancament i retroalimentació de l’experiència  \n  \nRequisits tècnics:  \n\nEspai amplio tipus aula polivalent o gimnàs \nReproductor de música / altaveu\n\nDetalls de l’activitat\nData: 26/06/2025 \nHora: 16:00 h – 19:00h \nDuració: Taller intensiu de 3 horas (una sesió)  \nDirigit a: Públic Adult de la localitat del Baix Llobregat.  \nInscripcions: https://serveis.ateneucoopbll.cat/program/tallers-secrets-dels-balls-cubans-en-clau-de-rumba \n  \n  \n  \n 
URL:https://ateneucoopbll.cat/acte/tallers-cossos-en-dialeg-secrets-dels-balls-cubans-per-a-la-autoconeixenca-i-la-transformacio-social/
LOCATION:Barcelona
CATEGORIES:Taller
ATTACH;FMTTYPE=image/jpeg:https://ateneucoopbll.cat/wp-content/uploads/2025/05/32_BallCubans_web_1200x630.jpg
END:VEVENT
BEGIN:VEVENT
DTSTART;TZID=Europe/Madrid:20250627T090000
DTEND;TZID=Europe/Madrid:20250627T103000
DTSTAMP:20260424T171853
CREATED:20250604T091145Z
LAST-MODIFIED:20250604T091145Z
UID:6435-1751014800-1751020200@ateneucoopbll.cat
SUMMARY:CONVOCATÒRIA ASSEMBLEA GENERAL ORDINÀRIA 2025
DESCRIPTION:CONVOCATÒRIA ASSEMBLEA GENERAL ORDINÀRIA 2025\nEl divendres 27 de juny\, el Consell Rector de la Federació de Cooperatives de Treball de Catalunya convoca les cooperatives sòcies a l’Assemblea. \nLa trobada anual del cooperativisme de treball es farà en format híbrid: presencial a Bloc4BCN – espai cooperatiu (Can Batlló c. Constitució\, 19. Barcelona)\, i virtual. \nDETALLS TÈCNICS \nData i hora: divendres 27 de juny de 2025.\n9h Obertura i esmorzar cooperatiu + mur de la intercooperació\n10h Benvinguda institucional i Primera convocatòria\n10\,30h Segona convocatòria i inici de l’Assemblea \nOrdre del dia i documentació: aquí \nFormat: Híbrid.\n– Presencial a Bloc4BCN- espai cooperatiu\n– Virtual (us enviarem l’enllaç més endavant a aquelles qui us hagueu inscrit amb l’opció “virtual”). \nInscripcions: fins divendres 20 de juny de 2025\, a través d’aquest enllaç. Pròximament\, aquelles qui us hagueu inscrit a l’Assemblea\, rebreu un correu explicant-vos com votar. \nVotacions: a través de la plataforma Cercles\, que activareu des del vostre dispositiu (mòbil\, ordinador o tauleta)\, i que haureu d’haver entrat per logar-vos el dia abans de l’Assemblea General Ordinària.
URL:https://ateneucoopbll.cat/acte/convocatoria-assemblea-general-ordinaria-2025/
LOCATION:Barcelona
CATEGORIES:Assemblea
END:VEVENT
BEGIN:VEVENT
DTSTART;TZID=Europe/Madrid:20250629T103000
DTEND;TZID=Europe/Madrid:20250629T123000
DTSTAMP:20260424T171853
CREATED:20250603T092342Z
LAST-MODIFIED:20250603T092342Z
UID:6409-1751193000-1751200200@ateneucoopbll.cat
SUMMARY:Conèixer\, compartir i conservar els ecosistemes fluvials
DESCRIPTION:Conèixer\, compartir i conservar els ecosistemes fluvials\nActivitat conduïda per educadors/es ambientals basada en desvetllar l’estat de salut d’un espai fluvial observant i analitzant diferents aspectes\, com el cabal\, la temperatura de l’aigua\, els impactes a les riberes\, la presència de nitrats\, la cerca d’organismes macroinvertebrats\, l’observació de fauna i flora\, etc. Es tracta d’una activitat dinàmica i participativa en la que\, a més\, s’emplaça els assistents al debat i la reflexió\, s’afavoreix l’esperit crític i el treball en equip. Es realitza a l’aire lliure\, en un espai fluvial accessible\, i s’acompanya del material necessari. Inclou assegurances obligatòries. No inclou transport. \nEs recomana als participants vestir roba còmode\, que es pugui embrutar. Calçat de muntanya\, tipus impermeable o botes d’aigua. \n  \nDetalls de l’activitat\nData: 29 de juny \nHorari: 10.30 h – 12.30 \n 
URL:https://ateneucoopbll.cat/acte/coneixer-compartir-i-conservar-els-ecosistemes-fluvials/
LOCATION:Barcelona
CATEGORIES:Activitat
END:VEVENT
BEGIN:VEVENT
DTSTART;TZID=Europe/Madrid:20250630T180000
DTEND;TZID=Europe/Madrid:20250630T190000
DTSTAMP:20260424T171853
CREATED:20250603T095059Z
LAST-MODIFIED:20250617T101005Z
UID:6411-1751306400-1751310000@ateneucoopbll.cat
SUMMARY:Taller de creació de draps encerats a la Biblioteca La Ginesta de Begues
DESCRIPTION:Taller de creació de draps encerats\nVols reduir l’ús de plàstics i descobrir una alternativa sostenible per embolicar aliments? En aquest taller familiar aprendrem a fer draps encerats\, una solució pràctica\, reutilitzable i respectuosa amb el medi ambient. \nEls draps estan fets amb tela de cotó i una capa de cera d’abella que permet conservar els aliments de manera natural. Són ideals per portar l’esmorzar a l’escola o a la feina d’una forma sostenible! \n👉 Activitat adreçada a famílies (fins a 12 adults i 12 infants).🎟️ Inscripcions: Biblioteca La Ginesta📧 b.begues.lg@diba.cat | 📞 936 392 808🌐 bibliotecalaginesta.cat
URL:https://ateneucoopbll.cat/acte/taller-de-creacio-de-draps-encerats-a-la-biblioteca-la-ginesta-de-begues/
LOCATION:Barcelona
CATEGORIES:Taller
ATTACH;FMTTYPE=image/jpeg:https://ateneucoopbll.cat/wp-content/uploads/2025/06/30_Tallers_en_familia_draps_300625_baners_WEB.jpg
END:VEVENT
BEGIN:VEVENT
DTSTART;TZID=Europe/Madrid:20250630T180000
DTEND;TZID=Europe/Madrid:20250630T190000
DTSTAMP:20260424T171853
CREATED:20250616T135636Z
LAST-MODIFIED:20250616T135636Z
UID:6483-1751306400-1751310000@ateneucoopbll.cat
SUMMARY:FEM DRAPS ENCERATS: TALLERS EN FAMÍLIA PER INTRODUIR-SE AL MÓN DE LA SOSTENIBILITAT
DESCRIPTION:FEM DRAPS ENCERATS: TALLERS EN FAMÍLIA PER INTRODUIR-SE AL MÓN DE LA SOSTENIBILITAT\nEn aquest taller t’ensenyarem a fer un drap encerat\, una alternativa sostenible i pràctica per reduir l’ús de plàstics i envasos d’un sol ús. Aquests draps estan coberts amb una làmina de cera d’abella i són reutilitzables. Ideal per a portar l’esmorzar a l’escola o a la feina d’una manera sostenible!\n\nDetalls de l’activitat\nData: 30 de juny \nLloc: Biblioteca La Ginesta \nHora: 18 h – 19 h \nPlaces: 12 adults + 12 nens/nenes
URL:https://ateneucoopbll.cat/acte/fem-draps-encerats-tallers-en-familia-per-introduir-se-al-mon-de-la-sostenibilitat/
LOCATION:Barcelona
CATEGORIES:Taller
END:VEVENT
END:VCALENDAR