BEGIN:VCALENDAR
VERSION:2.0
PRODID:-//Ateneu - ECPv6.15.20//NONSGML v1.0//EN
CALSCALE:GREGORIAN
METHOD:PUBLISH
X-WR-CALNAME:Ateneu
X-ORIGINAL-URL:https://ateneucoopbll.cat
X-WR-CALDESC:Esdeveniments per Ateneu
REFRESH-INTERVAL;VALUE=DURATION:PT1H
X-Robots-Tag:noindex
X-PUBLISHED-TTL:PT1H
BEGIN:VTIMEZONE
TZID:Europe/Madrid
BEGIN:DAYLIGHT
TZOFFSETFROM:+0100
TZOFFSETTO:+0200
TZNAME:CEST
DTSTART:20240331T010000
END:DAYLIGHT
BEGIN:STANDARD
TZOFFSETFROM:+0200
TZOFFSETTO:+0100
TZNAME:CET
DTSTART:20241027T010000
END:STANDARD
BEGIN:DAYLIGHT
TZOFFSETFROM:+0100
TZOFFSETTO:+0200
TZNAME:CEST
DTSTART:20250330T010000
END:DAYLIGHT
BEGIN:STANDARD
TZOFFSETFROM:+0200
TZOFFSETTO:+0100
TZNAME:CET
DTSTART:20251026T010000
END:STANDARD
BEGIN:DAYLIGHT
TZOFFSETFROM:+0100
TZOFFSETTO:+0200
TZNAME:CEST
DTSTART:20260329T010000
END:DAYLIGHT
BEGIN:STANDARD
TZOFFSETFROM:+0200
TZOFFSETTO:+0100
TZNAME:CET
DTSTART:20261025T010000
END:STANDARD
END:VTIMEZONE
BEGIN:VEVENT
DTSTART;TZID=Europe/Madrid:20250304T100000
DTEND;TZID=Europe/Madrid:20250304T120000
DTSTAMP:20260424T214648
CREATED:20250227T103416Z
LAST-MODIFIED:20250227T103416Z
UID:5570-1741082400-1741089600@ateneucoopbll.cat
SUMMARY:Contractació Estratègica i Responsable  |  Jornada per a Organitzacions de l'ESS
DESCRIPTION:La contractació pública és una oportunitat clau per a les organitzacions de l’Economia Social i Solidària (ESS) que volen accedir a nous recursos i ampliar el seu impacte. Aquesta jornada\, organitzada per la Xarxa de Municipis per l’Economia Social i Solidària (XMEESS) i la Xarxa d’Ateneus Cooperatius (XAC) dins del marc del Centre d’Estudis per la Contractació Estratègica i Responsable de Catalunya\, està dissenyada per ajudar les entitats de l’ESS a comprendre i aprofitar la contractació pública estratègica. \n🔹 Quins temes tractarem? \n\nLa importància de la contractació pública estratègica i el seu impacte econòmic i social.\nOportunitats per a les empreses de l’ESS en l’accés a licitacions.\nRecursos i formacions disponibles per preparar-se millor i presentar-se a concursos públics.\n\nData i hora:\n📆 4 de març de 2024\n🕙 10 h a 12 h (Virtual) \nFormat:\n💻 Sessió en línia (enllaç enviat prèviament als inscrits) \nInscripcions:\n🔗 https://bit.ly/41yPMNg \nA qui s’adreça?\n🎯 A cooperatives\, associacions\, fundacions i altres entitats de l’Economia Social i Solidària interessades en la contractació pública. \n📣 Organitzen i impulsen:\nXarxa d’Ateneus Cooperatius (XAC)\, Xarxa de Municipis per l’Economia Social i Solidària (XMESS)\, Facto Cooperativa\, TecnoCampus\, L’Escamot Cooperativa\, Ariadna \n📢 No et perdis aquesta oportunitat de conèixer les claus per accedir a la contractació pública i fer créixer el teu projecte dins de l’ESS! \n 
URL:https://ateneucoopbll.cat/acte/contractacio-estrategica-i-responsable-jornada-per-a-organitzacions-de-less/
LOCATION:Activitat Virtual
CATEGORIES:Acte,Curs,Formacions,Jornada,Taller
ATTACH;FMTTYPE=application/pdf:https://ateneucoopbll.cat/wp-content/uploads/2025/02/Carteleria-Centre-destudis-CE-1.pdf
END:VEVENT
BEGIN:VEVENT
DTSTART;TZID=Europe/Madrid:20250311T100000
DTEND;TZID=Europe/Madrid:20250311T120000
DTSTAMP:20260424T214648
CREATED:20250227T103251Z
LAST-MODIFIED:20250227T103251Z
UID:5574-1741687200-1741694400@ateneucoopbll.cat
SUMMARY:Contractació Estratègica i Responsable  |  Jornada per les Administracions Públiques
DESCRIPTION:Les administracions públiques tenen un paper fonamental a l’hora de promoure una economia més justa i sostenible a través de la contractació estratègica i responsable. Aquesta jornada\, organitzada per la Xarxa de Municipis per l’Economia Social i Solidària (XMEESS) i la Xarxa d’Ateneus Cooperatius (XAC) dins del marc del Centre d’Estudis per la Contractació Estratègica i Responsable de Catalunya\, té com a objectiu oferir eines i coneixement per millorar els processos de contractació pública. \n🔹 Què tractarem? \n\nLa importància de la contractació pública com a eina de transformació social i econòmica.\nEls beneficis socials\, econòmics i mediambientals d’una contractació estratègica.\nRecursos i itineraris formatius per implementar bones pràctiques en la contractació pública.\n\nData i hora:\n📆 11 de març de 2024\n🕙 10 h a 12 h (Virtual) \nFormat:\n💻 Sessió en línia (enllaç enviat prèviament als inscrits) \n📩 Inscripcions:\n🔗 https://bit.ly/41yPMNg \nA qui s’adreça?\n🎯A representants i tècnics d’administracions públiques locals\, regionals i autonòmiques que vulguin conèixer estratègies per millorar la contractació amb criteris de sostenibilitat i justícia social. \n📣 Organitzen i impulsen:\nXarxa d’Ateneus Cooperatius (XAC)\, Xarxa de Municipis per l’Economia Social i Solidària (XMESS)\, Facto Cooperativa\, TecnoCampus\, L’Escamot Cooperativa\, Ariadna \n📢 Participa en aquesta sessió per conèixer eines i recursos per aplicar una contractació pública més responsable i estratègica
URL:https://ateneucoopbll.cat/acte/contractacio-estrategica-i-responsable-jornada-per-les-administracions-publiques/
LOCATION:Activitat Virtual
CATEGORIES:Acte,Curs,Formacions,Jornada,Taller
ATTACH;FMTTYPE=image/png:https://ateneucoopbll.cat/wp-content/uploads/2025/02/2.png
END:VEVENT
BEGIN:VEVENT
DTSTART;TZID=Europe/Madrid:20250313T080000
DTEND;TZID=Europe/Madrid:20250313T170000
DTSTAMP:20260424T214648
CREATED:20250313T113454Z
LAST-MODIFIED:20250313T113454Z
UID:5634-1741852800-1741885200@ateneucoopbll.cat
SUMMARY:Camí de la Solidesa – Desena edició
DESCRIPTION:📅 Inscripcions obertes fins al 14 de març! \nEl Camí de la Solidesa és un programa d’acompanyament i enfortiment dirigit a organitzacions de l’Economia Social i Solidària (ESS) de Barcelona i la seva àrea metropolitana. Aquesta iniciativa està especialment enfocada a aquelles entitats liderades o gestionades per dones\, així com a aquelles que volen promoure el lideratge femení en càrrecs de responsabilitat. \nAmb un enfocament integral\, el programa ofereix formació especialitzada\, assessorament personalitzat i espais de col·laboració per ajudar les organitzacions a millorar la seva sostenibilitat\, reforçar la seva estructura i consolidar el seu creixement. \n\nQuè ofereix el programa?\n✅ Formació especialitzadaEl programa inclou 60 hores de formació teòrica i pràctica\, abordant temàtiques essencials per a la consolidació de les organitzacions de l’ESS: \n\nSostenibilitat organitzativa i models de gestió eficients.\nEstratègies i tècniques de comercialització per millorar la viabilitat econòmica.\nHabilitats directives i lideratge per potenciar el paper de les dones en la presa de decisions.\n\n✅ Acompanyament individualitzatCada entitat participant rebrà entre 10 i 15 hores d’assessorament personalitzat\, adaptat a les seves necessitats concretes\, que pot incloure: \n\nDesenvolupament de plans estratègics i de comunicació.\nMillora de la gestió interna i lideratge d’equips.\nDisseny i posada en marxa de noves línies d’activitat.\n\n✅ Activitats complementàries i intercooperacióA més de la formació i l’assessorament\, el programa inclou tallers i espais d’intercooperació que fomenten la col·laboració entre les organitzacions participants. Aquests espais permeten compartir experiències\, generar sinergies i reforçar els vincles dins de l’ESS. \n\nA qui s’adreça?\nAquest programa està pensat per a cooperatives\, associacions\, fundacions i altres iniciatives de l’ESS que vulguin enfortir la seva estructura i consolidar-se dins el sector. Especialment\, es prioritzen aquelles entitats que:✔️ Siguin liderades o gestionades per dones.✔️ Busquin fomentar el lideratge femení dins la seva organització.✔️ Necessitin suport per a la seva consolidació i creixement. \n\nProcés d’inscripció\n📅 Termini d’inscripció: Fins al 14 de març.💻 Com inscriure’s? Cal omplir el formulari disponible a la web del programa.📌 Sessions informatives: Es recomana assistir a les sessions informatives per conèixer més detalls sobre el programa i resoldre dubtes. \n🔗 Més informació i inscripcions aquí:👉 empreses.barcelonactiva.cat/es/programa-cami-de-la-solidesa \n\nAprofita aquesta oportunitat per enfortir la teva organització\, consolidar la teva trajectòria dins l’ESS i promoure el lideratge femení! 💡💜
URL:https://ateneucoopbll.cat/acte/cami-de-la-solidesa-desena-edicio/
LOCATION:Barcelona
END:VEVENT
BEGIN:VEVENT
DTSTART;TZID=Europe/Madrid:20250313T080000
DTEND;TZID=Europe/Madrid:20250313T170000
DTSTAMP:20260424T214648
CREATED:20250313T113531Z
LAST-MODIFIED:20250313T113531Z
UID:5647-1741852800-1741885200@ateneucoopbll.cat
SUMMARY:Taller: No Som Àngels: Els Nostres Cossos\, Les Nostres Regles
DESCRIPTION:📅 Dimecres 26 de març a les 18:00 h📍 Pavelló Poliesportiu Municipal de Santa Coloma de Cervelló(Avinguda dels Països Catalans\, 1) \nEl Consell Comarcal del Baix Llobregat organitza el taller “No Som Àngels: Els Nostres Cossos\, Les Nostres Regles”\, una sessió adreçada a dones i dissidències de gènere d’entre 18 i 35 anys amb diversitat funcional o discapacitat. \nAquest taller ofereix un espai segur i de confiança per compartir experiències\, resoldre dubtes i proporcionar informació sobre drets sexuals i reproductius. \n\nObjectius del taller\n✅ Drets sexuals i reproductiusEs debatran aspectes clau sobre els drets sexuals i reproductius per garantir que totes les participants tinguin informació i eines per exercir-los plenament. \n✅ Trencar tabús sobre desig i sexualitatEs fomentarà el diàleg sobre temes sovint invisibilitzats\, creant un espai on les participants puguin compartir inquietuds i experiències. \n✅ Empoderament i presa de decisions informadesEs treballarà l’autoconeixement i l’autoestima\, promovent la capacitat de prendre decisions informades sobre els cossos i la sexualitat. \n\nInscripcions\n📌 Com participar?Per assistir al taller\, cal completar el formulari d’inscripció disponible al següent enllaç:👉 Formulari d’inscripció \n📌 Necessites suport per inscriure’t?☎️ Truca als telèfons 660 47 65 96 o 650 93 19 06. \n\nAquest taller és una oportunitat única per trencar silencis\, parlar obertament de desig i sexualitat\, i reivindicar el dret de totes les persones a viure la seva sexualitat amb plenitud i autonomia. 💜✨ \n📍 Reserva la teva plaça i participa en aquest espai d’aprenentatge i empoderament.
URL:https://ateneucoopbll.cat/acte/taller-no-som-angels-els-nostres-cossos-les-nostres-regles/
LOCATION:Barcelona
END:VEVENT
BEGIN:VEVENT
DTSTART;TZID=Europe/Madrid:20250313T080000
DTEND;TZID=Europe/Madrid:20250313T170000
DTSTAMP:20260424T214648
CREATED:20250313T113559Z
LAST-MODIFIED:20250313T113559Z
UID:5640-1741852800-1741885200@ateneucoopbll.cat
SUMMARY:13a Edició dels Premis d’Acció Social
DESCRIPTION:13a Edició dels Premis d’Acció Social\n📅 Presentació de candidatures oberta fins al 6 d’abril de 2025! \nEls Premis d’Acció Social Maria Figueras i Mercè Bañeras\, impulsats per Plataforma Educativa\, tenen com a objectiu fomentar la innovació social\, l’emprenedoria social i la corresponsabilitat ciutadana. Aquesta iniciativa reconeix projectes i iniciatives que generen impacte positiu en la societat\, promovent solucions creatives i sostenibles als reptes socials actuals. \n\nCategories dels premis\n🏆 Innovació SocialReconeixement a propostes innovadores que aportin solucions a problemàtiques socials emergents amb un enfocament creatiu i transformador. \n🏆 Emprenedoria SocialDistinció a projectes que\, des d’una perspectiva empresarial i sostenible\, generin un impacte social positiu i contribueixin al canvi social. \n🏆 Corresponsabilitat CiutadanaPremi a iniciatives que fomentin la participació activa de la ciutadania en la millora del benestar col·lectiu i el desenvolupament comunitari. \n\nConvocatòria actual\n📅 Termini de presentació de candidatures: Fins al 6 d’abril de 2025.💻 Com presentar la candidatura? Les persones o entitats interessades poden consultar les bases i enviar la seva proposta a través del lloc web oficial. \n\nReconeixements anteriors\nEn edicions anteriors\, els premis han reconegut projectes destacats com:✨ “Donem Vida al Bosc” – guardonat en la categoria d’Emprenedoria Social pel seu impacte mediambiental i social.✨ “Kloosiv Housing SCCL” – premiat en Innovació Social per la seva aposta per models d’habitatge col·laboratiu i sostenible. \nAquests exemples reflecteixen l’esperit transformador dels premis i el seu compromís amb la promoció de projectes que contribueixen a una societat més justa i equitativa. \n\nProcés de participació\n📌 Qui pot participar? \n\nEntitats\, col·lectius i persones individuals amb projectes alineats amb els valors de la innovació social i la corresponsabilitat ciutadana.\nIniciatives empresarials i socials que busquin generar un canvi positiu i sostenible en la societat.\n\n📌 On trobar més informació?👉 Bases dels premis i inscripcions aquí:https://premisacciosocial.plataformaeducativa.org/ \n\n🌍 Forma part del canvi! Aquesta és una oportunitat única per donar visibilitat i impulsar iniciatives socials innovadores que treballen per una societat més equitativa i solidària. Participa-hi! ✨
URL:https://ateneucoopbll.cat/acte/13a-edicio-dels-premis-daccio-social/
LOCATION:Barcelona
END:VEVENT
BEGIN:VEVENT
DTSTART;TZID=Europe/Madrid:20250313T080000
DTEND;TZID=Europe/Madrid:20250313T170000
DTSTAMP:20260424T214648
CREATED:20250313T113618Z
LAST-MODIFIED:20250313T113618Z
UID:5638-1741852800-1741885200@ateneucoopbll.cat
SUMMARY:Aprèn a Créixer
DESCRIPTION:📅 Inscripcions obertes fins al 24 de març!\nLa Federació de Cooperatives de Treball de Catalunya impulsa la setena edició del programa “Aprèn a Créixer”\, una iniciativa dirigida a cooperatives que volen consolidar-se\, créixer i afrontar nous reptes estratègics. \nAquest programa ofereix un acompanyament especialitzat\, espais de reflexió i recursos pràctics per ajudar les cooperatives participants a madurar i redefinir els seus projectes\, promovent així un creixement sostenible i alineat amb els valors del cooperativisme. \n\nQuins són els objectius del programa?\n✅ Enfortir i consolidar les cooperatives mitjançant assessorament especialitzat.✅ Fomentar la reflexió estratègica sobre el creixement\, la maduració i l’adaptació dels projectes cooperatius.✅ Abordar els reptes específics del sector industrial cooperatiu\, promovent la intercooperació. \n\nItineraris disponibles\n🔹 Creixement i consolidació de la cooperativa \n\n📅 Durada: 3 mesos\n👥 Participants: 12 cooperatives en procés de reflexió sobre el seu creixement o reenfocament.\n🎯 Objectiu: Acompanyar les cooperatives en la seva maduració i consolidació mitjançant assessorament expert.\n\n🔹 Reptes del cooperativisme en l’àmbit industrial \n\n🎯 Objectiu: Crear un espai de reflexió col·lectiva per a cooperatives del sector industrial.\n👥 Participants: Entre 10 i 20 cooperatives interessades en afrontar els desafiaments del sector.\n\n\nActivitats destacades\n📌 Sessió de co-disseny per a cooperatives industrials📅 Data: 4 de març⏰ Horari: 15:00 – 17:00 h🎯 Objectiu: Dissenyar col·lectivament solucions als reptes del sector industrial cooperatiu\, compartint experiències i buscant estratègies innovadores. \n\nBeneficis per a les cooperatives participants\n✨ Acompanyament personalitzat amb experts en creixement i consolidació cooperativa.✨ Espais de reflexió i intercanvi amb altres cooperatives\, fomentant sinergies i intercooperació.✨ Eines i recursos per afrontar els reptes del sector industrial i optimitzar el creixement sostenible. \n\nProcés d’inscripció\n📅 Termini d’inscripció: Fins al 24 de març.💻 Com inscriure’s? Ompliu el formulari disponible a la web del programa.📌 Més informació i inscripcions aquí:👉 www.cooperativestreball.coop/acompanyem/aprenacreixer \nAquest programa és una oportunitat única per enfortir la teva cooperativa\, créixer de manera estratègica i adaptar-te als nous reptes del sector! 💡🤝
URL:https://ateneucoopbll.cat/acte/apren-a-creixer/
LOCATION:Barcelona
END:VEVENT
BEGIN:VEVENT
DTSTART;TZID=Europe/Madrid:20250325T100000
DTEND;TZID=Europe/Madrid:20250325T120000
DTSTAMP:20260424T214648
CREATED:20250320T163839Z
LAST-MODIFIED:20250321T124743Z
UID:5672-1742896800-1742904000@ateneucoopbll.cat
SUMMARY:Comissió Ampliada grup Interseccionalitat i Diversitat
DESCRIPTION:  \n\n📅 Comissió Ampliada grup Interseccionalitat i Diversitat!\n\n\n  \nEl 25 de març\, Comissió ampliada del grup Interseccionalitat i Diversitat a la seu de la Federació -a la 1a planta del carrer Premià\, 15 de Barcelona a les 10h. \n10.00h – Benvinguda i presentació del grup \n10.10h – Clarificar la sessió. Què anem a fer i com ho farem? \nMirada d’Interseccionalitat i Diversitat (nou marc)\nVisibilitzem el grup motor\nObrim la mirada avui per reflexionar i prendre certes decisions\, dels objectius i tenint en compte que ja hi ha un pla d’accions 2025 \n10.20h – Dinàmiques  \n11.15h – Treball en grup \n11.40h – Dinàmica del soroll  \n11.50h – Ronda final \nQuins són els qüestions a treballar en aquest programa?\n✅ Com ens imaginem una Federació i unes cooperatives amb més diversitat i menys desigualtats/o més diversitat? \n✅ Quin o quins objectius hauria de tenir aquest grup de treball? \n✅ Com explicar a la resta de cooperatives federades l’objectiu i les funcions\nd’aquest grup de treball? \n📅 Data: 25 de març⏰ Horari: 10:00 – 12:00 h🎯 Format de l’esdeveniment: Presencial \n\n\nProcés d’inscripció\n💻 Com inscriure’s? Ompliu el formulari disponible a la web del programa.📌 Més informació i inscripcions aquí:👉 www.cooperativestreball.coop/acompanyem/aprenacreixer \nAquest programa és una oportunitat única per enfortir la teva cooperativa\, créixer de manera estratègica i adaptar-te als nous reptes del sector!
URL:https://ateneucoopbll.cat/acte/comissio-ampliada-grup-interseccionalitat-i-diversitat/
LOCATION:Barcelona
CATEGORIES:Trobada
ATTACH;FMTTYPE=application/pdf:https://ateneucoopbll.cat/wp-content/uploads/2025/03/1a-trobada-anual-del-Grup-de-Turisme-6.pdf
END:VEVENT
BEGIN:VEVENT
DTSTART;TZID=Europe/Madrid:20250325T100000
DTEND;TZID=Europe/Madrid:20250325T120000
DTSTAMP:20260424T214648
CREATED:20250320T164512Z
LAST-MODIFIED:20250320T164512Z
UID:5679-1742896800-1742904000@ateneucoopbll.cat
SUMMARY:Trobada del Grup de Turisme
DESCRIPTION:📅 1a trobada d’aquest 2025 del Grup de Turisme\n\n\n\nEl 25 de març\, torna el Grup de Turisme amb aquesta primera trobada anual del 2025-a la 1a planta del carrer Premià\, 15 de Barcelona a les 10h. \nOrdre del día en aquest programa:\n\nBenvinguda i presentació del grup\nObjectiu del Grup de Treball de Turisme de l’FCTC\nRol de la Secretària Tècnica\nInformació sobre la durada i el nombre de sessions totals\nResum de l’activitat del grup durant el 2024\nEs convidarà a les participants que es presentin i que comparteixin la seva activitat i la seva vinculació amb el turisme\nExercici DAFO: dinàmica per co identificar els obstacles i els reptes amb què es troben les cooperatives de treball en operar en el marc del sector turístic\nDinàmica participativa amb l’objectiu que les integrants del GdT identifiquin els obstacles i el reptes a l’hora d’oferir el seus serveis o productes\nEsbós del contingut de la propera sessió\nResultats del DAFO\nBrainstorming\nCo definir línies i àmbits del Pla de treball a implementar en les darreres 3 sessions.\n\n\n📅 Data: 25 de març⏰ Horari: 10:00 – 12:00 h🎯 Format de l’esdeveniment: En línia \n\n\nProcés d’inscripció\n💻 Com inscriure’s? Ompliu el formulari disponible a la web del programa.📌 Més informació i inscripcions aquí:👉 www.cooperativestreball.coop/acompanyem/aprenacreixer \nAquest programa és una oportunitat única per enfortir la teva cooperativa\, créixer de manera estratègica i adaptar-te als nous reptes del sector! \n\n\n 
URL:https://ateneucoopbll.cat/acte/trobada-del-grup-de-turisme/
LOCATION:Activitat Virtual
CATEGORIES:Trobada
ATTACH;FMTTYPE=application/pdf:https://ateneucoopbll.cat/wp-content/uploads/2025/03/1a-trobada-anual-del-Grup-de-Turisme.pdf
END:VEVENT
BEGIN:VEVENT
DTSTART;TZID=Europe/Madrid:20250327T080000
DTEND;TZID=Europe/Madrid:20250327T170000
DTSTAMP:20260424T214648
CREATED:20250327T102738Z
LAST-MODIFIED:20250327T102738Z
UID:5917-1743062400-1743094800@ateneucoopbll.cat
SUMMARY:Neix la COPP ͏de͏ Sant Feliu de Llobr͏egat i es presenta en un acte conjunt amb altres iniciatives col·laboratives
DESCRIPTION:Neix la COPP ͏de͏ Sant Feliu de Llobr͏egat i es presenta en un acte conjunt amb altres iniciatives col·laboratives!\nLa COPP (La Coordinadora pel Patrimoni i Paisatge) de Sant Feliu de Llobregat es presenta com a nou referent en la defensa del llegat històric\, cultural i natural de la ciutat. Aquesta iniciativa ciutadana\, impulsada per diverses entitats locals\, sorgeix com a resposta a l’amenaça constant que suposa l’urbanisme sobre el patrimoni local. \n\nQuins són els objectius i compromisos?\n✅ Unir esforços entre persones i entitats que defensen el patrimoni \n✅ Visibilitzar les amenaces que posen en perill els elements patrimonials de la ciutat \n✅ Proposar solucions col·laborant activament amb l’administració per garantir la preservació i promoció del llegat santfeliuenc. \n\nEntitats fundadores\n🔹 👥  Associació 1854\, Amics de la Natura\, Agrupació de Recerca i Estudis de Sant Feliu (ARES)\, Arrels Locals\, Equip d’Estudi de Mines i Altres Camins de l’Aigua\, APEU\, Associació Circuit d’Art\, Ateneu Santfeliuenc\, Comunalitat Urbana de Sant Feliu de Llobregat i MTK Space. \nEntitats que donen suport\n🔹 👥 Associació Cinebaix\, Amics de les Roses i LLOB. \n📌 En aquest marc\, la COPP convida la ciutadania a participar en diverses activitats que tenen com a objectiu la difusió i la protecció del patrimoni. Consulta tota la informació aquí: https://linktr.ee/paisatge.patrimoni \n\nIniciatives col·laboratives\n✨ Dijous 27 de març – Presentació de la COPP i d’APEU \n✨ Diumenge 30 de març – Visita guiada a la Masia de Can Furriol \n✨ Dijous 3 d’abril – Projecció dels documentals de Mines d’Aigua \n✨Dissabte 5 d’abril – Jornada ‘Netegem Collserola’ \n✨Diumenge 6 d’abril – Passejada per les obres @soterrament.efemerides \n  \nLa COPP convida tota la ciutadania a participar activament en aquestes activitats i a unir esforços per protegir i reivindicar el patrimoni històric\, cultural i natural de Sant Feliu de Llobregat. \nEn el següent enllaç trobareu on podeu inscriure-us pels diferents actes i esdeveniments: \nhttps://linktr.ee/paisatge.patrimoni
URL:https://ateneucoopbll.cat/acte/neix-la-copp-%cd%8fde%cd%8f-sant-feliu-de-llobr%cd%8fegat-i-es-presenta-en-un-acte-conjunt-amb-altres-iniciatives-collaboratives/
LOCATION:Ateneu Santfeliuenc\, Carrer Vidal i Ribas\, 25\, 08980 Sant Feliu de Llobregat\, Barcelona\, Sant Feliu de Llobregat\, Barcelona\, 08980\, Spain
CATEGORIES:Acte
ATTACH;FMTTYPE=application/pdf:https://ateneucoopbll.cat/wp-content/uploads/2025/03/1a-trobada-anual-del-Grup-de-Turisme-11.pdf
END:VEVENT
BEGIN:VEVENT
DTSTART;TZID=Europe/Madrid:20250327T120000
DTEND;TZID=Europe/Madrid:20250327T133000
DTSTAMP:20260424T214648
CREATED:20250320T164755Z
LAST-MODIFIED:20250321T125013Z
UID:5683-1743076800-1743082200@ateneucoopbll.cat
SUMMARY:1a trobada anual de Cooperatives d'Arquitectura\, Construcció i Urbanisme!
DESCRIPTION:1a trobada anual de cooperatives d’Arquitectura\, Construcció i Urbanisme\nLa Federació de Cooperatives de Treball de Catalunya impulsa aquesta reunió anual on es construeix el Pla de treball 2025-26 del Grup Arquitectura\, construcció i urbanisme. \nAquest programa convoca a una nova trobada del grup de cooperatives d’Arquitectura\, construcció i urbanisme amb la voluntat de comentar algunes novetats i planificar les properes accions del grup. \nQuins són els objectius del programa?\n\nCompartir on som com a grup:\nConeguem-nos: per acollir a persones i cooperatives noves. Roda de presentacions (si cal…)\nCompartir reptes: dinàmica per identificar reptes que tenim les cooperatives i quins podem abordar de forma col·lectiva.\nDefinir un pla d’acció del grup per als propers 2 anys.\nCalendarització del treball i priorització d’accions\n\nDetalls de l’activitat\n📅 Data: 27 de març⏰ Horari: 12:00 – 13:30 h🎯 Format: En línia\nProcés d’inscripció\n📅 Termini d’inscripció: Fins al 27 de març.💻 Com inscriure’s? Ompliu el formulari disponible a la web del programa.📌 Més informació i inscripcions aquí:👉 www.cooperativestreball.coop/acompanyem/aprenacreixer \nAquest programa és una oportunitat única per enfortir la teva cooperativa\, créixer de manera estratègica i adaptar-te als nous reptes del sector! 💡🤝
URL:https://ateneucoopbll.cat/acte/cooperatives-darquitectura-construccio-i-urbanisme/
LOCATION:Activitat Virtual
CATEGORIES:Trobada
ATTACH;FMTTYPE=application/pdf:https://ateneucoopbll.cat/wp-content/uploads/2025/03/1a-trobada-anual-del-Grup-de-Turisme-1.pdf
END:VEVENT
BEGIN:VEVENT
DTSTART;TZID=Europe/Madrid:20250328T080000
DTEND;TZID=Europe/Madrid:20250328T170000
DTSTAMP:20260424T214648
CREATED:20250404T074527Z
LAST-MODIFIED:20250404T074527Z
UID:5949-1743148800-1743181200@ateneucoopbll.cat
SUMMARY:Com licitar per entitats i organitzacions de l'ESS (Sessió 2)
DESCRIPTION:Com licitar per entitats i organitzacions de l’ESS (Sessió 2)\nEl pròxim 10 i 14 d’abril\, tindran lloc aquestes formacions que s’adrecen a aquelles persones amb responsabilitats a entitats i organitzacions de l’ESS. \nEn constar de 2 sessions\, els continguts es dividiran en: \n\nSessió virtual 1.\nSessió virtual 2.\n\nQuins són els continguts de la sessió 2?\n\nConceptes econòmics de les licitacions\nLes despeses directes\nEl pressupost base de licitacions\nEl valor estimat del contracte\nEls valors anormals\nLa fórmula ponderada del criteri del preu\nCom intercooperar en contractació pública\nLa integració de solvència per mitjans externs\nLes UTE (Unió Temporal d’Empreses)\n\nDetalls de l’activitat\n📅 Data: 14 d’abril⏰ Horari: 10:00 – 14:00 h🎯 Format: En línia\nProcés d’inscripció\n📅 Termini d’inscripció: Fins al 14 d’abril
URL:https://ateneucoopbll.cat/acte/com-licitar-per-entitats-i-organitzacions-de-less-sessio-2/
LOCATION:Barcelona
END:VEVENT
BEGIN:VEVENT
DTSTART;TZID=Europe/Madrid:20250330T103000
DTEND;TZID=Europe/Madrid:20250330T140000
DTSTAMP:20260424T214648
CREATED:20250320T105702Z
LAST-MODIFIED:20250320T105702Z
UID:5688-1743330600-1743343200@ateneucoopbll.cat
SUMMARY:Descoberta del Riu Llobregat
DESCRIPTION:Descobert adel Reiu Llobregat \nCom està la salut del riu Llobregat? Quins impactes afecten el seu ecosistema? Què podem fer per preservar-lo? \nUn taller de descoberta on coneixerem l’estat de salut del riu amb l’acompanyamenr d’un educador/a ambiental. Analitzarem diferents aspectes com el cabal\, la temperatura de l’aigua\, els impactes a les riberes\, i l’observació de fauna i flora. \n📆 Diumenge 30 de març de 2025 \n🕓 Hora: 10:30 h \n📍Lloc: El Prat de Llobregat \n👧🏼👦🏽 A partir de 7 anys – Durada 2 hores \nActivitat gratuïta per a families! Es tracta d’una experiència dinàmica i participativa\, que afavoreix l’esperit crític i el treball en equip. \n🚨Recomanacions per als participants: \n👉🏼 Portar roba còmoda i que es pugui embrutar. \n👉🏼 Calçat adequat per a l’entorn natural\, com botes d’aigua o de muntanya impermeables. \n  \n📩 No t’ho perdis! Inscriu-te aquí i comparteix aquesta experiència amb qui creguis que li pugui interessar.
URL:https://ateneucoopbll.cat/acte/descoberta-del-riu-llobregat/
LOCATION:Barcelona
ATTACH;FMTTYPE=image/jpeg:https://ateneucoopbll.cat/wp-content/uploads/2025/03/ACBLL_10_Descoberta_3003_baners_IG_A-80-2.jpg
END:VEVENT
END:VCALENDAR