BEGIN:VCALENDAR
VERSION:2.0
PRODID:-//Ateneu - ECPv6.15.20//NONSGML v1.0//EN
CALSCALE:GREGORIAN
METHOD:PUBLISH
X-WR-CALNAME:Ateneu
X-ORIGINAL-URL:https://ateneucoopbll.cat
X-WR-CALDESC:Esdeveniments per Ateneu
REFRESH-INTERVAL;VALUE=DURATION:PT1H
X-Robots-Tag:noindex
X-PUBLISHED-TTL:PT1H
BEGIN:VTIMEZONE
TZID:Europe/Madrid
BEGIN:DAYLIGHT
TZOFFSETFROM:+0100
TZOFFSETTO:+0200
TZNAME:CEST
DTSTART:20240331T010000
END:DAYLIGHT
BEGIN:STANDARD
TZOFFSETFROM:+0200
TZOFFSETTO:+0100
TZNAME:CET
DTSTART:20241027T010000
END:STANDARD
BEGIN:DAYLIGHT
TZOFFSETFROM:+0100
TZOFFSETTO:+0200
TZNAME:CEST
DTSTART:20250330T010000
END:DAYLIGHT
BEGIN:STANDARD
TZOFFSETFROM:+0200
TZOFFSETTO:+0100
TZNAME:CET
DTSTART:20251026T010000
END:STANDARD
BEGIN:DAYLIGHT
TZOFFSETFROM:+0100
TZOFFSETTO:+0200
TZNAME:CEST
DTSTART:20260329T010000
END:DAYLIGHT
BEGIN:STANDARD
TZOFFSETFROM:+0200
TZOFFSETTO:+0100
TZNAME:CET
DTSTART:20261025T010000
END:STANDARD
END:VTIMEZONE
BEGIN:VEVENT
DTSTART;TZID=Europe/Madrid:20250130T100000
DTEND;TZID=Europe/Madrid:20250130T123000
DTSTAMP:20260425T012034
CREATED:20250123T074834Z
LAST-MODIFIED:20250123T075731Z
UID:5551-1738231200-1738240200@ateneucoopbll.cat
SUMMARY:Primera Trobada del Consell Estratègic de l'Ateneu Cooperatiu del Baix Llobregat
DESCRIPTION:Us convoquem a la Primera Trobada del Consell Estratègic de l’Ateneu Cooperatiu del Baix Llobregat. \nLa sessió tindrà lloc dijous 30 de gener de 10h a 12:30h a la seu de l’Ateneu\, el Consell Comarcal del Baix Llobregat. \nL’objectiu de la trobada és constituir l’Ateneu formalment mitjançant l’òrgan de debat i decisió amb la participació de les entitats promotores i les entitats participants. \nUs avancem que durant la sessió es tractaran els següents punts: \n\nPresentació de l’ACBLL.\nIntroducció de l’equip tècnic\nAprovació de les línies estratègiques\nPla de treball 2025\nTorn obert de preguntes i debat\n\nEns farà molta il·lusió comptar amb la vostra participació i tornar a iniciar aquest camí conjuntament. \n Inscriu-te.
URL:https://ateneucoopbll.cat/acte/primera-trobada-del-consell-estrategic-de-lateneu-cooperatiu-del-baix-llobregat/
LOCATION:Consell Comarcal Baix Llobregat\, Parc Torreblanca N-340 pk 1249\, San Feliu de Llobregat\, Barcelona\, 08980\, España
CATEGORIES:Trobada
ATTACH;FMTTYPE=image/png:https://ateneucoopbll.cat/wp-content/uploads/2025/01/03_ATENEU_2427_PrimeraTrobada_baners_WEB.png
ORGANIZER;CN="Ateneu Cooperatiu del Baix Llobregat":MAILTO:ateneucooperatiu@elbaixllobregat.cat
END:VEVENT
END:VCALENDAR