BEGIN:VCALENDAR
VERSION:2.0
PRODID:-//Ateneu - ECPv6.15.20//NONSGML v1.0//EN
CALSCALE:GREGORIAN
METHOD:PUBLISH
X-WR-CALNAME:Ateneu
X-ORIGINAL-URL:https://ateneucoopbll.cat
X-WR-CALDESC:Esdeveniments per Ateneu
REFRESH-INTERVAL;VALUE=DURATION:PT1H
X-Robots-Tag:noindex
X-PUBLISHED-TTL:PT1H
BEGIN:VTIMEZONE
TZID:Europe/Madrid
BEGIN:DAYLIGHT
TZOFFSETFROM:+0100
TZOFFSETTO:+0200
TZNAME:CEST
DTSTART:20230326T010000
END:DAYLIGHT
BEGIN:STANDARD
TZOFFSETFROM:+0200
TZOFFSETTO:+0100
TZNAME:CET
DTSTART:20231029T010000
END:STANDARD
BEGIN:DAYLIGHT
TZOFFSETFROM:+0100
TZOFFSETTO:+0200
TZNAME:CEST
DTSTART:20240331T010000
END:DAYLIGHT
BEGIN:STANDARD
TZOFFSETFROM:+0200
TZOFFSETTO:+0100
TZNAME:CET
DTSTART:20241027T010000
END:STANDARD
BEGIN:DAYLIGHT
TZOFFSETFROM:+0100
TZOFFSETTO:+0200
TZNAME:CEST
DTSTART:20250330T010000
END:DAYLIGHT
BEGIN:STANDARD
TZOFFSETFROM:+0200
TZOFFSETTO:+0100
TZNAME:CET
DTSTART:20251026T010000
END:STANDARD
END:VTIMEZONE
BEGIN:VEVENT
DTSTART;TZID=Europe/Madrid:20240409T100000
DTEND;TZID=Europe/Madrid:20240409T110000
DTSTAMP:20260425T161826
CREATED:20240321T112557Z
LAST-MODIFIED:20240321T115014Z
UID:4565-1712656800-1712660400@ateneucoopbll.cat
SUMMARY:Formació FP Dual: contractació d'estudiants en les entitats de l'ESS
DESCRIPTION:Formacions co-organitzades per la Xarxa d’Ateneus Cooperatius \nContinguts \n\n\n\n\nCaracterístiques i requisits per a la contractació d’estudiants.\n\n\nDiferències entre FP i FP Dual.\n\n\nTipologies de contractes.\n\n\nResolució de dubtes.\n\n\n\n\nA càrrec d’Eva Férriz Murillo\, Tècnica de prospecció de la Unitat FCT – FP Dual del Departament d’Educació de la Generalitat de Catalunya. \n\nDirigit especialment a les entitats agrupades del nostre Ateneu i de la comarca del Baix Llobregat.\nUna vegada feta la inscripció\, si us plau\, es prega enviar correu de confirmació a ateneucooperatiubaixllobregat@gmail.com i es facilitarà l’enllaç de connexió per a la sessió virtual.\n\n\n\n\nInscripcions.
URL:https://ateneucoopbll.cat/acte/formacions-co-organitzades-per-la-xarxa-dateneus-cooperatius/
LOCATION:En línia
CATEGORIES:Formacions
ATTACH;FMTTYPE=image/jpeg:https://ateneucoopbll.cat/wp-content/uploads/2024/03/66_FPDual_ACBLl23_24_bnr_bnr_WEB.jpg
ORGANIZER;CN="Ateneu Cooperatiu del Baix Llobregat":MAILTO:ateneucooperatiu@elbaixllobregat.cat
END:VEVENT
BEGIN:VEVENT
DTSTART;TZID=Europe/Madrid:20240425T093000
DTEND;TZID=Europe/Madrid:20240425T123000
DTSTAMP:20260425T161826
CREATED:20240222T092150Z
LAST-MODIFIED:20240305T095510Z
UID:4447-1714037400-1714048200@ateneucoopbll.cat
SUMMARY:Social Day Challenge 2024 (2a Edició)
DESCRIPTION:L’entitat Innobaix del Cercle 4: Innovació i Indústria organitza\, amb col·laboració de l’Ateneu Cooperatiu del Baix Llobregat\, organitza el Social Day Challenge (2a edició)\, un esdeveniment per reflexionar sobre diversos reptes socials\, ambientals i econòmics del territori. \nUs convidem a participar d’aquest esdeveniment on us explicarem reptes que hem identificat a la nostra comarca i dels que podeu participar proposant i creant solucions intercooperant amb altres organitzacions com la vostra. \nL’objectiu principal de la jornada és crear sinergies entre cooperatives i organitzacions i empreses\, que permetin generar projectes que solucionin els problemes i reptes. \nLa jornada està adreçada a tot tipus d’entitats amb ganes de fomentar l’intercooperació\, compartir coneixement i generar potencials projectes conjunts. \nÉs per això que hem creat un formulari molt breu amb el qual ens ajudarem a definir accions que ajudin a l’enfortiment actual i futur de les vostres organitzacions i projectes. Les accions resultants les treballarem al Social Day Challenge! Teniu temps de respondre el formulari fins el 4 de març. \nPerò l’esdeveniment no acaba aquí! \nUs donarem suport amb mentories individualitzades amb les quals poder desenvolupar el vostre projecte d’intercooperació si així ho demaneu. \n\nInscripcions.
URL:https://ateneucoopbll.cat/acte/social-day-challenge-2024/
LOCATION:Citilab\, Plaça Can Suris s/n\, Cornellà\, España
CATEGORIES:Trobada,Xerrada
ATTACH;FMTTYPE=image/png:https://ateneucoopbll.cat/wp-content/uploads/2024/02/Disseny-sense-titol-2.png
ORGANIZER;CN="Ateneu Cooperatiu del Baix Llobregat":MAILTO:ateneucooperatiu@elbaixllobregat.cat
END:VEVENT
BEGIN:VEVENT
DTSTART;TZID=Europe/Madrid:20240429T180000
DTEND;TZID=Europe/Madrid:20240429T190000
DTSTAMP:20260425T161826
CREATED:20240425T092517Z
LAST-MODIFIED:20240429T134911Z
UID:4949-1714413600-1714417200@ateneucoopbll.cat
SUMMARY:Presentació de la Comunalitat urbana de Cornellà Jacaranda
DESCRIPTION:La Fundació La Bastida presentarà la Comunalitat urbana de Cornellà Jacaranda a la setmana cultural de l’AAVV de Sant Ildefons. A la presentació\, parlarem sobre els objectius de la Comunalitat\, els eixos d’actuació i les entitats que hi treballem. \nMés informació a comunalitat@fundaciolabastida.org
URL:https://ateneucoopbll.cat/acte/presentacio-de-la-comunalitat-urbana-de-cornella-jacaranda/
LOCATION:Espai de l’AAVV de Sant Ildefons\, Avinguda De Sant Ildefons\, 24\, Cornellà de Llobregat
CATEGORIES:MaigCoop2024,Presentació
ORGANIZER;CN="AAVV Sant Ildefons":MAILTO:aavv.almeda@gmail.com
END:VEVENT
BEGIN:VEVENT
DTSTART;TZID=Europe/Madrid:20240430T190000
DTEND;TZID=Europe/Madrid:20240430T203000
DTSTAMP:20260425T161826
CREATED:20240423T103739Z
LAST-MODIFIED:20240429T135111Z
UID:4760-1714503600-1714509000@ateneucoopbll.cat
SUMMARY:Presentació del llibre "Passar a l'ofensiva. Crisi Ecosocial i programa polític"
DESCRIPTION:En Josep Manel Busqueta\, autor de Passar a l’ofensiva. Crisi Ecosocial i programa polític\, presentarà el seu llibre a la seu de la Fundació La Bastida. Posteriorment\, debatrem sobre la crisi ecosocioal actual i com fer-li front des de l’ESS i els moviments socials.
URL:https://ateneucoopbll.cat/acte/presentacio-del-llibre-passar-a-lofensiva-crisi-ecosocial-i-programa-politic/
LOCATION:Fundació La Bastida\, C/ Fivaller 7\, Baixos\, Cornellà de Llobregat
CATEGORIES:MaigCoop2024,Presentació
ORGANIZER;CN="Fundaci%C3%B3 La Bastida":MAILTO:info@fundaciolabastida.org
END:VEVENT
END:VCALENDAR