BEGIN:VCALENDAR
VERSION:2.0
PRODID:-//Ateneu - ECPv6.15.20//NONSGML v1.0//EN
CALSCALE:GREGORIAN
METHOD:PUBLISH
X-WR-CALNAME:Ateneu
X-ORIGINAL-URL:https://ateneucoopbll.cat
X-WR-CALDESC:Esdeveniments per Ateneu
REFRESH-INTERVAL;VALUE=DURATION:PT1H
X-Robots-Tag:noindex
X-PUBLISHED-TTL:PT1H
BEGIN:VTIMEZONE
TZID:Europe/Madrid
BEGIN:DAYLIGHT
TZOFFSETFROM:+0100
TZOFFSETTO:+0200
TZNAME:CEST
DTSTART:20230326T010000
END:DAYLIGHT
BEGIN:STANDARD
TZOFFSETFROM:+0200
TZOFFSETTO:+0100
TZNAME:CET
DTSTART:20231029T010000
END:STANDARD
BEGIN:DAYLIGHT
TZOFFSETFROM:+0100
TZOFFSETTO:+0200
TZNAME:CEST
DTSTART:20240331T010000
END:DAYLIGHT
BEGIN:STANDARD
TZOFFSETFROM:+0200
TZOFFSETTO:+0100
TZNAME:CET
DTSTART:20241027T010000
END:STANDARD
BEGIN:DAYLIGHT
TZOFFSETFROM:+0100
TZOFFSETTO:+0200
TZNAME:CEST
DTSTART:20250330T010000
END:DAYLIGHT
BEGIN:STANDARD
TZOFFSETFROM:+0200
TZOFFSETTO:+0100
TZNAME:CET
DTSTART:20251026T010000
END:STANDARD
END:VTIMEZONE
BEGIN:VEVENT
DTSTART;TZID=Europe/Madrid:20240306T150000
DTEND;TZID=Europe/Madrid:20240306T180000
DTSTAMP:20260425T175101
CREATED:20240117T104019Z
LAST-MODIFIED:20240220T123713Z
UID:4176-1709737200-1709748000@ateneucoopbll.cat
SUMMARY:Itinerari formatiu “Aquí assessorem l’Economia Social”: Sessió 3 - Règim econòmic i comptable
DESCRIPTION:DESCRIPCIÓ \n\nObligacions econòmiques i comptables: comptes anuals\, memòria\, llibres\nPla General Comptable de cooperatives\nCapital social Fons propis vs passiu (consideració de les aportacions)\nFons de reserva i FEPC: usos i destins\n\nA càrrec de Facto SCCL. \nInscripcions.  
URL:https://ateneucoopbll.cat/acte/sessio-3-regim-economic-i-comptable/
LOCATION:En línia
ATTACH;FMTTYPE=image/png:https://ateneucoopbll.cat/wp-content/uploads/2024/01/ATENEU_12_XAC_baners_WEB_ZtbuKlJ.png
ORGANIZER;CN="Facto":MAILTO:info@facto.cat
END:VEVENT
BEGIN:VEVENT
DTSTART;TZID=Europe/Madrid:20240311T120000
DTEND;TZID=Europe/Madrid:20240311T120000
DTSTAMP:20260425T175101
CREATED:20240306T143011Z
LAST-MODIFIED:20240306T143011Z
UID:4527-1710158400-1710158400@ateneucoopbll.cat
SUMMARY:Arquitectura de proximitat: secció al programa de ràdio Planeta Prat al 91.6 FM
DESCRIPTION:Una secció sobre arquitectura per tothom\, per parlar de temes que poden interessar a la gent que no té relació amb l’arquitectura\, sobre tot entorn a l’habitatge. \nLa Rachola SCCL participa al programa Planeta Prat de El Prat Ràdio. Es tracta de píndoles informatives de entre 20 i 25 min conduïdes per la Isa Gonzalo. \n11 de març de 2024\, 12:00 h. \nLloc: El Prat Ràdio\, programa Planeta Prat\, al 91.6 FM i www.elprat.digital/radio/ \nDESCRIPCIÓ\nLa sostenibilitat està molt de moda\, però entenem que el significat d’aquesta paraula s’ha prostituït i sovint s’utilitza buit de contingut únicament per donar un rentat de cara utilitzada com adjectiu de qualsevol aspecte com per exemple: economia sostenible\, agricultura sostenible\, turisme sostenible\, habitatge sostenible\, etc. \nEn aquest programa desenvolupem qué vol dir fer arquitectura sostenible i com han de ser les ciutats sostenibles. \nInscripcions.
URL:https://ateneucoopbll.cat/acte/arquitectura-de-proximitat-seccio-al-programa-de-radio-planeta-prat-al-91-6-fm/
LOCATION:El Prat Ràdio\, Carrer Dr. Soler i Torrens\, 3\, 08820 El Prat de Llobregat\, Barcelona\, Barcelona\, Barcelona\, 08820\, Espanya
ATTACH;FMTTYPE=image/jpeg:https://ateneucoopbll.cat/wp-content/uploads/2024/03/ACBLl_65_ArqProximitat_1103_baners_WEB.jpg
END:VEVENT
BEGIN:VEVENT
DTSTART;TZID=Europe/Madrid:20240311T180000
DTEND;TZID=Europe/Madrid:20240311T200000
DTSTAMP:20260425T175101
CREATED:20240131T164222Z
LAST-MODIFIED:20240131T164604Z
UID:4245-1710180000-1710187200@ateneucoopbll.cat
SUMMARY:Taller participatiu: joc de rol sobre rehabilitació de façanes i cobertes a una comunitat de veïns
DESCRIPTION:OBJECTIUS \nDonar a conèixer els tipus de rehabilitació energètica i com posar les bases per porta-ho a terme tenint en compte els diferents interessos entre les persones que comparteixen una finca. \nMATERIAL \n\nFitxes de cada rol pels participants\nIdentificacions per a cada participant\nRegles i taula d’esdeveniments aleatoris\n\n Inscripcions. \n 
URL:https://ateneucoopbll.cat/acte/taller-participatiu-joc-de-rol-sobre-rehabilitacio-de-facanes-i-cobertes-a-una-comunitat-de-veins-2/
LOCATION:Uikú Coworking\, Carrer Primer de Maig\, 16\, 08820 El Prat de Llobregat\, Barcelona\, Prat de Llobregat\, El Prat de Llobregat\, 08820\, Espanya
CATEGORIES:Taller
ATTACH;FMTTYPE=image/jpeg:https://ateneucoopbll.cat/wp-content/uploads/2024/01/ACBLl_62_TALLERREHABRol_baners_WEB.jpg
END:VEVENT
BEGIN:VEVENT
DTSTART;TZID=Europe/Madrid:20240313T120000
DTEND;TZID=Europe/Madrid:20240313T140000
DTSTAMP:20260425T175101
CREATED:20240221T092847Z
LAST-MODIFIED:20240221T144334Z
UID:4415-1710331200-1710338400@ateneucoopbll.cat
SUMMARY:Formació “Com presentar el meu projecte a la convocatòria “Singulars 24” - Sessió 1
DESCRIPTION:DESCRIPCIÓ \nFormació-taller-grup de treball intercooperatiu amb l’objectiu de capacitar les entitats que vulguin presentar un projecte a la Convocatòria dels “Projectes Singulars 2024” (segons Ordre de Bases EMT/167/2021) mitjançant continguts útils i pràctics que permetin entendre l’abast del treball a realitzar\, la informació que cal recopilar i formular i la idoneïtat dels projectes a presentar\, així com omplir correctament tota la documentació relacionada i realitzar la tramitació. \nEl curs consta de 3 sessions durant l’etapa de formulació de projecte amb una durada mínima de 2 hores cadascuna. AmbTu proposa que almenys una de les sessions tingui una durada de 3 hores\, amb l’objectiu d’incorporar dinàmiques pràctiques que facilitin la comprensió dels continguts teòrics amb casos reals de les entitats participants. El curs incorpora una 4a sessió a la tardor per ajudar les entitats en la gestió de la justificació de la seva subvenció. \n13 de març de 12h-14h. Sessió 1: Introducció a la convocatòria. Puc presentar el meu projecte a Singulars? Comencem a planificar. Principals aspectes del meu projecte Singular (part1). \nDocent:  Rebeca Segura Alonso\, AmbTu. \nPreu: gratuït. \nInscripcions.  \n 
URL:https://ateneucoopbll.cat/acte/formacio-com-presentar-el-meu-projecte-a-la-convocatoria-singulars-24/
LOCATION:Centre de Promocio Economica del Prat\, Carrer de les Moreres 48\, El Prat de Llobregat\, Barcelona\, 08820\, España
CATEGORIES:Sessió,Taller
ATTACH;FMTTYPE=image/jpeg:https://ateneucoopbll.cat/wp-content/uploads/2024/02/63_Formacions_bnrs_bnr_WEB.jpg
ORGANIZER;CN="Ateneu Cooperatiu del Baix Llobregat":MAILTO:ateneucooperatiu@elbaixllobregat.cat
END:VEVENT
BEGIN:VEVENT
DTSTART;TZID=Europe/Madrid:20240313T150000
DTEND;TZID=Europe/Madrid:20240313T180000
DTSTAMP:20260425T175101
CREATED:20240117T104944Z
LAST-MODIFIED:20240220T123532Z
UID:4179-1710342000-1710352800@ateneucoopbll.cat
SUMMARY:Itinerari formatiu “Aquí assessorem l’Economia Social”: Sessió 4 - Règim fiscal
DESCRIPTION:DESCRIPCIÓ \n\nRègim fiscal de cooperatives: llei 20/1990\nCooperatives protegides i especialment protegides\nPèrdua de la protecció fiscal\nBeneficis fiscals de les cooperatives\nRegles de valoració de les operacions cooperativitzades\nImpost de societats\nResultat cooperatiu i extra-cooperatiu\nAplicació del resultat econòmic\n\nA càrrec de Facto SCCL. \nInscripcions.   
URL:https://ateneucoopbll.cat/acte/sessio-4-regim-fiscal/
LOCATION:En línia
CATEGORIES:Sessió
ATTACH;FMTTYPE=image/jpeg:https://ateneucoopbll.cat/wp-content/uploads/2024/01/WEB-baners-sg24.jpg
END:VEVENT
BEGIN:VEVENT
DTSTART;TZID=Europe/Madrid:20240314T110000
DTEND;TZID=Europe/Madrid:20240314T140000
DTSTAMP:20260425T175101
CREATED:20240221T094212Z
LAST-MODIFIED:20240221T144314Z
UID:4421-1710414000-1710424800@ateneucoopbll.cat
SUMMARY:Formació “Com presentar el meu projecte a la convocatòria “Singulars 24” - Sessió 2
DESCRIPTION:DESCRIPCIÓ \nCapacitar les entitats que vulguin presentar un projecte a la Convocatòria dels “Projectes Singulars 2024” (segons Ordre de Bases EMT/167/2021) mitjançant continguts útils i pràctics que permetin entendre l’abast del treball a realitzar\, la informació que cal recopilar i formular i la idoneïtat dels projectes a presentar\, així com omplir correctament tota la documentació relacionada i realitzar la tramitació. \nEl curs consta de 3 sessions durant l’etapa de formulació de projecte amb una durada mínima de 2 hores cadascuna. AmbTu proposa que almenys una de les sessions tingui una durada de 3 hores\, amb l’objectiu d’incorporar dinàmiques pràctiques que facilitin la comprensió dels continguts teòrics amb casos reals de les entitats participants. El curs incorpora una 4a sessió a la tardor per ajudar les entitats en la gestió de la justificació de la seva subvenció. \n14 de març de 11h-14h. Sessió 2: Planifiquem i formulem el projecte. Comencem a planificar. Principals aspectes deu meu projecte Singular (part2). \nDocent:  Rebeca Segura Alonso\, AmbTu \nLloc: Centre de Promoció Econòmica \nPreu: gratuït \nInscripcions. 
URL:https://ateneucoopbll.cat/acte/formacio-com-presentar-el-meu-projecte-a-la-convocatoria-singulars-24-2/
LOCATION:Centre Cívic Palmira Domènech\, Lo Gaiter del Llobregat 0112\, El Prat de Llobregat\, Barcelona\, 08820\, España
CATEGORIES:Sessió,Taller
ATTACH;FMTTYPE=image/jpeg:https://ateneucoopbll.cat/wp-content/uploads/2024/02/63_Formacions_bnrs_bnr_WEB-1.jpg
ORGANIZER;CN="Ateneu Cooperatiu del Baix Llobregat":MAILTO:ateneucooperatiu@elbaixllobregat.cat
END:VEVENT
BEGIN:VEVENT
DTSTART;TZID=Europe/Madrid:20240315T100000
DTEND;TZID=Europe/Madrid:20240315T140000
DTSTAMP:20260425T175101
CREATED:20240305T093849Z
LAST-MODIFIED:20240305T094120Z
UID:4495-1710496800-1710511200@ateneucoopbll.cat
SUMMARY:1a Trobada XAC -XMESS
DESCRIPTION:La XAC (Xarxa d’Ateneus Cooperatius) i la XMESS (Xarxa de Municipis per l’Economia Social i Solidària) organitzen la seva primera trobada conjunta sota el lema Treball compartit per l’impuls local i territorial de l’Economia Social i Solidària. (Inscripcions tancades).\n\n\n  \nLa jornada que tindrà lloc el pròxim divendres 15 de març\, de 10 a 14h\, al Castell de Penyafort*\, de Santa Margarida i els Monjos\, es desenvoluparà amb el següent programa: \n\n 9:30  // Rebuda i cafè**\n10:00 // Benvinguda institucional\, a càrrec de n’Imma Ferret\, Alcaldessa de Santa Margarida i els Monjos\, en Juli Silvestre\, Director General d’ESSTSC i en Toni Vidal\, President de la XMESS.\n10:30 // Presentació de la XAC i la XMESS\, a càrrec de representants d’ambdues xarxes.\n10:45 // Taula d’Habitatge Cooperatiu en cessió d’ús\, amb les experiències de La Bastida a Vilafranca del Penedès i La Raval a Manresa.\n11:35 // Taula de Cures\, amb les experiències de Montornès del Vallès\, i la Cooperativa Les Abelles a Reus.\n12:25 // Taula de Mobilitat Sostenible\, amb les experiències locals de Som Mobilitat i Som Ecologística.\n13:15 // Plenària de conclusions.\n14:00 // Cloenda.\n\n* El Castell de Penyafort compta amb zona d’aparcament gratuït. \n** Hi haurà un petit piscolabis durant la jornada.
URL:https://ateneucoopbll.cat/acte/1a-trobada-xac-xmess/
LOCATION:Castell de Penyafort\, Santa Margarida i Els Monjos\, s/n\, 08730 Els Monjos\, Barcelona\, Barcelona\, 08730\, Espanya
CATEGORIES:Jornada,Trobada,Xerrada
ATTACH;FMTTYPE=image/png:https://ateneucoopbll.cat/wp-content/uploads/2024/03/Disseny-sense-titol-1-1.png
ORGANIZER;CN="XMESS":MAILTO:info@xmess.cat
END:VEVENT
BEGIN:VEVENT
DTSTART;TZID=Europe/Madrid:20240320T100000
DTEND;TZID=Europe/Madrid:20240320T180000
DTSTAMP:20260425T175101
CREATED:20240306T141338Z
LAST-MODIFIED:20240306T141615Z
UID:4519-1710928800-1710957600@ateneucoopbll.cat
SUMMARY:Assemblea de la XAC - Xarxa d'Ateneus Cooperatius de Catalunya
DESCRIPTION:Trobada dels tècnics de tots els Ateneus de Catalunya. \nPrevista l’assistència de més de 100 tècnics dels Ateneus Cooperatius. \nLloc de l’Assemblea:  Ecocentre Les Obagues a Juneda (projecte cooperatiu\, ecocentre i espai rural a Lleida). \nData: 20/03/2024 \nEscaleta de la jornada: \n\n10:00h  Convocatòria – Arribada\n10:30h  Benvinguda XAC + Obagues + DG\n11:15h    Dinàmica de coneixença\n11:45h   Cafè amb racons temàtics (Xacató) amb els reptes i debats que s’han recollit\n14:30h  Dinar\n16:30h  Presentació catàleg intercoop + MengemPonent\n17:00h   Activitat teatral\n18:00h  Tancament\n\nInscripcions tancades.
URL:https://ateneucoopbll.cat/acte/assemblea-de-la-xac-xarxa-dateneus-cooperatius-de-catalunya/
LOCATION:Ecocentre Les Obaques a Juneda\, Ecocentre Les obagues\, 25430 a Juneda\, Lleida Juneda\, 25430\, Llerida\, Lleida\, Lleida\, 25430
ATTACH;FMTTYPE=image/png:https://ateneucoopbll.cat/wp-content/uploads/2024/03/Assemblea-de-la-XAC-Xarxa-dAteneus-Cooperatius-de-Catalunya.png
END:VEVENT
BEGIN:VEVENT
DTSTART;TZID=Europe/Madrid:20240320T120000
DTEND;TZID=Europe/Madrid:20240320T140000
DTSTAMP:20260425T175101
CREATED:20240221T094509Z
LAST-MODIFIED:20240221T144251Z
UID:4423-1710936000-1710943200@ateneucoopbll.cat
SUMMARY:Formació “Com presentar el meu projecte a la convocatòria “Singulars 24” - Sessió 3
DESCRIPTION:DESCRIPCIÓ \nCapacitar les entitats que vulguin presentar un projecte a la Convocatòria dels “Projectes Singulars 2024” (segons Ordre de Bases EMT/167/2021) mitjançant continguts útils i pràctics que permetin entendre l’abast del treball a realitzar\, la informació que cal recopilar i formular i la idoneïtat dels projectes a presentar\, així com omplir correctament tota la documentació relacionada i realitzar la tramitació. \nEl curs consta de 3 sessions durant l’etapa de formulació de projecte amb una durada mínima de 2 hores cadascuna. AmbTu proposa que almenys una de les sessions tingui una durada de 3 hores\, amb l’objectiu d’incorporar dinàmiques pràctiques que facilitin la comprensió dels continguts teòrics amb casos reals de les entitats participants. El curs incorpora una 4a sessió a la tardor per ajudar les entitats en la gestió de la justificació de la seva subvenció. \n20 de març de 12h-14h. Sessió 3: Enllestim la formulació i presentem el projecte. Elaboració dels documents a entregar. L’espera…fins a la resolució (part 3). \nDocent:  Rebeca Segura Alonso\, AmbTu \nLloc: Centre de Promoció Econòmica \nPreu: gratuït \nInscripcions. 
URL:https://ateneucoopbll.cat/acte/formacio-com-presentar-el-meu-projecte-a-la-convocatoria-singulars-24-3/
LOCATION:Centre de Promoció Econòmica del Prat de Llobregat.\, C. Moreres 48\, 08820\, El Prat De Llobregat (Barcelona)\, El Prat de Llobregat\, Barcelona\, 08820
CATEGORIES:Sessió,Taller
ATTACH;FMTTYPE=image/jpeg:https://ateneucoopbll.cat/wp-content/uploads/2024/02/63_Formacions_bnrs_bnr_WEB-2.jpg
ORGANIZER;CN="Ateneu Cooperatiu del Baix Llobregat":MAILTO:ateneucooperatiu@elbaixllobregat.cat
END:VEVENT
BEGIN:VEVENT
DTSTART;TZID=Europe/Madrid:20240320T150000
DTEND;TZID=Europe/Madrid:20240320T180000
DTSTAMP:20260425T175101
CREATED:20240117T105842Z
LAST-MODIFIED:20240220T123346Z
UID:4185-1710946800-1710957600@ateneucoopbll.cat
SUMMARY:Itinerari formatiu “Aquí assessorem l’Economia Social”: Sessió 5 - Finançament i recursos econòmics
DESCRIPTION:DESCRIPCIÓ \n\nTipus de finançament\nFinances ètiques i pròpies de l’ESS\nDetecció de les necessitats financeres de les cooperatives\nInstruments financers de l’ESS\n\nA càrrec de Facto SCCL. \nInscripcions.   
URL:https://ateneucoopbll.cat/acte/sessio-5-financament-i-recursos-economics/
LOCATION:En línia
CATEGORIES:Sessió
ATTACH;FMTTYPE=image/jpeg:https://ateneucoopbll.cat/wp-content/uploads/2024/01/WEB-baners-sg24.jpg
END:VEVENT
END:VCALENDAR