BEGIN:VCALENDAR
VERSION:2.0
PRODID:-//Ateneu - ECPv6.15.20//NONSGML v1.0//EN
CALSCALE:GREGORIAN
METHOD:PUBLISH
X-WR-CALNAME:Ateneu
X-ORIGINAL-URL:https://ateneucoopbll.cat
X-WR-CALDESC:Esdeveniments per Ateneu
REFRESH-INTERVAL;VALUE=DURATION:PT1H
X-Robots-Tag:noindex
X-PUBLISHED-TTL:PT1H
BEGIN:VTIMEZONE
TZID:UTC
BEGIN:STANDARD
TZOFFSETFROM:+0000
TZOFFSETTO:+0000
TZNAME:UTC
DTSTART:20220101T000000
END:STANDARD
END:VTIMEZONE
BEGIN:VTIMEZONE
TZID:Europe/Madrid
BEGIN:DAYLIGHT
TZOFFSETFROM:+0100
TZOFFSETTO:+0200
TZNAME:CEST
DTSTART:20220327T010000
END:DAYLIGHT
BEGIN:STANDARD
TZOFFSETFROM:+0200
TZOFFSETTO:+0100
TZNAME:CET
DTSTART:20221030T010000
END:STANDARD
BEGIN:DAYLIGHT
TZOFFSETFROM:+0100
TZOFFSETTO:+0200
TZNAME:CEST
DTSTART:20230326T010000
END:DAYLIGHT
BEGIN:STANDARD
TZOFFSETFROM:+0200
TZOFFSETTO:+0100
TZNAME:CET
DTSTART:20231029T010000
END:STANDARD
BEGIN:DAYLIGHT
TZOFFSETFROM:+0100
TZOFFSETTO:+0200
TZNAME:CEST
DTSTART:20240331T010000
END:DAYLIGHT
BEGIN:STANDARD
TZOFFSETFROM:+0200
TZOFFSETTO:+0100
TZNAME:CET
DTSTART:20241027T010000
END:STANDARD
END:VTIMEZONE
BEGIN:VEVENT
DTSTART;TZID=UTC:20231114T100000
DTEND;TZID=UTC:20231114T100000
DTSTAMP:20260426T002142
CREATED:20230927T080001Z
LAST-MODIFIED:20231125T081115Z
UID:3007-1699956000-1699956000@ateneucoopbll.cat
SUMMARY:Joves\, adolescents i benestar en entorns laborals de l’Economia Social i Cooperativa
DESCRIPTION:DESCRIPCIÓ:\n\n\nAdreçada a treballadors/usuaris que formin part d’empreses d’economia social i cooperativa. \nDues sessions\, 7 i 14 de novembre de 2023 de 10:00 a 13:00\, aula 4 Centre de Promoció Econòmica del Prat de Llobregat. \nOBJECTIUS: \n\nComprendre que vivim i treballem en un entorn VICA: volàtil\, incert\, complex i ambigu i quines implicacions té això en el nostre benestar.\nAprendre els conceptes d’equilibri\, balanç\, diversitat\, benestar i malestar en l’etapa jove i aprendre què són i com dissoldre l’estigma i l’autoestigma.\nAprendre com funciona el sistema nerviós d’una persona jove i/o adolescent i quines tècniques hi ha per a facilitar-ne la regulació de manera sencilla i efectiva.\nAprendre a cultivar competències comunicatives assertives\, empàtiques i compassives en entorns laborals amb persones joves.\n\nCONTINGUTS: \n\nQuè implica dir tenir un sistema nerviós humà quan som joves i/o adolescents? Humans reals i humans sintètics en un entorn VICA.\nQuè és el benestar emocional en la joventut i l’adolescència\, quins components conté i com es cultiva.\nCom em relaciono amb una persona jove amb diagnòstic en salut mental? Diversitats\, estigma i autoestigma.\nPer a què treballar? Entorns laborals saludables per a joves i propòsit de vida.\nBalanç i Equilibri en el cultiu del benestar. Malestars i escolta acollidora.\nCom em relaciono de manera positiva amb una persona amb malestars? Diversitats mentals\, estigma i autoestigma.\nPer a què treballem? Entorns laborals saludables i sentit de vida.\n\nInscripcions.
URL:https://ateneucoopbll.cat/acte/joves-adolescents-i-benestar-en-entorns-laborals-de-leconomia-social-i-cooperativa/
LOCATION:Centre de Promoció Econòmica del Prat de Llobregat.\, C. Moreres 48\, 08820\, El Prat De Llobregat (Barcelona)\, El Prat de Llobregat\, Barcelona\, 08820
ATTACH;FMTTYPE=image/jpeg:https://ateneucoopbll.cat/wp-content/uploads/2023/10/ATENEU_56_02_FormacionsPrat_WEB.jpg
END:VEVENT
BEGIN:VEVENT
DTSTART;TZID=Europe/Madrid:20231118T110000
DTEND;TZID=Europe/Madrid:20231118T130000
DTSTAMP:20260426T002142
CREATED:20231117T084356Z
LAST-MODIFIED:20231125T081115Z
UID:3705-1700305200-1700312400@ateneucoopbll.cat
SUMMARY:60è aniversari primer bloc d'habitatges: fem habitatge cooperatiu\, fem barri.
DESCRIPTION:El Cercle d’Habitatge de l’Ateneu Cooperatiu del Baix Llobregat us convida a participar als actes de celebració del 60è aniversari del inici del primer projecte d’habitatge cooperatiu de Cooperativa Obrera de Viviendas (COV). \nLa COV és una de les cooperatives d’habitatges amb major trajectòria de Catalunya\, amb més de 60 anys d’història. Es va fundar als anys 60 del segle XX per donar resposta des de l’organització social i cooperativa a les necessitats d’habitatge de les persones que arribaven al Prat procedents d’altres parts d’Espanya a la recerca de feina en les zones industrials a l’entorn de Barcelona. \nEl 7 d’abril de 1963 es va celebrar la cerimònia de col·locació de la primera pedra de l’edifici Joan XXIII i el 4 d’octubre de 2023 la COV va posar la primera pedra del nou projecte de Cooperativa\, els 101 habitatges de lloguer assequible\, estable i cooperatiu a l’avinguda Onze de Setembre. \nPer celebrar aquest aniversari s’ha dissenyat un programa obert que inclou diverses activitats: \nA-Taula rodona ‘60 anys fent barri’: un espai de diàleg per comentar la trajectòria i l’impacte social i econòmic de la cooperativa al Prat de Llobregat en els darrers 60 anys. \nB-Activitats infantils i socials: Entitats del barri properes a la COV organitzen activitats d’entreteniment i formació per a infància i joventut. \nC-L´acte es tancarà amb una actuació musical en directe i un aperitiu per celebrar l´aniversari de la primera pedra. \nInscripcions.
URL:https://ateneucoopbll.cat/acte/60e-aniversari-primer-bloc-dhabitatges-fem-habitatge-cooperatiu-fem-barri/
LOCATION:Cooperativa Obrera de Viviendas\, Plaça de Roigé i Badia\, Prat de Llobregat
CATEGORIES:Jornada,Trobada
ATTACH;FMTTYPE=image/jpeg:https://ateneucoopbll.cat/wp-content/uploads/2023/11/ATENEU_59_HAB_60ANIVCOV_baners_WEB.jpeg
ORGANIZER;CN="Cooperativa Obrera de Viviendas":MAILTO:cov@cov.coop
END:VEVENT
BEGIN:VEVENT
DTSTART;TZID=UTC:20231123T093000
DTEND;TZID=UTC:20231123T140000
DTSTAMP:20260426T002142
CREATED:20230928T040209Z
LAST-MODIFIED:20231125T081115Z
UID:3008-1700731800-1700748000@ateneucoopbll.cat
SUMMARY:Jornada de formació sobre contractació pública
DESCRIPTION:DESCRIPCIÓ\nJornada de formació sobre contratació pública per a les entitats d’economia social. Informació als assistents sobre què és una licitació\, tipus de licitació\, quines son les fases d’una licitació\, com presentar-se\, que cal complir i com es formalitza un contracte. \nCONTINGUTS: \n\nLlei de contractes del sector públic Descripció del contingut de la llei i conceptes que s’han de tenir en compte.\nFases d’una licitació Detall de les fases d’una licitació des de que s’elabora l’expedient fins a que es formalitza el contracte.\nRequisits previs que cal complir per poder llicitar Explicació de que s’ha de complir per a poder-se presentar a una licitació.\nDades clau a analitzar a presentar Descripció de les parts més importants que s’han d’analitzar dels plecs\, tant administratiu com tècnic.\nPreparació de la plica a presentar Idees claus per a la presentació de la plica\nDocuments de classificació empresarial Què és i com s’obté\nSeguiment del procés de licitació Paute per fer el seguiment del procés de licitació\nFormalització del contracte Com es formalitza el contracte.\n\nInscripcions.
URL:https://ateneucoopbll.cat/acte/jornada-de-formacio-sobre-contractacio-publica/
LOCATION:Centre de Promoció Econòmica del Prat de Llobregat Aula 4\, Carrer de les Moreres 0048\, Barcelona\, El Prat de Llobregat\, 08820\, España
CATEGORIES:Sessió
ATTACH;FMTTYPE=image/jpeg:https://ateneucoopbll.cat/wp-content/uploads/2023/10/ATENEU_56_03_FormacionsPrat_WEB.jpg
END:VEVENT
BEGIN:VEVENT
DTSTART;TZID=UTC:20231128T103000
DTEND;TZID=UTC:20231128T130000
DTSTAMP:20260426T002142
CREATED:20230928T041504Z
LAST-MODIFIED:20231125T081115Z
UID:3009-1701167400-1701176400@ateneucoopbll.cat
SUMMARY:Com cuidar i cuidar-nos per a treballar amb benestar en entorns laborals de l'Economia Social i Cooperativa
DESCRIPTION:DESCRIPCIÓ: \nAdreçada a treballadors/usuaris que formin part d’empreses d’economia social i cooperativa. \n4 sessions\, 28 de novembre i 12 de desembre de 2023\, 9 i 23 de gener de 2024 de 10:30 a 13:00\, Aula 4 Centre de Promoció Econòmica del Prat de Llobregat \nOBJECTIUS: \n\nComprendre que vivim i treballem en un entorn VICA: volàtil\, incert\, complex i ambigu i quines implicacions té això en el nostre benestar.\nConèixer la diferència entre equilibri i balanç en benestar emocional i quines tècniques hi ha per a regular-lo de manera sencilla i efectiva per a recuperar i mantenir el benestar emocional.\nSaber què son l’estigma i l’autoestigma i com ajudar-nos a dissoldre’ls.\nAprendre a cultivar competències comunicatives assertives\, empàtiques i compassives en entorns laborals i amb persones amb diversitat mental.\n\nCONTINGUTS: \n\nQuè vol dir tenir un sistema nerviós humà? Humans reals i humans sintètics en un entorn VICA.\nQuè és el benestar emocional i quins components conté. Balanç i Equilibri en el cultiu del benestar.\nCultiu del benestar aplicat a les entitats de la economia social i solidària. Com facilitar i enfortir la resiliència davant les diversitats mentals\, l’estigma i l’autoestigma.\nPer a què treballem? Entorns laborals saludables i sentit de vida.\n\nInscripcions. 
URL:https://ateneucoopbll.cat/acte/com-cuidar-i-cuidar-nos-per-a-treballar-amb-benestar-en-entorns-laborals-de-leconomia-social-i-cooperativa/
LOCATION:Centre de Promoció Econòmica del Prat de Llobregat.\, C. Moreres 48\, 08820\, El Prat De Llobregat (Barcelona)\, El Prat de Llobregat\, Barcelona\, 08820
CATEGORIES:Sessió
ATTACH;FMTTYPE=image/jpeg:https://ateneucoopbll.cat/wp-content/uploads/2023/10/ATENEU_56_04_FormacionsPrat_WEB.jpg
ORGANIZER;CN="Ateneu Cooperatiu del Baix Llobregat":MAILTO:ateneucooperatiu@elbaixllobregat.cat
END:VEVENT
END:VCALENDAR