BEGIN:VCALENDAR
VERSION:2.0
PRODID:-//Ateneu - ECPv6.15.20//NONSGML v1.0//EN
CALSCALE:GREGORIAN
METHOD:PUBLISH
X-WR-CALNAME:Ateneu
X-ORIGINAL-URL:https://ateneucoopbll.cat
X-WR-CALDESC:Esdeveniments per Ateneu
REFRESH-INTERVAL;VALUE=DURATION:PT1H
X-Robots-Tag:noindex
X-PUBLISHED-TTL:PT1H
BEGIN:VTIMEZONE
TZID:UTC
BEGIN:STANDARD
TZOFFSETFROM:+0000
TZOFFSETTO:+0000
TZNAME:UTC
DTSTART:20220101T000000
END:STANDARD
END:VTIMEZONE
BEGIN:VTIMEZONE
TZID:Europe/Madrid
BEGIN:DAYLIGHT
TZOFFSETFROM:+0100
TZOFFSETTO:+0200
TZNAME:CEST
DTSTART:20220327T010000
END:DAYLIGHT
BEGIN:STANDARD
TZOFFSETFROM:+0200
TZOFFSETTO:+0100
TZNAME:CET
DTSTART:20221030T010000
END:STANDARD
BEGIN:DAYLIGHT
TZOFFSETFROM:+0100
TZOFFSETTO:+0200
TZNAME:CEST
DTSTART:20230326T010000
END:DAYLIGHT
BEGIN:STANDARD
TZOFFSETFROM:+0200
TZOFFSETTO:+0100
TZNAME:CET
DTSTART:20231029T010000
END:STANDARD
BEGIN:DAYLIGHT
TZOFFSETFROM:+0100
TZOFFSETTO:+0200
TZNAME:CEST
DTSTART:20240331T010000
END:DAYLIGHT
BEGIN:STANDARD
TZOFFSETFROM:+0200
TZOFFSETTO:+0100
TZNAME:CET
DTSTART:20241027T010000
END:STANDARD
END:VTIMEZONE
BEGIN:VEVENT
DTSTART;TZID=UTC:20231016T093000
DTEND;TZID=UTC:20231016T223000
DTSTAMP:20260426T015936
CREATED:20231003T102004Z
LAST-MODIFIED:20231125T081207Z
UID:3011-1697448600-1697495400@ateneucoopbll.cat
SUMMARY:CISI S'Cool - Sessió: A qui comunico? Quin és el meu public objectiu? Estudi del client i fórmules de veure com arribar a les xarxes.
DESCRIPTION:DESCRIPCIÓ\nA qui comunico? Quin és el meu públic objectiu? Estudi del client i fórmules de veure com arribar a les xarxes. \nSessió d’una hora de durada amb els conceptes més rellevants d’aquesta temàtica. \nInscripcions. \n 
URL:https://ateneucoopbll.cat/acte/a-qui-comunico-quin-es-el-meu-public-objectiu-estudi-del-client-i-formules-de-veure-com-arribar-a-les-xarxes/
LOCATION:En línia
CATEGORIES:Sessió
ATTACH;FMTTYPE=image/jpeg:https://ateneucoopbll.cat/wp-content/uploads/2023/10/Inicio-2-1.jpg
ORGANIZER;CN="Ateneu Cooperatiu del Baix Llobregat":MAILTO:ateneucooperatiu@elbaixllobregat.cat
END:VEVENT
BEGIN:VEVENT
DTSTART;TZID=UTC:20231016T103000
DTEND;TZID=UTC:20231016T113000
DTSTAMP:20260426T015936
CREATED:20231003T102524Z
LAST-MODIFIED:20231125T081207Z
UID:3012-1697452200-1697455800@ateneucoopbll.cat
SUMMARY:CISI S'Cool - Sessió: en solitari també és ESS\, les claus del RETA
DESCRIPTION:DESCRIPCIÓ\nEmprendre en solitari també és ESS: Les claus del RETA \nSessió d’una hora de durada amb els conceptes més rellevants d’aquesta temàtica. \nInscripcions.
URL:https://ateneucoopbll.cat/acte/emprendre-en-solitari-tambe-es-ess-les-claus-del-reta/
LOCATION:En línia
CATEGORIES:Sessió
ATTACH;FMTTYPE=image/jpeg:https://ateneucoopbll.cat/wp-content/uploads/2023/10/Inicio-2-1.jpg
ORGANIZER;CN="Ateneu Cooperatiu del Baix Llobregat":MAILTO:ateneucooperatiu@elbaixllobregat.cat
END:VEVENT
BEGIN:VEVENT
DTSTART;TZID=UTC:20231016T113000
DTEND;TZID=UTC:20231016T123000
DTSTAMP:20260426T015936
CREATED:20231003T104116Z
LAST-MODIFIED:20231125T081207Z
UID:3013-1697455800-1697459400@ateneucoopbll.cat
SUMMARY:CISI S'Cool - sessió: meu producte o servei està realment solucionant una necessitat o problema? Claus per aconseguir-lo
DESCRIPTION:DESCRIPCIÓ\nEl meu producte o servei està realment solucionant una necessitat o problema? Claus per aconseguir-lo \nSessió d’una hora de durada amb els conceptes més rellevants d’aquesta temàtica. \nInscripcions.
URL:https://ateneucoopbll.cat/acte/cisi-scool-sessio-meu-producte-o-servei-esta-realment-solucionant-una-necessitat-o-problema-claus-per-aconseguir-lo/
LOCATION:En línia
CATEGORIES:Sessió
ATTACH;FMTTYPE=image/jpeg:https://ateneucoopbll.cat/wp-content/uploads/2023/10/Inicio-2-1.jpg
ORGANIZER;CN="Ateneu Cooperatiu del Baix Llobregat":MAILTO:ateneucooperatiu@elbaixllobregat.cat
END:VEVENT
BEGIN:VEVENT
DTSTART;TZID=UTC:20231017T050000
DTEND;TZID=UTC:20231017T190000
DTSTAMP:20260426T015936
CREATED:20230922T121157Z
LAST-MODIFIED:20231125T081116Z
UID:3005-1697518800-1697569200@ateneucoopbll.cat
SUMMARY:Jornada de Bones Pràctiques d'emprenedoria d'economia social\, cooperativa i solidària
DESCRIPTION:Jornada online per conèixer experiències d’èxit en el món de l’emprenedoria social\, per aprendre un dels altres\, amb format de participació oberta. Enguany\, la jornada està dedicada a projectes creats i impulsats per joves emprenedors. En aquesta jornada Rubén Bagüés\, de la cooperativa pratenca Heres Social\, entrevistarà sis persones de cinc empreses diferents: \n\nMagda Cebrián\, CMO & Cofounder de Go Zero Waste – Startup d’impacte que desenvolupa productes i serveis per facilitar i acompanyar a persones\, empreses i ajuntaments en el seu camí cap al residu zero.\nAlbert Marsà\, Co-founder de MTK Space – Espai per a tirar endavant el teu projecte audiovisual o cultural\, on podràs entrar i sortir quan el necessitis\, sense limitacions d’horaris\, en el qual podràs sentir-te lliure per a crear les teves produccions i sense pressions de cap mena per a portar a bon port els teus treballs audiovisuals.\nCristina Gómez i Ane Cabello Ruiz\, Co-founders de Jump the line – Dissenya processos de participació comunitària per transformar espais comuns\, utilitzant l’art i l’esport com a eines principals.\nGloria Gubianas Blanes\, CEO and Co-founder\, de Hemper – Projecte que va més enllà de la sostenibilitat\, replantejant registres i fórmules obsoletes per construir una alternativa autentica i actual. Regenerar és teixir noves connexions; és utilitzar fibres i teixits que tornen a la terra més del que demanen; és crear aliances basades en el respecte i l’equitat.\nDiego Soliveres Rodríguez\, CCO de Timpers – Empresa on l’objectiu és naturalitzar\, visibilitzar i millorar les condicions laborals i socials de les persones amb discapacitat en tots els àmbits de la vida.\n\nInscripcions.
URL:https://ateneucoopbll.cat/acte/jornada-de-bones-practiques-demprenedoria-deconomia-social-cooperativa-i-solidaria/
LOCATION:En línia
CATEGORIES:Jornada
ATTACH;FMTTYPE=image/jpeg:https://ateneucoopbll.cat/wp-content/uploads/2023/10/ATENEU_55_BonesPractiques_WEB.jpg
ORGANIZER;CN="Ateneu Cooperatiu del Baix Llobregat":MAILTO:ateneucooperatiu@elbaixllobregat.cat
END:VEVENT
BEGIN:VEVENT
DTSTART;TZID=UTC:20231017T093000
DTEND;TZID=UTC:20231017T103000
DTSTAMP:20260426T015936
CREATED:20231003T105208Z
LAST-MODIFIED:20231125T081116Z
UID:3015-1697535000-1697538600@ateneucoopbll.cat
SUMMARY:CISI S’Cool – Sessió: anàlisi de la competència. Què fa la resta a xarxes? Veure exemples i casos d'èxit.
DESCRIPTION:DESCRIPCIÓ\nAnàlisi de la competència. Què fa la resta a xarxes? Veure exemples i casos d’èxit. \nSessió d’una hora de durada amb els conceptes més rellevants d’aquesta temàtica. \nInscripcions.
URL:https://ateneucoopbll.cat/acte/cisi-scool-sessio-analisi-de-la-competencia-que-fa-la-resta-a-xarxes-veure-exemples-i-casos-dexit/
LOCATION:En línia
CATEGORIES:Sessió
ATTACH;FMTTYPE=image/jpeg:https://ateneucoopbll.cat/wp-content/uploads/2023/10/Inicio-2-1.jpg
END:VEVENT
BEGIN:VEVENT
DTSTART;TZID=UTC:20231017T103000
DTEND;TZID=UTC:20231017T113000
DTSTAMP:20260426T015936
CREATED:20231003T105513Z
LAST-MODIFIED:20231125T081116Z
UID:3016-1697538600-1697542200@ateneucoopbll.cat
SUMMARY:CISI S’Cool – Sessió: el teu projecte té una comunitat al voltant\, però\, saps com gestionar-la? Coneix la metodologia Community Canvas
DESCRIPTION:DESCRIPCIÓ\nEl teu projecte té una comunitat al voltant\, però\, saps com gestionar-la? Coneix la metodologia Community Canvas \nSessió d’una hora de durada amb els conceptes més rellevants d’aquesta temàtica. \nInscripcions.
URL:https://ateneucoopbll.cat/acte/cisi-scool-sessio-el-teu-projecte-te-una-comunitat-al-voltant-pero-saps-com-gestionar-la-coneix-la-metodologia-community-canvas/
LOCATION:Barcelona
CATEGORIES:Sessió
ATTACH;FMTTYPE=image/jpeg:https://ateneucoopbll.cat/wp-content/uploads/2023/10/Inicio-2-1.jpg
END:VEVENT
BEGIN:VEVENT
DTSTART;TZID=UTC:20231017T113000
DTEND;TZID=UTC:20231017T123000
DTSTAMP:20260426T015936
CREATED:20231003T104809Z
LAST-MODIFIED:20231125T081116Z
UID:3014-1697542200-1697545800@ateneucoopbll.cat
SUMMARY:CISI S’Cool – Sessió: trenquem motlles\, fes-te Sòcia!
DESCRIPTION:DESCRIPCIÓ\nTrenquem motlles\, fes-te Sòcia! \nSessió d’una hora de durada amb els conceptes més rellevants d’aquesta temàtica. \nInscripcions.
URL:https://ateneucoopbll.cat/acte/cisi-scool-sessio-trenquem-motlles-fes-te-socia/
LOCATION:En línia
CATEGORIES:Sessió
ATTACH;FMTTYPE=image/jpeg:https://ateneucoopbll.cat/wp-content/uploads/2023/10/Inicio-2-1.jpg
ORGANIZER;CN="Ateneu Cooperatiu del Baix Llobregat":MAILTO:ateneucooperatiu@elbaixllobregat.cat
END:VEVENT
BEGIN:VEVENT
DTSTART;TZID=UTC:20231018T103000
DTEND;TZID=UTC:20231018T113000
DTSTAMP:20260426T015936
CREATED:20231003T111810Z
LAST-MODIFIED:20231125T081116Z
UID:3017-1697625000-1697628600@ateneucoopbll.cat
SUMMARY:CISI S’Cool – Sessió: com ens hem de relacionar amb l'administració\, la signatura digital
DESCRIPTION:DESCRIPCIÓ\nCom ens hem de relacionar amb l’administració: La signatura digital \nSessió d’una hora de durada amb els conceptes més rellevants d’aquesta temàtica. \nInscripcions. \n 
URL:https://ateneucoopbll.cat/acte/cisi-scool-sessio-com-ens-hem-de-relacionar-amb-ladministracio-la-signatura-digital/
LOCATION:En línia
CATEGORIES:Sessió
ATTACH;FMTTYPE=image/jpeg:https://ateneucoopbll.cat/wp-content/uploads/2023/10/Inicio-2-1.jpg
ORGANIZER;CN="Ateneu Cooperatiu del Baix Llobregat":MAILTO:ateneucooperatiu@elbaixllobregat.cat
END:VEVENT
BEGIN:VEVENT
DTSTART;TZID=UTC:20231018T113000
DTEND;TZID=UTC:20231018T123000
DTSTAMP:20260426T015936
CREATED:20231003T112152Z
LAST-MODIFIED:20231125T081116Z
UID:3018-1697628600-1697632200@ateneucoopbll.cat
SUMMARY:CISI S’Cool – Sessió: aprenem a fer un bon DAFO i entendre per què és important
DESCRIPTION:DESCRIPCIÓ\nAprenem a fer un bon DAFO i entendre per què és important \nSessió d’una hora de durada amb els conceptes més rellevants d’aquesta temàtica. \n\nInscripcions.
URL:https://ateneucoopbll.cat/acte/cisi-scool-sessio-aprenem-a-fer-un-bon-dafo-i-entendre-per-que-es-important/
LOCATION:En línia
CATEGORIES:Sessió
ATTACH;FMTTYPE=image/jpeg:https://ateneucoopbll.cat/wp-content/uploads/2023/10/Inicio-2-1.jpg
ORGANIZER;CN="Ateneu Cooperatiu del Baix Llobregat":MAILTO:ateneucooperatiu@elbaixllobregat.cat
END:VEVENT
BEGIN:VEVENT
DTSTART;TZID=UTC:20231018T113000
DTEND;TZID=UTC:20231018T123000
DTSTAMP:20260426T015936
CREATED:20231003T113016Z
LAST-MODIFIED:20231125T081116Z
UID:3019-1697628600-1697632200@ateneucoopbll.cat
SUMMARY:CISI S’Cool – sessió: eines de comunicació\, el llenguatge com eina de comunicació transformadora
DESCRIPTION:DESCRIPCIÓ\nEines de comunicació: El llenguatge com eina de comunicació transformadora \nSessió d’una hora de durada amb els conceptes més rellevants d’aquesta temàtica. \nInscripcions.
URL:https://ateneucoopbll.cat/acte/cisi-scool-sessio-eines-de-comunicacio-el-llenguatge-com-eina-de-comunicacio-transformadora/
LOCATION:En línia
CATEGORIES:Sessió
ATTACH;FMTTYPE=image/jpeg:https://ateneucoopbll.cat/wp-content/uploads/2023/10/Inicio-2-1.jpg
ORGANIZER;CN="Ateneu Cooperatiu del Baix Llobregat":MAILTO:ateneucooperatiu@elbaixllobregat.cat
END:VEVENT
BEGIN:VEVENT
DTSTART;TZID=UTC:20231019T100000
DTEND;TZID=UTC:20231019T120000
DTSTAMP:20260426T015936
CREATED:20230928T044957Z
LAST-MODIFIED:20231125T081115Z
UID:3010-1697709600-1697716800@ateneucoopbll.cat
SUMMARY:III Taula Territorial (2022/2023)
DESCRIPTION:Jornada de presentació del Catàleg d’Entitats de l’Economia Social del Baix Llobregat i sessió d’enxarxament i mercat social. \nConèixer els productes i serveis que ofereixen les iniciatives de l’Economia Social de la comarca amb l’objectiu de facilitar\, agilitzar i simplificar la compra i el consum de proximitat\, així com la contractació pública local socialment responsable\, per fomentar el desenvolupament de models de consum més conscients i crítics i així contribuir a millorar la vida de les persones\, enfortir el mercat social i afavorir la construcció de municipis més sostenibles. \n10h Presentació del Catàleg d’entitats de l’Economia Social i Solidària del Baix Llobregat. \n10:30h Sessió d’enxarxament i mercat social. \nEspai per donar a conèixer i intercanviar els serveis i els productes de les nostres entitats i millorar\, cuidar i ampliar les connexions laborals\, contactes\, proveïdors i clients. \n12h Cloenda. \nInscripcions.
URL:https://ateneucoopbll.cat/acte/iii-taula-territorial-2022-2023/
LOCATION:Consell Comarcal Baix Llobregat\, Parc Torreblanca N-340 pk 1249\, San Feliu de Llobregat\, Barcelona\, 08980\, España
CATEGORIES:Jornada
ATTACH;FMTTYPE=image/jpeg:https://ateneucoopbll.cat/wp-content/uploads/2023/10/ATENEU_51_IIITaulaTerritorial_baners_WEB.jpeg
END:VEVENT
BEGIN:VEVENT
DTSTART;TZID=UTC:20231020T093000
DTEND;TZID=UTC:20231020T103000
DTSTAMP:20260426T015936
CREATED:20231003T114924Z
LAST-MODIFIED:20231125T081115Z
UID:3024-1697794200-1697797800@ateneucoopbll.cat
SUMMARY:CISI S’Cool – sessió: com puc saber si la meva entitat té impacte i funciona? Com aprendre a mesurar l'impacte de la teva entitat
DESCRIPTION:DESCRIPCIÓ\nCom puc saber si la meva entitat té impacte i funciona? Com aprendre a mesurar l’impacte de la teva entitat. \nSessió d’una hora de durada amb els conceptes més rellevants d’aquesta temàtica. \nInscripcions.
URL:https://ateneucoopbll.cat/acte/cisi-scool-sessio-com-puc-saber-si-la-meva-entitat-te-impacte-i-funciona-com-aprendre-a-mesurar-limpacte-de-la-teva-entitat/
LOCATION:En línia
CATEGORIES:Sessió
ATTACH;FMTTYPE=image/jpeg:https://ateneucoopbll.cat/wp-content/uploads/2023/10/Inicio-2-1.jpg
ORGANIZER;CN="Ateneu Cooperatiu del Baix Llobregat":MAILTO:ateneucooperatiu@elbaixllobregat.cat
END:VEVENT
BEGIN:VEVENT
DTSTART;TZID=UTC:20231020T100000
DTEND;TZID=UTC:20231020T130000
DTSTAMP:20260426T015936
CREATED:20230926T040707Z
LAST-MODIFIED:20231125T081115Z
UID:3006-1697796000-1697806800@ateneucoopbll.cat
SUMMARY:Taller Formació "Habilitats Socials" Treball en equip\, comunicació i gestió de conflictes
DESCRIPTION:OBJECTIUS: \n\n\n\n\n    Identificar\, adquirir o millorar les pròpies competències en el treball en equip.\n    Conèixer les característiques de la comunicació efectiva.\n    Conèixer els diferents tipus de comunicació.\n    Millorar la nostra capacitat de comunicar.\n    Ser més efectius alhora d’expressar-nos.\n    Reconèixer les dimensions i l’impacte dels conflictes en les organitzacions. Diferència entre conflicte i problema.\n    Comprendre el conflicte\, saber diagnosticar i prescriure intervencions coherents.\n    Aprendre a afrontar els conflictes amb efectivitat\, abordant-los en el moment oportú\, reconeixent\n    i gestionant les emocions implicades.\n\nCONTINGUTS: \n1.- Treball en equip \n\n    Definició d’un equip de treball\n    Del grup a l’equip\n    Estils de treball en equip\n\n2.- Comunicació eficaç \n\n    Què és comunicar?\n    Comunicació no verbal\n    Comunicació verbal\n    La preparació per la comunicació\n    Les claus d’una bona persona comunicadora\n\n3.-La gestió del conflicte \n\n    Concepte i definició de conflicte\n    Conflictes intrapersonals i conflictes interpersonals\n    La confiança com a eix del clima organitzatiu\n\nAdreçada a treballadors/usuaris que formin part d’empreses d’economia social i cooperativa. \nDues sessions\, 20 i 27 d’octubre de 2023 de 10:00 a 13:00. \nInscripcions.
URL:https://ateneucoopbll.cat/acte/taller-formacio-habilitats-socials-treball-en-equip-comunicacio-i-gestio-de-conflictes-2/
LOCATION:Centre de Promoció Econòmica del Prat de Llobregat.\, C. Moreres 48\, 08820\, El Prat De Llobregat (Barcelona)\, El Prat de Llobregat\, Barcelona\, 08820
CATEGORIES:Sessió
ATTACH;FMTTYPE=image/jpeg:https://ateneucoopbll.cat/wp-content/uploads/2023/10/ATENEU_56_01_FormacionsPrat_WEB-1.jpg
END:VEVENT
BEGIN:VEVENT
DTSTART;TZID=UTC:20231020T103000
DTEND;TZID=UTC:20231020T233000
DTSTAMP:20260426T015936
CREATED:20231003T115506Z
LAST-MODIFIED:20231125T081115Z
UID:3025-1697797800-1697844600@ateneucoopbll.cat
SUMMARY:CISI S’Cool – Sessió: com t'ajuda la PRL a millorar les relacions entre les persones a l'àmbit laboral
DESCRIPTION:DESCRIPCIÓ\nCom t’ajuda la PRL a millorar les relacions entre les persones a l’àmbit laboral \nSessió d’una hora de durada amb els conceptes més rellevants d’aquesta temàtica. \nInscripcions.
URL:https://ateneucoopbll.cat/acte/cisi-scool-sessio-com-tajuda-la-prl-a-millorar-les-relacions-entre-les-persones-a-lambit-laboral/
LOCATION:En línia
ATTACH;FMTTYPE=image/jpeg:https://ateneucoopbll.cat/wp-content/uploads/2023/10/Inicio-2-1.jpg
ORGANIZER;CN="Ateneu Cooperatiu del Baix Llobregat":MAILTO:ateneucooperatiu@elbaixllobregat.cat
END:VEVENT
BEGIN:VEVENT
DTSTART;TZID=UTC:20231020T113000
DTEND;TZID=UTC:20231020T123000
DTSTAMP:20260426T015936
CREATED:20231003T114619Z
LAST-MODIFIED:20231125T081115Z
UID:3023-1697801400-1697805000@ateneucoopbll.cat
SUMMARY:CISI S’Cool – Sessió: potser no serem Caravaggio\, però ho intentarem! Primers passos en eines per a l’autocreació de continguts
DESCRIPTION:DESCRIPCIÓ\nPotser no serem Caravaggio\, però ho intentarem! Primers passos en eines per a l’autocreació de continguts \nSessió d’una hora de durada amb els conceptes més rellevants d’aquesta temàtica. \nInscripcions.
URL:https://ateneucoopbll.cat/acte/cisi-scool-sessio-potser-no-serem-caravaggio-pero-ho-intentarem-primers-passos-en-eines-per-a-lautocreacio-de-continguts/
LOCATION:En línia
CATEGORIES:Sessió
ATTACH;FMTTYPE=image/jpeg:https://ateneucoopbll.cat/wp-content/uploads/2023/10/Inicio-2-1.jpg
ORGANIZER;CN="Ateneu Cooperatiu del Baix Llobregat":MAILTO:ateneucooperatiu@elbaixllobregat.cat
END:VEVENT
BEGIN:VEVENT
DTSTART;TZID=UTC:20231025T093000
DTEND;TZID=UTC:20231025T103000
DTSTAMP:20260426T015936
CREATED:20231003T113326Z
LAST-MODIFIED:20231125T081115Z
UID:3020-1698226200-1698229800@ateneucoopbll.cat
SUMMARY:CISI S’Cool – Sessió: posa ordre\, les obligacions documentals a l'entitat
DESCRIPTION:DESCRIPCIÓ\nPosa ordre: Les obligacions documentals a l’entitat \nSessió d’una hora de durada amb els conceptes més rellevants d’aquesta temàtica. \nInscripcions.
URL:https://ateneucoopbll.cat/acte/cisi-scool-sessio-posa-ordre-les-obligacions-documentals-a-lentitat/
LOCATION:En línia
CATEGORIES:Sessió
ATTACH;FMTTYPE=image/jpeg:https://ateneucoopbll.cat/wp-content/uploads/2023/10/Inicio-2-1.jpg
ORGANIZER;CN="Ateneu Cooperatiu del Baix Llobregat":MAILTO:ateneucooperatiu@elbaixllobregat.cat
END:VEVENT
BEGIN:VEVENT
DTSTART;TZID=UTC:20231025T103000
DTEND;TZID=UTC:20231025T233000
DTSTAMP:20260426T015936
CREATED:20231003T114001Z
LAST-MODIFIED:20231125T081115Z
UID:3021-1698229800-1698276600@ateneucoopbll.cat
SUMMARY:CISI S’Cool – sessió: xarxes socials\, formats\, eines i anuncis
DESCRIPTION:DESCRIPCIÓ\nXarxes socials: formats\, eines i anuncis \nSessió d’una hora de durada amb els conceptes més rellevants d’aquesta temàtica. \nInscripcions.
URL:https://ateneucoopbll.cat/acte/cisi-scool-sessio-xarxes-socials-formats-eines-i-anuncis/
LOCATION:En línia
CATEGORIES:Sessió
ATTACH;FMTTYPE=image/jpeg:https://ateneucoopbll.cat/wp-content/uploads/2023/10/Inicio-2-1.jpg
ORGANIZER;CN="Ateneu Cooperatiu del Baix Llobregat":MAILTO:ateneucooperatiu@elbaixllobregat.cat
END:VEVENT
BEGIN:VEVENT
DTSTART;TZID=UTC:20231025T113000
DTEND;TZID=UTC:20231025T123000
DTSTAMP:20260426T015936
CREATED:20231003T114244Z
LAST-MODIFIED:20231125T081115Z
UID:3022-1698233400-1698237000@ateneucoopbll.cat
SUMMARY:CISI S’Cool – sessió: finançament alternatiu\, què és i com aplicar-lo al meu projecte o organització.
DESCRIPTION:DESCRIPCIÓ\nFinançament alternatiu\, què és i com aplicar-lo al meu projecte o organització. \nSessió d’una hora de durada amb els conceptes més rellevants d’aquesta temàtica. \nInscripcions.
URL:https://ateneucoopbll.cat/acte/cisi-scool-sessio-financament-alternatiu-que-es-i-com-aplicar-lo-al-meu-projecte-o-organitzacio/
LOCATION:En línia
CATEGORIES:Sessió
ATTACH;FMTTYPE=image/jpeg:https://ateneucoopbll.cat/wp-content/uploads/2023/10/Inicio-2-1.jpg
ORGANIZER;CN="Ateneu Cooperatiu del Baix Llobregat":MAILTO:ateneucooperatiu@elbaixllobregat.cat
END:VEVENT
BEGIN:VEVENT
DTSTART;TZID=Europe/Madrid:20231030T183000
DTEND;TZID=Europe/Madrid:20231030T183000
DTSTAMP:20260426T015936
CREATED:20231020T102639Z
LAST-MODIFIED:20231125T081115Z
UID:3549-1698690600-1698690600@ateneucoopbll.cat
SUMMARY:ENS CONEIXEM PER UN HABITATGE COOPERATIU
DESCRIPTION:Si estàs interessat en una cooperativa d’habitatge i vols crear una i no saps com\, ens coneixerem el dia 30 a les 18.30h per veure sinergies. \nInscripcions. \nT’animes? registrat en l’enquesta. \n 
URL:https://ateneucoopbll.cat/acte/ens-coneixem-per-un-habitatge-cooperatiu-2/
LOCATION:Barcelona
CATEGORIES:Trobada
ATTACH;FMTTYPE=image/jpeg:https://ateneucoopbll.cat/wp-content/uploads/2023/10/ATENEU_45_CERCLEHABITATGE_baners_WEB231030.jpg
END:VEVENT
END:VCALENDAR