BEGIN:VCALENDAR
VERSION:2.0
PRODID:-//Ateneu - ECPv6.15.20//NONSGML v1.0//EN
CALSCALE:GREGORIAN
METHOD:PUBLISH
X-WR-CALNAME:Ateneu
X-ORIGINAL-URL:https://ateneucoopbll.cat
X-WR-CALDESC:Esdeveniments per Ateneu
REFRESH-INTERVAL;VALUE=DURATION:PT1H
X-Robots-Tag:noindex
X-PUBLISHED-TTL:PT1H
BEGIN:VTIMEZONE
TZID:UTC
BEGIN:STANDARD
TZOFFSETFROM:+0000
TZOFFSETTO:+0000
TZNAME:UTC
DTSTART:20220101T000000
END:STANDARD
END:VTIMEZONE
BEGIN:VEVENT
DTSTART;TZID=UTC:20230918T173000
DTEND;TZID=UTC:20230918T190000
DTSTAMP:20260426T033221
CREATED:20230829T064046Z
LAST-MODIFIED:20231125T081207Z
UID:3002-1695058200-1695063600@ateneucoopbll.cat
SUMMARY:Taller participatiu: joc de rol sobre rehabilitació de façanes i cobertes a una comunitat de veïns
DESCRIPTION:Taller participatiu: presencial\nOBJECTIUS \nDonar a conèixer els tipus de rehabilitació energètica i com posar les bases per porta-ho a terme tenint en compte els diferents interessos entre les persones que comparteixen una finca \nMATERIAL \n\nFitxes de cada rol pels participants\nIdentificacions per a cada participant\nRegles i taula d’esdeveniments aleatoris.\n\nData: 18 de setembre de 2023 \nHorari: de 17:30 a 19:00 \nLloc: COV\, Cooperativa Obrera de Viviendas \nIncripcions.
URL:https://ateneucoopbll.cat/acte/taller-participatiu-joc-de-rol-sobre-rehabilitacio-de-facanes-i-cobertes-a-una-comunitat-de-veins/
LOCATION:COV\, Cooperativa Obrera de Viviendas
CATEGORIES:Taller
ATTACH;FMTTYPE=image/jpeg:https://ateneucoopbll.cat/wp-content/uploads/2023/10/ATENEU_49_TALLERREHABRol_B_baners_WEB.jpeg
END:VEVENT
BEGIN:VEVENT
DTSTART;TZID=UTC:20230921T090000
DTEND;TZID=UTC:20230921T120000
DTSTAMP:20260426T033221
CREATED:20230907T180533Z
LAST-MODIFIED:20231125T081207Z
UID:3003-1695286800-1695297600@ateneucoopbll.cat
SUMMARY:Jornada projectes Singulars 2023 Baix Llobregat
DESCRIPTION:Els Projectes Singulars del Departament de Treball de la Generalitat tenen per objectiu generar ocupació a través de la creació de nous projectes empresarials\, noves línies de negoci\, noves empreses\, nous mercats\, en el marc de l’economia social i cooperativa i aprofitant oportunitats estratègiques del propi sector d’activitat\, o del territori. \nEn l’edició de 2023 trobem 20 projectes on participen entitats del Baix Llobregat. \nL’Ateneu Cooperatiu del Baix Llobregat i l’Ajuntament del Prat organitzen una jornada per conèixer i relacionar-se amb les entitats que els han endegat. Es tracta de projectes que seran presentats pels seus impulsors en un format molt breu i dinàmic i on\, finalment\, hi haurà un espai de coneixença mútua que té la voluntat de servir per preparar futures iniciatives. \nDetall de l’activitat: \n9:15 – 9:40\, primer bloc  presentació projectes Singulars: \n– Plataforma per a la formació\, sensibilització i avaluació de l’impacte social\, mediambiental i la contribució als ODS a càrrec de Rubén Bagüés (Heres Social) \n– CoW.Work – La plataforma d’economia cooperativa de catalunya\, a càrrec Rubén Bagüés (Heres Social) \n– Watteco: moneda social i virtual recolzada per energia renovable\, a càrrec de Marcel Hidalgo (Watteco) \n– Economia Social i Solidària\, un element d’innovació disruptiva\, a càrrec de Albert Marsà (El Mecànic Audiovisual) \n– Recreo\, a càrrec de Ferran Cussó (Domingo Recreativos) \n9:40-9:45\, descans \n9:45 – 10:10\, segon bloc de presentació projectes Singulars: \n– Vilamercat\, a càrrec de Robert Dalmau  (Vilamercat) \n– Projecte d’intercooperació per la protecció i promoció de la diversitat cultural i lingüística en base a la xarxa\, a càrrec de Xavier Bachs  (Associació Cinebaix) \n– Sala Padró \, a càrrec de Cinta Tort (Orfeó Catalònia) \n– R-Evolució de Momo: Innovació Pedadògica i Cultura de la Pau\, a càrrec de Mariasa Blanco & Yolanda Arenas (Momo Escola Viva) \n– Nou espai especialitzat en Liji i d’assessorament a Pati Blau Llibres\, a càrrec de Celia Asensio & Susana Álvarez (Pati Blau Llibres) \n10:10-10:15\, descans \n10:15-10:40\, tercer bloc de presentació de projectes Singulars: \n– SoliEnergia: l’energia social\, a càrrec de Raquel Casanovas (Fundació Solidança) \n– Proveïment de serveis de cura\, manteniment\, gestió i desenvolupament de tot tipus d’equips elèctrics\, a càrrec de Fundació Privada per la Inclusió Laboral Àuria \n-Cooperar per millorar la qualitat i potenciar la venda sense intermediaris de productes ecològics\, a càrrec de Xavier (E.I Xarxa Agrosocial) \n– Dfènix\, a càrrec de Gimena Gonzalez (CPS Francesc Palau) \n-Creació de dos noves línies de negoci: jardins verticals i cobertes vegetals; i botiga social\, a càrrec de Mª José Alepuz & David Rubiol Garcia (Fundació Privada Gaspar de Portolà) \n10:40-10:45\, descans \n10:45-11:10\, últim bloc de 5 projectes Singulars: \n-Sumat a l’ESS\, a càrrec de Ahmed Mohamed Saleh (Fundación de la Cooperativa de Construcciones Baix Llobregat( Fundació la Bastida) \n– Escola d’Economia Social. Xarxa per a noves oportunitats\, a càrrec de Núria Piñol (Cooperativa Obrera de Viviendas) \n-Logistica e-comerce local\, a càrrec de Rodrigo Garcia (Fundació Rubricatus) \n– El Roser: grups de criança per a famílies amb infants d’1 a 3 anys i formacions innovadores\,  a càrrec de Lina Ramirez (Cooperativa Integral El Roser Sccl) \n– Connectem amb la comunalitat\,  a càrrec d’Illa Cooperativa de serveis. \nInscripcions \n 
URL:https://ateneucoopbll.cat/acte/jornada-projectes-singulars-2023-baix-llobregat/
LOCATION:Centre de Promoció Econòmica del Prat de Llobregat.\, C. Moreres 48\, 08820\, El Prat De Llobregat (Barcelona)\, El Prat de Llobregat\, Barcelona\, 08820
CATEGORIES:Trobada
ATTACH;FMTTYPE=image/jpeg:https://ateneucoopbll.cat/wp-content/uploads/2023/10/ATENEU_52_SingularBLL_FB_TW_LINK.jpeg
ORGANIZER;CN="Ateneu Cooperatiu del Baix Llobregat":MAILTO:ateneucooperatiu@elbaixllobregat.cat
END:VEVENT
BEGIN:VEVENT
DTSTART;TZID=UTC:20230929T110000
DTEND;TZID=UTC:20230929T130000
DTSTAMP:20260426T033221
CREATED:20230912T163756Z
LAST-MODIFIED:20231125T081207Z
UID:3004-1695985200-1695992400@ateneucoopbll.cat
SUMMARY:El règim de treball a la cooperativa
DESCRIPTION:Descripció: \nEn aquesta sessió pots resoldre tots els teus dubtes en relació al règim de treball i la seva gestió a la cooperativa. No esperis més\, avui és el dia. \nUs hi esperem! \nInscripcions.  \nData: 29 de setembre de 2023 \nHorari: de 11:00 a 13:00 \nLloc: En línia
URL:https://ateneucoopbll.cat/acte/el-regim-de-treball-a-la-cooperativa/
LOCATION:En línia
CATEGORIES:Sessió
ATTACH;FMTTYPE=image/png:https://ateneucoopbll.cat/wp-content/uploads/2023/10/ATENEU_48_CERCLEINNOVACIO_ItiFormESS_ECONOMIC_0929_baners_WEB.png
ORGANIZER;CN="Ateneu Cooperatiu del Baix Llobregat":MAILTO:ateneucooperatiu@elbaixllobregat.cat
END:VEVENT
END:VCALENDAR