BEGIN:VCALENDAR
VERSION:2.0
PRODID:-//Ateneu - ECPv6.15.20//NONSGML v1.0//EN
CALSCALE:GREGORIAN
METHOD:PUBLISH
X-WR-CALNAME:Ateneu
X-ORIGINAL-URL:https://ateneucoopbll.cat
X-WR-CALDESC:Esdeveniments per Ateneu
REFRESH-INTERVAL;VALUE=DURATION:PT1H
X-Robots-Tag:noindex
X-PUBLISHED-TTL:PT1H
BEGIN:VTIMEZONE
TZID:Europe/Madrid
BEGIN:DAYLIGHT
TZOFFSETFROM:+0100
TZOFFSETTO:+0200
TZNAME:CEST
DTSTART:20240331T010000
END:DAYLIGHT
BEGIN:STANDARD
TZOFFSETFROM:+0200
TZOFFSETTO:+0100
TZNAME:CET
DTSTART:20241027T010000
END:STANDARD
BEGIN:DAYLIGHT
TZOFFSETFROM:+0100
TZOFFSETTO:+0200
TZNAME:CEST
DTSTART:20250330T010000
END:DAYLIGHT
BEGIN:STANDARD
TZOFFSETFROM:+0200
TZOFFSETTO:+0100
TZNAME:CET
DTSTART:20251026T010000
END:STANDARD
BEGIN:DAYLIGHT
TZOFFSETFROM:+0100
TZOFFSETTO:+0200
TZNAME:CEST
DTSTART:20260329T010000
END:DAYLIGHT
BEGIN:STANDARD
TZOFFSETFROM:+0200
TZOFFSETTO:+0100
TZNAME:CET
DTSTART:20261025T010000
END:STANDARD
END:VTIMEZONE
BEGIN:VEVENT
DTSTART;TZID=Europe/Madrid:20251110T190000
DTEND;TZID=Europe/Madrid:20251110T200000
DTSTAMP:20260424T153234
CREATED:20251020T132540Z
LAST-MODIFIED:20251020T133526Z
UID:6932-1762801200-1762804800@ateneucoopbll.cat
SUMMARY:Xerrada: Redueix la teva factura energètica
DESCRIPTION:Xerrada: Redueix la teva factura energètica\nData: Dilluns 10 de novembre de 2025Hora: De 19:00 h a 20:00 hLloc: Biblioteca Central de Cornellà (Carrer Mossèn Andreu\, 15 – 08940 Cornellà de Llobregat) \nVols entendre com estalviar energia i reduir la teva factura? En aquesta xerrada oberta coneixeràs com funcionen energèticament els edificis i quines actuacions es poden dur a terme per millorar-ne l’eficiència. \nParlarem sobre rehabilitació energètica\, confort domèstic i accions sostenibles a l’abast de tothom. Una activitat pensada per informar i empoderar la ciutadania davant els reptes energètics actuals. \nInscripcions:📧 b.cornella.c@diba.cat📞 933 760 111 \nOrganitza: La Rachola SCCLCol·labora: Biblioteca Central de CornellàAmb el suport de: Ateneu Cooperatiu del Baix Llobregat i el Departament d’Empresa i Treball de la Generalitat de Catalunya i l’Àrea d’Economia Social
URL:https://ateneucoopbll.cat/acte/xerrada-redueix-la-teva-factura-energetica-2/
LOCATION:Biblioteca Central de Corenllà\, Carrer Mossèn Andreu\, 15\, Cornellà de Llobregat\, Barcelona\, 08940
CATEGORIES:Xerrada
ATTACH;FMTTYPE=image/jpeg:https://ateneucoopbll.cat/wp-content/uploads/2025/10/51_XerradaHabitatge_101125_baners_WEB.jpg
END:VEVENT
BEGIN:VEVENT
DTSTART;TZID=Europe/Madrid:20251119T180000
DTEND;TZID=Europe/Madrid:20251119T190000
DTSTAMP:20260424T153234
CREATED:20251020T130557Z
LAST-MODIFIED:20251020T130828Z
UID:6926-1763575200-1763578800@ateneucoopbll.cat
SUMMARY:Xerrada: Redueix la teva factura energètica
DESCRIPTION:Xerrada: Redueix la teva factura energètica\nData: Dimecres 19 de novembre de 2025Hora: De 18:00 h a 19:00 hLloc: Biblioteca Ramon Fernández Jurado (Carrer Bisbe Urquinaona\, 19-21 – Castelldefels) \nTens la sensació que pagues massa en la factura de la llum? Aquesta xerrada oberta al públic t’ajudarà a entendre millor com funciona el teu edifici des del punt de vista energètic i quines millores es poden fer per estalviar i guanyar confort a casa. \nParlarem d’energia\, eficiència\, rehabilitació energètica i del potencial de transformació dels habitatges des d’una mirada sostenible i accessible. \nInscripcions:📞 936 369 697📧 b.castelldefels@diba.cat \nOrganitza: La Rachola SCCLAmb la col·laboració: Biblioteca Ramon Fernández JuradoAmb el suport: Ateneu Cooperatiu del Baix Llobregat i el Departament d’Empresa i Treball de la Generalitat de Catalunya i l’Área de Economia Social
URL:https://ateneucoopbll.cat/acte/xerrada-redueix-la-teva-factura-energetica/
LOCATION:Biblioteca Ramon Fernández Jurado\, Carrer Bisbe Urquinaona\, 19-21\, Castelldefels\, Barcelona\, 08860
CATEGORIES:Xerrada
ATTACH;FMTTYPE=image/jpeg:https://ateneucoopbll.cat/wp-content/uploads/2025/10/52_XerradaHabitatge_191125_baners_WEB.jpg
END:VEVENT
END:VCALENDAR