BEGIN:VCALENDAR
VERSION:2.0
PRODID:-//Ateneu - ECPv6.15.20//NONSGML v1.0//EN
CALSCALE:GREGORIAN
METHOD:PUBLISH
X-WR-CALNAME:Ateneu
X-ORIGINAL-URL:https://ateneucoopbll.cat
X-WR-CALDESC:Esdeveniments per Ateneu
REFRESH-INTERVAL;VALUE=DURATION:PT1H
X-Robots-Tag:noindex
X-PUBLISHED-TTL:PT1H
BEGIN:VTIMEZONE
TZID:Europe/Madrid
BEGIN:DAYLIGHT
TZOFFSETFROM:+0100
TZOFFSETTO:+0200
TZNAME:CEST
DTSTART:20240331T010000
END:DAYLIGHT
BEGIN:STANDARD
TZOFFSETFROM:+0200
TZOFFSETTO:+0100
TZNAME:CET
DTSTART:20241027T010000
END:STANDARD
BEGIN:DAYLIGHT
TZOFFSETFROM:+0100
TZOFFSETTO:+0200
TZNAME:CEST
DTSTART:20250330T010000
END:DAYLIGHT
BEGIN:STANDARD
TZOFFSETFROM:+0200
TZOFFSETTO:+0100
TZNAME:CET
DTSTART:20251026T010000
END:STANDARD
BEGIN:DAYLIGHT
TZOFFSETFROM:+0100
TZOFFSETTO:+0200
TZNAME:CEST
DTSTART:20260329T010000
END:DAYLIGHT
BEGIN:STANDARD
TZOFFSETFROM:+0200
TZOFFSETTO:+0100
TZNAME:CET
DTSTART:20261025T010000
END:STANDARD
END:VTIMEZONE
BEGIN:VEVENT
DTSTART;TZID=Europe/Madrid:20251020T190000
DTEND;TZID=Europe/Madrid:20251020T200000
DTSTAMP:20260422T181317
CREATED:20250603T100158Z
LAST-MODIFIED:20250603T100158Z
UID:6431-1760986800-1760990400@ateneucoopbll.cat
SUMMARY:Xerrada: què has de tenir en compte abans de mudar-te?
DESCRIPTION:Xerrada: què has de tenir en compte abans de mudar-te?\nXerrada per conèixer els punts claus a tenir en compte quan et trobes en la cerca d’un habitatge ja sigui de compra o de lloguer. Parlarem de patologies\, habitabilitat\, energia\, etc. Tindràs un checklist que t’ajudarà en la teva decisió. \nPúblic objectiu: qualsevol persona adulta. \nNombre de persones: entre 8 i 20 adults. \nPONENT: La Rachola
URL:https://ateneucoopbll.cat/acte/xerrada-que-has-de-tenir-en-compte-abans-de-mudar-te/
CATEGORIES:Xerrada
END:VEVENT
END:VCALENDAR