BEGIN:VCALENDAR
VERSION:2.0
PRODID:-//Ateneu - ECPv6.15.20//NONSGML v1.0//EN
CALSCALE:GREGORIAN
METHOD:PUBLISH
X-WR-CALNAME:Ateneu
X-ORIGINAL-URL:https://ateneucoopbll.cat
X-WR-CALDESC:Esdeveniments per Ateneu
REFRESH-INTERVAL;VALUE=DURATION:PT1H
X-Robots-Tag:noindex
X-PUBLISHED-TTL:PT1H
BEGIN:VTIMEZONE
TZID:Europe/Madrid
BEGIN:DAYLIGHT
TZOFFSETFROM:+0100
TZOFFSETTO:+0200
TZNAME:CEST
DTSTART:20240331T010000
END:DAYLIGHT
BEGIN:STANDARD
TZOFFSETFROM:+0200
TZOFFSETTO:+0100
TZNAME:CET
DTSTART:20241027T010000
END:STANDARD
BEGIN:DAYLIGHT
TZOFFSETFROM:+0100
TZOFFSETTO:+0200
TZNAME:CEST
DTSTART:20250330T010000
END:DAYLIGHT
BEGIN:STANDARD
TZOFFSETFROM:+0200
TZOFFSETTO:+0100
TZNAME:CET
DTSTART:20251026T010000
END:STANDARD
BEGIN:DAYLIGHT
TZOFFSETFROM:+0100
TZOFFSETTO:+0200
TZNAME:CEST
DTSTART:20260329T010000
END:DAYLIGHT
BEGIN:STANDARD
TZOFFSETFROM:+0200
TZOFFSETTO:+0100
TZNAME:CET
DTSTART:20261025T010000
END:STANDARD
END:VTIMEZONE
BEGIN:VEVENT
DTSTART;TZID=Europe/Madrid:20250610T180000
DTEND;TZID=Europe/Madrid:20250610T190000
DTSTAMP:20260422T225445
CREATED:20250527T102522Z
LAST-MODIFIED:20250527T102522Z
UID:6352-1749578400-1749582000@ateneucoopbll.cat
SUMMARY:Xerrada: energia i habitatge. Redueix la teva factura energètica
DESCRIPTION:Xerrada: Energia i habitatge. Redueix la teva factura energètica\nXerrada sobre energia i habitatge on s’explicarà com funcionen a nivell energètic els nostres edificis i les seves possibilitats de millora amb un cas d’estudi real. Resum de les normatives obligatòries que s’implantaran per arribar a edificis de consum zero i de les ajudes actuals de rehabilitació energètica. \nDetalls de l’activitat\nPúblic objectiu: Adults \nNombre de persones: Entre 8 i 20. \nPonent: La Rachola  \nHora: 18 h – 19 h \nData: 10 de juny
URL:https://ateneucoopbll.cat/acte/xerrada-energia-i-habitatge-redueix-la-teva-factura-energetica/
CATEGORIES:Xerrada
END:VEVENT
END:VCALENDAR