BEGIN:VCALENDAR
VERSION:2.0
PRODID:-//Ateneu - ECPv6.15.20//NONSGML v1.0//EN
CALSCALE:GREGORIAN
METHOD:PUBLISH
X-WR-CALNAME:Ateneu
X-ORIGINAL-URL:https://ateneucoopbll.cat
X-WR-CALDESC:Esdeveniments per Ateneu
REFRESH-INTERVAL;VALUE=DURATION:PT1H
X-Robots-Tag:noindex
X-PUBLISHED-TTL:PT1H
BEGIN:VTIMEZONE
TZID:Europe/Madrid
BEGIN:DAYLIGHT
TZOFFSETFROM:+0100
TZOFFSETTO:+0200
TZNAME:CEST
DTSTART:20240331T010000
END:DAYLIGHT
BEGIN:STANDARD
TZOFFSETFROM:+0200
TZOFFSETTO:+0100
TZNAME:CET
DTSTART:20241027T010000
END:STANDARD
BEGIN:DAYLIGHT
TZOFFSETFROM:+0100
TZOFFSETTO:+0200
TZNAME:CEST
DTSTART:20250330T010000
END:DAYLIGHT
BEGIN:STANDARD
TZOFFSETFROM:+0200
TZOFFSETTO:+0100
TZNAME:CET
DTSTART:20251026T010000
END:STANDARD
BEGIN:DAYLIGHT
TZOFFSETFROM:+0100
TZOFFSETTO:+0200
TZNAME:CEST
DTSTART:20260329T010000
END:DAYLIGHT
BEGIN:STANDARD
TZOFFSETFROM:+0200
TZOFFSETTO:+0100
TZNAME:CET
DTSTART:20261025T010000
END:STANDARD
END:VTIMEZONE
BEGIN:VEVENT
DTSTART;TZID=Europe/Madrid:20250605T180000
DTEND;TZID=Europe/Madrid:20250605T193000
DTSTAMP:20260422T225444
CREATED:20250527T102625Z
LAST-MODIFIED:20250603T094732Z
UID:6349-1749146400-1749151800@ateneucoopbll.cat
SUMMARY:Xerrada: energia i habitatge. Redueix la teva factura energètica
DESCRIPTION:Xerrada: energia i habitatge. Redueix la teva factura energètica\nXerrada sobre energia i habitatge on s’explicarà com funcionen a nivell energètic els nostres edificis i les seves possibilitats de millora amb un cas d’estudi real. Resum de les normatives obligatòries que s’implantaran per arribar a edificis de consum zero i de les ajudes actuals de rehabilitació energètica. \nDetalls de l’activitat\nPúblic objectiu: Qualsevol persona adulta. \nNombre de persones: entre 8 i 20 adults. \nPonent: La Rachola  \nData: 05/06/2025 \nHora: 18 h – 19:30 h
URL:https://ateneucoopbll.cat/acte/xerrada-energia-i-habitatge-redueix-la-teva-factura-energetica-2/
CATEGORIES:Xerrada
ATTACH;FMTTYPE=image/jpeg:https://ateneucoopbll.cat/wp-content/uploads/2025/05/24_XerradaHabitatge050625_baners_WEB.jpg
END:VEVENT
END:VCALENDAR