BEGIN:VCALENDAR
VERSION:2.0
PRODID:-//Ateneu - ECPv6.15.20//NONSGML v1.0//EN
CALSCALE:GREGORIAN
METHOD:PUBLISH
X-WR-CALNAME:Ateneu
X-ORIGINAL-URL:https://ateneucoopbll.cat
X-WR-CALDESC:Esdeveniments per Ateneu
REFRESH-INTERVAL;VALUE=DURATION:PT1H
X-Robots-Tag:noindex
X-PUBLISHED-TTL:PT1H
BEGIN:VTIMEZONE
TZID:Europe/Madrid
BEGIN:DAYLIGHT
TZOFFSETFROM:+0100
TZOFFSETTO:+0200
TZNAME:CEST
DTSTART:20250330T010000
END:DAYLIGHT
BEGIN:STANDARD
TZOFFSETFROM:+0200
TZOFFSETTO:+0100
TZNAME:CET
DTSTART:20251026T010000
END:STANDARD
BEGIN:DAYLIGHT
TZOFFSETFROM:+0100
TZOFFSETTO:+0200
TZNAME:CEST
DTSTART:20260329T010000
END:DAYLIGHT
BEGIN:STANDARD
TZOFFSETFROM:+0200
TZOFFSETTO:+0100
TZNAME:CET
DTSTART:20261025T010000
END:STANDARD
BEGIN:DAYLIGHT
TZOFFSETFROM:+0100
TZOFFSETTO:+0200
TZNAME:CEST
DTSTART:20270328T010000
END:DAYLIGHT
BEGIN:STANDARD
TZOFFSETFROM:+0200
TZOFFSETTO:+0100
TZNAME:CET
DTSTART:20271031T010000
END:STANDARD
END:VTIMEZONE
BEGIN:VEVENT
DTSTART;TZID=Europe/Madrid:20260519T090000
DTEND;TZID=Europe/Madrid:20260520T113000
DTSTAMP:20260422T163332
CREATED:20260420T073842Z
LAST-MODIFIED:20260421T080954Z
UID:7484-1779181200-1779276600@ateneucoopbll.cat
SUMMARY:Webinar: Crear entorns segurs: protocols efectius contra l’assetjament laboral i sexual
DESCRIPTION:Webinar: Crear entorns segurs: protocols efectius contra l’assetjament laboral i sexual\n📅 Data: Dimarts 19 i dimecres 20 de maig de 2026🕘 Hora: De 9.00 h a 11.30 h🌐 Format: Webinar (en línia) \n📋 Organitza: Ajuntament del Prat de Llobregat \n🎓 Imparteix: Society and Neurobusiness Experience\, S.L. \nEl webinar “Crear entorns segurs: protocols efectius contra l’assetjament laboral i sexual” ofereix eines i orientacions per prevenir i abordar situacions d’assetjament en l’àmbit laboral. \nLa sessió abordarà la importància de disposar de protocols efectius per garantir espais de treball segurs i respectuosos. \n👥 Públic destinatari: Professionals de recursos humans \n📝 Preinscripció i procés de selecció:Inscripció a: slo@elprat.cat (Les places són limitades i s’assignaran segons l’ordre de recepció de les sol·licituds.)
URL:https://ateneucoopbll.cat/acte/webinar-crear-entorns-segurs-protocols-efectius-contra-lassetjament-laboral-i-sexual/
LOCATION:Activitat Virtual
CATEGORIES:MaigCoop2026,Webinar
END:VEVENT
END:VCALENDAR