BEGIN:VCALENDAR
VERSION:2.0
PRODID:-//Ateneu - ECPv6.15.20//NONSGML v1.0//EN
CALSCALE:GREGORIAN
METHOD:PUBLISH
X-WR-CALNAME:Ateneu
X-ORIGINAL-URL:https://ateneucoopbll.cat
X-WR-CALDESC:Esdeveniments per Ateneu
REFRESH-INTERVAL;VALUE=DURATION:PT1H
X-Robots-Tag:noindex
X-PUBLISHED-TTL:PT1H
BEGIN:VTIMEZONE
TZID:UTC
BEGIN:STANDARD
TZOFFSETFROM:+0000
TZOFFSETTO:+0000
TZNAME:UTC
DTSTART:20210101T000000
END:STANDARD
END:VTIMEZONE
BEGIN:VEVENT
DTSTART;TZID=UTC:20220513T120000
DTEND;TZID=UTC:20220513T140000
DTSTAMP:20260425T144337
CREATED:20220313T064247Z
LAST-MODIFIED:20231125T082728Z
UID:2869-1652443200-1652450400@ateneucoopbll.cat
SUMMARY:Vols saber el valor social del Prat? Et convidem a conèixer resultats
DESCRIPTION:Jornada per conèixer la metodologia de càlcul del Valor Social Integrat (VSI) i els resultats de les principals empreses i entitats de l’economia social i cooperativa del Prat referits a l’any 2020\, l’any de la pandèmia. Presentació de la metodologia\, programa i principals resultats a càrrec de Silvia Ayuso (ESCI\, UPF) i tres taules temàtiques amb les entitats pratenques participants al projecte. \nTambé hi haurà la possibilitat de seguir-lo en directe a través del canal de youtube de l’Ajuntament del Prat de Llobregat\, connectant-vos a aquest enllaç de Youtube.  \nEn aquest format digital\, no cal inscripció.
URL:https://ateneucoopbll.cat/acte/vols-saber-el-valor-social-del-prat-et-convidem-a-coneixer-resultats/
LOCATION:Centre de Promocio Economica del Prat\, Carrer de les Moreres 48\, El Prat de Llobregat\, Barcelona\, 08820\, España
ATTACH;FMTTYPE=image/jpeg:https://ateneucoopbll.cat/wp-content/uploads/2023/10/ATENEU_05_MaigCoop_bnr_WEB_13_ValorSocial.jpg
END:VEVENT
END:VCALENDAR