BEGIN:VCALENDAR
VERSION:2.0
PRODID:-//Ateneu - ECPv6.15.20//NONSGML v1.0//EN
CALSCALE:GREGORIAN
METHOD:PUBLISH
X-WR-CALNAME:Ateneu
X-ORIGINAL-URL:https://ateneucoopbll.cat
X-WR-CALDESC:Esdeveniments per Ateneu
REFRESH-INTERVAL;VALUE=DURATION:PT1H
X-Robots-Tag:noindex
X-PUBLISHED-TTL:PT1H
BEGIN:VTIMEZONE
TZID:Europe/Madrid
BEGIN:DAYLIGHT
TZOFFSETFROM:+0100
TZOFFSETTO:+0200
TZNAME:CEST
DTSTART:20250330T010000
END:DAYLIGHT
BEGIN:STANDARD
TZOFFSETFROM:+0200
TZOFFSETTO:+0100
TZNAME:CET
DTSTART:20251026T010000
END:STANDARD
BEGIN:DAYLIGHT
TZOFFSETFROM:+0100
TZOFFSETTO:+0200
TZNAME:CEST
DTSTART:20260329T010000
END:DAYLIGHT
BEGIN:STANDARD
TZOFFSETFROM:+0200
TZOFFSETTO:+0100
TZNAME:CET
DTSTART:20261025T010000
END:STANDARD
BEGIN:DAYLIGHT
TZOFFSETFROM:+0100
TZOFFSETTO:+0200
TZNAME:CEST
DTSTART:20270328T010000
END:DAYLIGHT
BEGIN:STANDARD
TZOFFSETFROM:+0200
TZOFFSETTO:+0100
TZNAME:CET
DTSTART:20271031T010000
END:STANDARD
END:VTIMEZONE
BEGIN:VEVENT
DTSTART;TZID=Europe/Madrid:20260528T110000
DTEND;TZID=Europe/Madrid:20260528T120000
DTSTAMP:20260422T163155
CREATED:20260421T093517Z
LAST-MODIFIED:20260421T093517Z
UID:7536-1779966000-1779969600@ateneucoopbll.cat
SUMMARY:Visita a l’Obrador
DESCRIPTION:Visita a l’Obrador\n📅 Data: Dijous\, 28 de maig de 2026📍 Lloc: Obrador Es Im-perfect📌 Adreça: Carrer del Vallès\, 57\, 08820 El Prat de Llobregat\, Barcelona \n📋 Organitza: Fundació Espigoladors \nLa visita a l’Obrador Es Im-perfect és una proposta guiada per conèixer de prop aquesta empresa d’inserció\, on es transformen productes que\, d’altra manera\, es considerarien pèrdues\, donant-los una nova vida en forma de melmelades\, patés vegetals i cremes. \nL’activitat permet descobrir el funcionament de l’obrador i posar en valor un model que combina aprofitament alimentari\, sostenibilitat i inserció social\, mostrant com es poden generar productes de qualitat a partir d’aliments recuperats. \nLa visita és una oportunitat per apropar-se a una iniciativa compromesa amb la reducció del malbaratament alimentari i amb la creació d’impacte social positiu al territori. \nL’activitat és presencial i tindrà lloc d’11.00 a 12.00 h a l’Obrador Es Im-perfect. Requereix inscripció prèvia a través d’un enllaç.
URL:https://ateneucoopbll.cat/acte/visita-a-lobrador/
LOCATION:Obrador Es Im-perfect\, Carrer del Vallès\, 57\, El Prat de Llobregat\, Barcelona\, Barcelona\, 08820\, Spain
CATEGORIES:MaigCoop2026
ORGANIZER;CN="Fundaci%C3%B3 Espigoladors":MAILTO:comunicacio@espigoladors.com
END:VEVENT
END:VCALENDAR