BEGIN:VCALENDAR
VERSION:2.0
PRODID:-//Ateneu - ECPv6.15.20//NONSGML v1.0//EN
CALSCALE:GREGORIAN
METHOD:PUBLISH
X-WR-CALNAME:Ateneu
X-ORIGINAL-URL:https://ateneucoopbll.cat
X-WR-CALDESC:Esdeveniments per Ateneu
REFRESH-INTERVAL;VALUE=DURATION:PT1H
X-Robots-Tag:noindex
X-PUBLISHED-TTL:PT1H
BEGIN:VTIMEZONE
TZID:Europe/Madrid
BEGIN:DAYLIGHT
TZOFFSETFROM:+0100
TZOFFSETTO:+0200
TZNAME:CEST
DTSTART:20230326T010000
END:DAYLIGHT
BEGIN:STANDARD
TZOFFSETFROM:+0200
TZOFFSETTO:+0100
TZNAME:CET
DTSTART:20231029T010000
END:STANDARD
BEGIN:DAYLIGHT
TZOFFSETFROM:+0100
TZOFFSETTO:+0200
TZNAME:CEST
DTSTART:20240331T010000
END:DAYLIGHT
BEGIN:STANDARD
TZOFFSETFROM:+0200
TZOFFSETTO:+0100
TZNAME:CET
DTSTART:20241027T010000
END:STANDARD
BEGIN:DAYLIGHT
TZOFFSETFROM:+0100
TZOFFSETTO:+0200
TZNAME:CEST
DTSTART:20250330T010000
END:DAYLIGHT
BEGIN:STANDARD
TZOFFSETFROM:+0200
TZOFFSETTO:+0100
TZNAME:CET
DTSTART:20251026T010000
END:STANDARD
END:VTIMEZONE
BEGIN:VEVENT
DTSTART;TZID=Europe/Madrid:20241009T093000
DTEND;TZID=Europe/Madrid:20241009T120000
DTSTAMP:20260424T174243
CREATED:20240920T050157Z
LAST-MODIFIED:20241001T131347Z
UID:5271-1728466200-1728475200@ateneucoopbll.cat
SUMMARY:VI Assemblea de l'Ateneu Cooperatiu del Baix Llobregat 2024
DESCRIPTION:DESCRIPCIÓ\nActe presencial a Olesa de Montserrat. \nOrdre del dia:  \n\n9:30-9:40   Benvinguda a càrrec de:Fernando Vicente Benetti\, Conseller de Desenvolupament Econòmic\, Estratègic i Agrícola del Consell Comarcal del Baix Llobregat\, i Jordi Parent Beltran\, alcalde d’Olesa de Montserrat. \n9:40-10:25  Taula Rodona sobre Finances Ètiques. \n\nSergi Salavert – Coordinador econòmic de FETS – Finançament Ètic i Solidari.\nAlfonso Bolado – Coordinador executiu d’Arç Cooperativa\nÁlvaro Puertas – Director de la Cooperativa Obrera de Viviendas\, El Prat de Llobregat.\n\n10:25-11:00  Indicadors i justificació de l’Ateneu Cooperatiu del Baix Llobregat per el 2023-2024\, a càrrec de José Luis Martínez\, tècnic de l’Ateneu. \n11:00-11:20  Nova Convocatòria de l’Ateneu Cooperatiu del Baix Llobregat per el 2024-2027\, a càrrec de Fernando Vicente. \n11:20-11:30  Torn obert de preguntes i propostes. \n\n\n\nLa inscripció esta oberta a les Entitats que formen part de l’Ateneu com a promotores i participades i als Ajuntaments de la Comarca.\n\n\n\n\nInscripcions.
URL:https://ateneucoopbll.cat/acte/vi-assemblea-de-lateneu-cooperatiu-del-baix-llobregat-2024/
LOCATION:Casa de la Cultura d’Olesa de Montserrat\, Carrer de Salvador Casas i Baltasar\, 26\, 08640 Olesa de Montserrat\, Barcelona\, Olesa\, Olesa\, 08640\, Espanya
ATTACH;FMTTYPE=image/jpeg:https://ateneucoopbll.cat/wp-content/uploads/2024/09/75_VI_Assemblea_bnrs_WEB.jpg
ORGANIZER;CN="Ateneu Cooperatiu del Baix Llobregat":MAILTO:ateneucooperatiu@elbaixllobregat.cat
END:VEVENT
END:VCALENDAR