BEGIN:VCALENDAR
VERSION:2.0
PRODID:-//Ateneu - ECPv6.15.20//NONSGML v1.0//EN
CALSCALE:GREGORIAN
METHOD:PUBLISH
X-WR-CALNAME:Ateneu
X-ORIGINAL-URL:https://ateneucoopbll.cat
X-WR-CALDESC:Esdeveniments per Ateneu
REFRESH-INTERVAL;VALUE=DURATION:PT1H
X-Robots-Tag:noindex
X-PUBLISHED-TTL:PT1H
BEGIN:VTIMEZONE
TZID:Europe/Madrid
BEGIN:DAYLIGHT
TZOFFSETFROM:+0100
TZOFFSETTO:+0200
TZNAME:CEST
DTSTART:20250330T010000
END:DAYLIGHT
BEGIN:STANDARD
TZOFFSETFROM:+0200
TZOFFSETTO:+0100
TZNAME:CET
DTSTART:20251026T010000
END:STANDARD
BEGIN:DAYLIGHT
TZOFFSETFROM:+0100
TZOFFSETTO:+0200
TZNAME:CEST
DTSTART:20260329T010000
END:DAYLIGHT
BEGIN:STANDARD
TZOFFSETFROM:+0200
TZOFFSETTO:+0100
TZNAME:CET
DTSTART:20261025T010000
END:STANDARD
BEGIN:DAYLIGHT
TZOFFSETFROM:+0100
TZOFFSETTO:+0200
TZNAME:CEST
DTSTART:20270328T010000
END:DAYLIGHT
BEGIN:STANDARD
TZOFFSETFROM:+0200
TZOFFSETTO:+0100
TZNAME:CET
DTSTART:20271031T010000
END:STANDARD
END:VTIMEZONE
BEGIN:VEVENT
DTSTART;TZID=Europe/Madrid:20260430T110000
DTEND;TZID=Europe/Madrid:20260430T140000
DTSTAMP:20260422T133357
CREATED:20260408T090559Z
LAST-MODIFIED:20260408T091245Z
UID:7403-1777546800-1777557600@ateneucoopbll.cat
SUMMARY:Tramar la metròpoli - Sessió 2: Cures i alimentació: qui sosté la vida i en quines condicions?
DESCRIPTION:📅 Data: 30 d’abril de 2026🕒 Hora: De 11:00 h a 14:00 h📍 Lloc: L’Hospitalet de Llobregat \nAquesta segona sessió del cicle Tramar la Metròpoli se centrarà en el paper de les cures i l’alimentació\, posant el focus en qui sosté la vida i en quines condicions ho fa. \nLa jornada es desenvoluparà a través de sessions simultànies de treball i anàlisi\, generant un espai per compartir reflexions\, experiències i reptes al voltant d’aquests àmbits clau. \nEl cicle Tramar la Metròpoli vol esdevenir un espai de trobada\, pensament i articulació per als agents de l’economia social i solidària i per a totes aquelles persones interessades a construir alternatives econòmiques a escala metropolitana. \n🎤 Sessions de treball i anàlisi \nInscripcions aquí
URL:https://ateneucoopbll.cat/acte/tramar-la-metropoli-sessio-2-cures-i-alimentacio-qui-soste-la-vida-i-en-quines-condicions/
LOCATION:Hospitalet de llobregat
CATEGORIES:Sessió
ATTACH;FMTTYPE=image/jpeg:https://ateneucoopbll.cat/wp-content/uploads/2026/04/s1-horitzontal.jpg
END:VEVENT
END:VCALENDAR