BEGIN:VCALENDAR
VERSION:2.0
PRODID:-//Ateneu - ECPv6.15.20//NONSGML v1.0//EN
CALSCALE:GREGORIAN
METHOD:PUBLISH
X-WR-CALNAME:Ateneu
X-ORIGINAL-URL:https://ateneucoopbll.cat
X-WR-CALDESC:Esdeveniments per Ateneu
REFRESH-INTERVAL;VALUE=DURATION:PT1H
X-Robots-Tag:noindex
X-PUBLISHED-TTL:PT1H
BEGIN:VTIMEZONE
TZID:UTC
BEGIN:STANDARD
TZOFFSETFROM:+0000
TZOFFSETTO:+0000
TZNAME:UTC
DTSTART:20210101T000000
END:STANDARD
END:VTIMEZONE
BEGIN:VEVENT
DTSTART;TZID=UTC:20220511T000000
DTEND;TZID=UTC:20220511T133000
DTSTAMP:20260425T143312
CREATED:20220311T104217Z
LAST-MODIFIED:20231125T082728Z
UID:2882-1652227200-1652275800@ateneucoopbll.cat
SUMMARY:Taula rodona: Comerç just i la igualtat de gènere
DESCRIPTION:Amb productores del Sud-global. Organitza: Coordinadora Estatal de comerç just. \n\n\n\n\nDimecres 11 maig a les 12:00: Rosy Solanski\, de la cooperativa tèxtil Creative Handicrafts (Índia). Creative Handicrafts dona feina a 270 dones que es dediquen a la confecció d’articles de tèxtil. La major part d’elles provenen de grups socials molt desafavorits. La formació i el treball que realitzen afavoreixen el seu desenvolupament personal i la seva autonomia\, un aspecte clau en un entorn social marcat per la marginació que pateixen les dones. \nAmb traducció anglès-castellà. \nInscripció comunicación@comerciojusto.org
URL:https://ateneucoopbll.cat/acte/taula-rodona-comerc-just-i-la-igualtat-de-genere/
LOCATION:Activitat Virtual
ATTACH;FMTTYPE=image/jpeg:https://ateneucoopbll.cat/wp-content/uploads/2023/10/ATENEU_05_MaigCoop_bnr_WEB_11_TaulaRodona.jpg
END:VEVENT
END:VCALENDAR