BEGIN:VCALENDAR
VERSION:2.0
PRODID:-//Ateneu - ECPv6.15.20//NONSGML v1.0//EN
CALSCALE:GREGORIAN
METHOD:PUBLISH
X-WR-CALNAME:Ateneu
X-ORIGINAL-URL:https://ateneucoopbll.cat
X-WR-CALDESC:Esdeveniments per Ateneu
REFRESH-INTERVAL;VALUE=DURATION:PT1H
X-Robots-Tag:noindex
X-PUBLISHED-TTL:PT1H
BEGIN:VTIMEZONE
TZID:Europe/Madrid
BEGIN:DAYLIGHT
TZOFFSETFROM:+0100
TZOFFSETTO:+0200
TZNAME:CEST
DTSTART:20240331T010000
END:DAYLIGHT
BEGIN:STANDARD
TZOFFSETFROM:+0200
TZOFFSETTO:+0100
TZNAME:CET
DTSTART:20241027T010000
END:STANDARD
BEGIN:DAYLIGHT
TZOFFSETFROM:+0100
TZOFFSETTO:+0200
TZNAME:CEST
DTSTART:20250330T010000
END:DAYLIGHT
BEGIN:STANDARD
TZOFFSETFROM:+0200
TZOFFSETTO:+0100
TZNAME:CET
DTSTART:20251026T010000
END:STANDARD
BEGIN:DAYLIGHT
TZOFFSETFROM:+0100
TZOFFSETTO:+0200
TZNAME:CEST
DTSTART:20260329T010000
END:DAYLIGHT
BEGIN:STANDARD
TZOFFSETFROM:+0200
TZOFFSETTO:+0100
TZNAME:CET
DTSTART:20261025T010000
END:STANDARD
END:VTIMEZONE
BEGIN:VEVENT
DTSTART;TZID=Europe/Madrid:20250313T080000
DTEND;TZID=Europe/Madrid:20250313T170000
DTSTAMP:20260424T154827
CREATED:20250313T113531Z
LAST-MODIFIED:20250313T113531Z
UID:5647-1741852800-1741885200@ateneucoopbll.cat
SUMMARY:Taller: No Som Àngels: Els Nostres Cossos\, Les Nostres Regles
DESCRIPTION:📅 Dimecres 26 de març a les 18:00 h📍 Pavelló Poliesportiu Municipal de Santa Coloma de Cervelló(Avinguda dels Països Catalans\, 1) \nEl Consell Comarcal del Baix Llobregat organitza el taller “No Som Àngels: Els Nostres Cossos\, Les Nostres Regles”\, una sessió adreçada a dones i dissidències de gènere d’entre 18 i 35 anys amb diversitat funcional o discapacitat. \nAquest taller ofereix un espai segur i de confiança per compartir experiències\, resoldre dubtes i proporcionar informació sobre drets sexuals i reproductius. \n\nObjectius del taller\n✅ Drets sexuals i reproductiusEs debatran aspectes clau sobre els drets sexuals i reproductius per garantir que totes les participants tinguin informació i eines per exercir-los plenament. \n✅ Trencar tabús sobre desig i sexualitatEs fomentarà el diàleg sobre temes sovint invisibilitzats\, creant un espai on les participants puguin compartir inquietuds i experiències. \n✅ Empoderament i presa de decisions informadesEs treballarà l’autoconeixement i l’autoestima\, promovent la capacitat de prendre decisions informades sobre els cossos i la sexualitat. \n\nInscripcions\n📌 Com participar?Per assistir al taller\, cal completar el formulari d’inscripció disponible al següent enllaç:👉 Formulari d’inscripció \n📌 Necessites suport per inscriure’t?☎️ Truca als telèfons 660 47 65 96 o 650 93 19 06. \n\nAquest taller és una oportunitat única per trencar silencis\, parlar obertament de desig i sexualitat\, i reivindicar el dret de totes les persones a viure la seva sexualitat amb plenitud i autonomia. 💜✨ \n📍 Reserva la teva plaça i participa en aquest espai d’aprenentatge i empoderament.
URL:https://ateneucoopbll.cat/acte/taller-no-som-angels-els-nostres-cossos-les-nostres-regles/
END:VEVENT
END:VCALENDAR