BEGIN:VCALENDAR
VERSION:2.0
PRODID:-//Ateneu - ECPv6.15.20//NONSGML v1.0//EN
CALSCALE:GREGORIAN
METHOD:PUBLISH
X-WR-CALNAME:Ateneu
X-ORIGINAL-URL:https://ateneucoopbll.cat
X-WR-CALDESC:Esdeveniments per Ateneu
REFRESH-INTERVAL;VALUE=DURATION:PT1H
X-Robots-Tag:noindex
X-PUBLISHED-TTL:PT1H
BEGIN:VTIMEZONE
TZID:Europe/Madrid
BEGIN:DAYLIGHT
TZOFFSETFROM:+0100
TZOFFSETTO:+0200
TZNAME:CEST
DTSTART:20240331T010000
END:DAYLIGHT
BEGIN:STANDARD
TZOFFSETFROM:+0200
TZOFFSETTO:+0100
TZNAME:CET
DTSTART:20241027T010000
END:STANDARD
BEGIN:DAYLIGHT
TZOFFSETFROM:+0100
TZOFFSETTO:+0200
TZNAME:CEST
DTSTART:20250330T010000
END:DAYLIGHT
BEGIN:STANDARD
TZOFFSETFROM:+0200
TZOFFSETTO:+0100
TZNAME:CET
DTSTART:20251026T010000
END:STANDARD
BEGIN:DAYLIGHT
TZOFFSETFROM:+0100
TZOFFSETTO:+0200
TZNAME:CEST
DTSTART:20260329T010000
END:DAYLIGHT
BEGIN:STANDARD
TZOFFSETFROM:+0200
TZOFFSETTO:+0100
TZNAME:CET
DTSTART:20261025T010000
END:STANDARD
END:VTIMEZONE
BEGIN:VEVENT
DTSTART;TZID=Europe/Madrid:20251017T173000
DTEND;TZID=Europe/Madrid:20251017T183000
DTSTAMP:20260422T181343
CREATED:20251006T103117Z
LAST-MODIFIED:20251006T103117Z
UID:6864-1760722200-1760725800@ateneucoopbll.cat
SUMMARY:Taller familiar: construïm un hotel d’insectes!
DESCRIPTION:Taller familiar: construïm un hotel d’insectes!\nVols introduir la sostenibilitat a casa d’una manera divertida i educativa? El pròxim 17 d’octubre de 2025\, vine a la Biblioteca Municipal de Cervelló i participa en aquest taller familiar on aprendrem a construir un hotel d’insectes\, una eina senzilla i molt útil per afavorir la biodiversitat al nostre entorn. \nAquesta activitat\, adreçada a famílies amb infants a partir de 5 anys\, permetrà entendre millor el valor dels insectes en l’ecosistema i ens donarà recursos per fomentar un jardí més saludable i sostenible. Cada família podrà endur-se el seu hotel d’insectes a casa! \n🕒 Horari: De 17.30 a 18.30 h📍 Lloc: Biblioteca Municipal de Cervelló (Plaça de la Biblioteca\, 1) \n👨‍👩‍👧‍👦 Places limitades: màxim 15 adults + 15 infants (acompanyament adult obligatori)📩 Inscripcions: b.cervello@diba.cat | 936 601 198 \nUna activitat organitzada per La Rachola Arquitectura Cooperativa i El Món Bee\, amb el suport de l’Ateneu Cooperatiu del Baix Llobregat i el Departament d’Empresa i Treball de la Generalitat de Catalunya. \n🌱 Aprenem\, construïm i cuidem el nostre entorn… en família!
URL:https://ateneucoopbll.cat/acte/taller-familiar-construim-un-hotel-dinsectes/
LOCATION:Biblioteca Municipal de Cervelló
ATTACH;FMTTYPE=image/jpeg:https://ateneucoopbll.cat/wp-content/uploads/2025/10/48_Tallers_en_familia_hotel_insectes_171025_baners_WEB.jpg
END:VEVENT
END:VCALENDAR