BEGIN:VCALENDAR
VERSION:2.0
PRODID:-//Ateneu - ECPv6.15.20//NONSGML v1.0//EN
CALSCALE:GREGORIAN
METHOD:PUBLISH
X-WR-CALNAME:Ateneu
X-ORIGINAL-URL:https://ateneucoopbll.cat
X-WR-CALDESC:Esdeveniments per Ateneu
REFRESH-INTERVAL;VALUE=DURATION:PT1H
X-Robots-Tag:noindex
X-PUBLISHED-TTL:PT1H
BEGIN:VTIMEZONE
TZID:Europe/Madrid
BEGIN:DAYLIGHT
TZOFFSETFROM:+0100
TZOFFSETTO:+0200
TZNAME:CEST
DTSTART:20250330T010000
END:DAYLIGHT
BEGIN:STANDARD
TZOFFSETFROM:+0200
TZOFFSETTO:+0100
TZNAME:CET
DTSTART:20251026T010000
END:STANDARD
BEGIN:DAYLIGHT
TZOFFSETFROM:+0100
TZOFFSETTO:+0200
TZNAME:CEST
DTSTART:20260329T010000
END:DAYLIGHT
BEGIN:STANDARD
TZOFFSETFROM:+0200
TZOFFSETTO:+0100
TZNAME:CET
DTSTART:20261025T010000
END:STANDARD
BEGIN:DAYLIGHT
TZOFFSETFROM:+0100
TZOFFSETTO:+0200
TZNAME:CEST
DTSTART:20270328T010000
END:DAYLIGHT
BEGIN:STANDARD
TZOFFSETFROM:+0200
TZOFFSETTO:+0100
TZNAME:CET
DTSTART:20271031T010000
END:STANDARD
END:VTIMEZONE
BEGIN:VEVENT
DTSTART;TZID=Europe/Madrid:20260516T111500
DTEND;TZID=Europe/Madrid:20260516T140000
DTSTAMP:20260422T161942
CREATED:20260420T072820Z
LAST-MODIFIED:20260421T081023Z
UID:7478-1778930100-1778940000@ateneucoopbll.cat
SUMMARY:Taller creatiu: Transforma la teva roba amb vinil tèxtil
DESCRIPTION:Taller creatiu: Transforma la teva roba amb vinil tèxtil\n📅 Data: Dissabte\, 16 de maig de 2026📍 Lloc: Unió de Cooperadors📌 Adreça: Rambla Maria Casas\, 102 – Gavà \n📋 Organitza: Unió de Cooperadors \nEl taller “Transforma la teva roba amb vinil tèxtil” convida a donar una segona vida a la roba que ja no utilitzes\, convertint-la en una peça única i personalitzada. \nCal portar una peça de roba (samarreta\, dessuadora o tote bag). \nDurant el taller: \n\nAprendràs a utilitzar vinil tèxtil\nCrearàs el teu propi disseny personalitzat\nFomentaràs un consum més responsable\n\nActivitat adreçada a majors de 16 anys (menors acompanyats) i sense necessitat de coneixements previs. \nL’activitat requereix inscripció prèvia.
URL:https://ateneucoopbll.cat/acte/taller-creatiu-transforma-la-teva-roba-amb-vinil-textil/
LOCATION:Unió de Cooperadors de Gavà\, Rambla de Maria Casas\, 102\, Gavà\, Barcelona\, España
CATEGORIES:MaigCoop2026
ORGANIZER;CN="Unio de Cooperadors de Gava":MAILTO:uniocooperadors@gava.cat
END:VEVENT
END:VCALENDAR