BEGIN:VCALENDAR
VERSION:2.0
PRODID:-//Ateneu - ECPv6.15.20//NONSGML v1.0//EN
CALSCALE:GREGORIAN
METHOD:PUBLISH
X-WR-CALNAME:Ateneu
X-ORIGINAL-URL:https://ateneucoopbll.cat
X-WR-CALDESC:Esdeveniments per Ateneu
REFRESH-INTERVAL;VALUE=DURATION:PT1H
X-Robots-Tag:noindex
X-PUBLISHED-TTL:PT1H
BEGIN:VTIMEZONE
TZID:UTC
BEGIN:STANDARD
TZOFFSETFROM:+0000
TZOFFSETTO:+0000
TZNAME:UTC
DTSTART:20220101T000000
END:STANDARD
END:VTIMEZONE
BEGIN:VEVENT
DTSTART;TZID=UTC:20230609T110000
DTEND;TZID=UTC:20230609T130000
DTSTAMP:20260425T032556
CREATED:20230505T063131Z
LAST-MODIFIED:20231125T081208Z
UID:2992-1686308400-1686315600@ateneucoopbll.cat
SUMMARY:TALLER COOPERATIVA D'HABITATGE
DESCRIPTION:L’habitatge i el context econòmic i social de Catalunya durant l’any 2021 i 2022 ha estat marcat per l’impacte global que ha tingut la crisi sanitària derivada de la COVID-19 i per la guerra Ucranïa-Rússia. \nFet que ha incrementat els preus de consum\, IPC\, fins a xifres històriques des de les darreres dècades. Aquests increments de preus comporta un encariment de les matèries primeres i\, per tant\, un increment quantificatiu en els habitatges\, tant de compra com de lloguer. \nSi això li sumem\, la precarietat laboral i les elevades xifres d’atur viscudes durant la pandèmia és fa insostenible socioeconòmicament l’accés a un habitatge digne. \nTots aquests factors fan que hi hagi una tendència creixent en el Cooperativisme d’habitatge. \nPer això\, considerem que és important conèixer els trets bàsics de què és una cooperativa d’habitatge i com funciona. \nInscripcions: https://serveis.ateneucoopbll.cat/program/taller-cooperativa-dhabitatge
URL:https://ateneucoopbll.cat/acte/taller-cooperativa-dhabitatge/
LOCATION:En línia
ATTACH;FMTTYPE=image/jpeg:https://ateneucoopbll.cat/wp-content/uploads/2023/10/ATENEU_46_Taller_HAB_COOP_baners_FB_TW_LINK.jpg
END:VEVENT
END:VCALENDAR