BEGIN:VCALENDAR
VERSION:2.0
PRODID:-//Ateneu - ECPv6.15.20//NONSGML v1.0//EN
CALSCALE:GREGORIAN
METHOD:PUBLISH
X-WR-CALNAME:Ateneu
X-ORIGINAL-URL:https://ateneucoopbll.cat
X-WR-CALDESC:Esdeveniments per Ateneu
REFRESH-INTERVAL;VALUE=DURATION:PT1H
X-Robots-Tag:noindex
X-PUBLISHED-TTL:PT1H
BEGIN:VTIMEZONE
TZID:Europe/Madrid
BEGIN:DAYLIGHT
TZOFFSETFROM:+0100
TZOFFSETTO:+0200
TZNAME:CEST
DTSTART:20230326T010000
END:DAYLIGHT
BEGIN:STANDARD
TZOFFSETFROM:+0200
TZOFFSETTO:+0100
TZNAME:CET
DTSTART:20231029T010000
END:STANDARD
BEGIN:DAYLIGHT
TZOFFSETFROM:+0100
TZOFFSETTO:+0200
TZNAME:CEST
DTSTART:20240331T010000
END:DAYLIGHT
BEGIN:STANDARD
TZOFFSETFROM:+0200
TZOFFSETTO:+0100
TZNAME:CET
DTSTART:20241027T010000
END:STANDARD
BEGIN:DAYLIGHT
TZOFFSETFROM:+0100
TZOFFSETTO:+0200
TZNAME:CEST
DTSTART:20250330T010000
END:DAYLIGHT
BEGIN:STANDARD
TZOFFSETFROM:+0200
TZOFFSETTO:+0100
TZNAME:CET
DTSTART:20251026T010000
END:STANDARD
END:VTIMEZONE
BEGIN:VEVENT
DTSTART;TZID=Europe/Madrid:20240610T170000
DTEND;TZID=Europe/Madrid:20240610T180000
DTSTAMP:20260424T173355
CREATED:20240606T073804Z
LAST-MODIFIED:20240607T094252Z
UID:5109-1718038800-1718042400@ateneucoopbll.cat
SUMMARY:Sessió informativa sobre habitatge cooperatiu
DESCRIPTION:Què és l’habitatge cooperatiu? \n\n\n\n\n\n\n\nCada cop és més difícil accedir a un habitatge digne i hem de trobar alternatives com el cooperativisme d’habitatge. Vine a descobrir-ho a través d’una xerrada on coneixeràs els trets bàsics de les cooperatives d’habitatge i del seu funcionament. \nAdreçat a persones joves interessades en alternatives d’habitatge cooperatiu.\n\n\n10 de juny de 2024 \n17:00 – 18:00 H \n\n\nEn línia \nL’enllaç a la sessió online s’enviarà als participants inscrits un dia abans de la formació. \nFORMADORA \nFacto Cooperativa SCCLP \n\nInscripcions.
URL:https://ateneucoopbll.cat/acte/sessio-informativa-sobre-habitatge-cooperatiu/
CATEGORIES:Formacions
ATTACH;FMTTYPE=image/png:https://ateneucoopbll.cat/wp-content/uploads/2024/06/ENCUENTRO-PAZIFICO-BARCELONA-3.png
END:VEVENT
END:VCALENDAR