BEGIN:VCALENDAR
VERSION:2.0
PRODID:-//Ateneu - ECPv6.15.20//NONSGML v1.0//EN
CALSCALE:GREGORIAN
METHOD:PUBLISH
X-WR-CALNAME:Ateneu
X-ORIGINAL-URL:https://ateneucoopbll.cat
X-WR-CALDESC:Esdeveniments per Ateneu
REFRESH-INTERVAL;VALUE=DURATION:PT1H
X-Robots-Tag:noindex
X-PUBLISHED-TTL:PT1H
BEGIN:VTIMEZONE
TZID:Europe/Madrid
BEGIN:DAYLIGHT
TZOFFSETFROM:+0100
TZOFFSETTO:+0200
TZNAME:CEST
DTSTART:20240331T010000
END:DAYLIGHT
BEGIN:STANDARD
TZOFFSETFROM:+0200
TZOFFSETTO:+0100
TZNAME:CET
DTSTART:20241027T010000
END:STANDARD
BEGIN:DAYLIGHT
TZOFFSETFROM:+0100
TZOFFSETTO:+0200
TZNAME:CEST
DTSTART:20250330T010000
END:DAYLIGHT
BEGIN:STANDARD
TZOFFSETFROM:+0200
TZOFFSETTO:+0100
TZNAME:CET
DTSTART:20251026T010000
END:STANDARD
BEGIN:DAYLIGHT
TZOFFSETFROM:+0100
TZOFFSETTO:+0200
TZNAME:CEST
DTSTART:20260329T010000
END:DAYLIGHT
BEGIN:STANDARD
TZOFFSETFROM:+0200
TZOFFSETTO:+0100
TZNAME:CET
DTSTART:20261025T010000
END:STANDARD
END:VTIMEZONE
BEGIN:VEVENT
DTSTART;TZID=Europe/Madrid:20250520T100000
DTEND;TZID=Europe/Madrid:20250520T170000
DTSTAMP:20260424T103401
CREATED:20250508T080046Z
LAST-MODIFIED:20250513T135829Z
UID:6164-1747735200-1747760400@ateneucoopbll.cat
SUMMARY:Sessió informativa: Ajuts del SOC per a cooperatives i entitats de l’economia social
DESCRIPTION:Sessió informativa: Ajuts del SOC per a cooperatives i entitats de l’economia social\nDes de l’Ateneu Cooperatiu del Baix Llobregat organitzem una sessió informativa adreçada a cooperatives i entitats de l’economia social\, a càrrec del Jose Simon\, del departament d’Empresa del Servei Públic d’Ocupació de Catalunya (SOC).\nL’objectiu de la sessió és donar a conèixer els recursos i ajuts disponibles\, així com les diferents opcions de suport a l’ocupació i l’emprenedoria que ofereix el SOC. \nDetalls de l’activitat\nData: 20 de maig \nHorari: 10 h \n Lloc: Virtual \n Enllaç: https://serveis.ateneucoopbll.cat/program/maig-cooperatiu-2025 \n 
URL:https://ateneucoopbll.cat/acte/sessio-informativa-ajuts-del-soc-per-a-cooperatives-i-entitats-de-leconomia-social/
CATEGORIES:Sessió
ATTACH;FMTTYPE=image/jpeg:https://ateneucoopbll.cat/wp-content/uploads/2025/05/13_MaigCoop25_bnrAP_200525_SOC_WEB.jpg
ORGANIZER;CN="Consell Comarcal Baix Llobregat":MAILTO:comunicacio@elbaixllobregat.cat
END:VEVENT
END:VCALENDAR