BEGIN:VCALENDAR
VERSION:2.0
PRODID:-//Ateneu - ECPv6.15.20//NONSGML v1.0//EN
CALSCALE:GREGORIAN
METHOD:PUBLISH
X-WR-CALNAME:Ateneu
X-ORIGINAL-URL:https://ateneucoopbll.cat
X-WR-CALDESC:Esdeveniments per Ateneu
REFRESH-INTERVAL;VALUE=DURATION:PT1H
X-Robots-Tag:noindex
X-PUBLISHED-TTL:PT1H
BEGIN:VTIMEZONE
TZID:Europe/Madrid
BEGIN:DAYLIGHT
TZOFFSETFROM:+0100
TZOFFSETTO:+0200
TZNAME:CEST
DTSTART:20240331T010000
END:DAYLIGHT
BEGIN:STANDARD
TZOFFSETFROM:+0200
TZOFFSETTO:+0100
TZNAME:CET
DTSTART:20241027T010000
END:STANDARD
BEGIN:DAYLIGHT
TZOFFSETFROM:+0100
TZOFFSETTO:+0200
TZNAME:CEST
DTSTART:20250330T010000
END:DAYLIGHT
BEGIN:STANDARD
TZOFFSETFROM:+0200
TZOFFSETTO:+0100
TZNAME:CET
DTSTART:20251026T010000
END:STANDARD
BEGIN:DAYLIGHT
TZOFFSETFROM:+0100
TZOFFSETTO:+0200
TZNAME:CEST
DTSTART:20260329T010000
END:DAYLIGHT
BEGIN:STANDARD
TZOFFSETFROM:+0200
TZOFFSETTO:+0100
TZNAME:CET
DTSTART:20261025T010000
END:STANDARD
END:VTIMEZONE
BEGIN:VEVENT
DTSTART;TZID=Europe/Madrid:20250529T093000
DTEND;TZID=Europe/Madrid:20250529T113000
DTSTAMP:20260422T225728
CREATED:20250508T075322Z
LAST-MODIFIED:20250513T141220Z
UID:6196-1748511000-1748518200@ateneucoopbll.cat
SUMMARY:Sessió formativa: Tens clar el model de sostenibilitat del teu projecte? Un viatge per la eina de Canvas Social.
DESCRIPTION:Sessió formativa: Tens clar el model de sostenibilitat del teu projecte? Un viatge per la eina de Canvas Social.\nSessió formativa per conèixer l’eina del Canvas Social com a mètode per recollir\, analitzar i validar les diferents hipòtesis del model de sostenibilitat del vostre projecte socioempresarial. La formació és apta per qualsevol fase del projecte\, ja sigui en fase idea\, bé sigueu una entitat de l’economia social i solidària\, o bé una organització en transformació. El Canvas Social us ajudarà a identificar noves oportunitats\, a prendre perspectiva i consciència de les diferents dimensions socioempresarials del projecte\, a projectar un pla d’acció i sobretot a compartir visions i objectius de les persones integrants del projecte. \nDetalls de l’activitat\nData: 29 de maig \nHorari: 9.30 h – 11.30 h \nLloc: Virtual \nEnllaç: https://serveis.ateneucoopbll.cat/program/maig-cooperatiu-2025
URL:https://ateneucoopbll.cat/acte/sessio-formativa-tens-clar-el-model-de-sostenibilitat-del-teu-projecte-un-viatge-per-la-eina-de-canvas-social/
CATEGORIES:Sessió
ATTACH;FMTTYPE=image/jpeg:https://ateneucoopbll.cat/wp-content/uploads/2025/05/13_MaigCoop25_bnrAP_290525_WEB.jpg
ORGANIZER;CN="Calidoscoop":MAILTO:info@calidoscoop.coop
END:VEVENT
END:VCALENDAR