BEGIN:VCALENDAR
VERSION:2.0
PRODID:-//Ateneu - ECPv6.15.20//NONSGML v1.0//EN
CALSCALE:GREGORIAN
METHOD:PUBLISH
X-WR-CALNAME:Ateneu
X-ORIGINAL-URL:https://ateneucoopbll.cat
X-WR-CALDESC:Esdeveniments per Ateneu
REFRESH-INTERVAL;VALUE=DURATION:PT1H
X-Robots-Tag:noindex
X-PUBLISHED-TTL:PT1H
BEGIN:VTIMEZONE
TZID:Europe/Madrid
BEGIN:DAYLIGHT
TZOFFSETFROM:+0100
TZOFFSETTO:+0200
TZNAME:CEST
DTSTART:20240331T010000
END:DAYLIGHT
BEGIN:STANDARD
TZOFFSETFROM:+0200
TZOFFSETTO:+0100
TZNAME:CET
DTSTART:20241027T010000
END:STANDARD
BEGIN:DAYLIGHT
TZOFFSETFROM:+0100
TZOFFSETTO:+0200
TZNAME:CEST
DTSTART:20250330T010000
END:DAYLIGHT
BEGIN:STANDARD
TZOFFSETFROM:+0200
TZOFFSETTO:+0100
TZNAME:CET
DTSTART:20251026T010000
END:STANDARD
BEGIN:DAYLIGHT
TZOFFSETFROM:+0100
TZOFFSETTO:+0200
TZNAME:CEST
DTSTART:20260329T010000
END:DAYLIGHT
BEGIN:STANDARD
TZOFFSETFROM:+0200
TZOFFSETTO:+0100
TZNAME:CET
DTSTART:20261025T010000
END:STANDARD
END:VTIMEZONE
BEGIN:VEVENT
DTSTART;TZID=Europe/Madrid:20250519T093000
DTEND;TZID=Europe/Madrid:20250519T123000
DTSTAMP:20260424T103524
CREATED:20250508T083714Z
LAST-MODIFIED:20250513T135636Z
UID:6160-1747647000-1747657800@ateneucoopbll.cat
SUMMARY:Sessió d'intercooperació entre entitats de l'Economia Social i Solidària per a l'accés a la Compra Pública.
DESCRIPTION:Sessió d’intercooperació entre entitats de l’Economia Social i Solidària per a l’accés a la Compra Pública.\nEl Centre d’Estudis per la Compra Pública Estratègica organitza una jornada d’intercooperació per impulsar l’accés de les entitats de l’Economia Social i Solidària als processos de compra i contractació pública.\nLa jornada serà un espai de treball mutu entre entitats de l’ESS\, al voltant de la Compra Pública Estratègica. Foment de la intercooperació\, intercanvi de bones pràctiques\, transferència de coneixements\, impuls a la participació en processos de licitacions\, etc.\, són alguns dels objectius que perseguim amb la sessió. \nDetalls de l’activitat\nData: 19 de maig \nHorari: 9.30 h – 12.30 h \nLloc: Aula 4 del Centre de Promoció Econòmica \nEnllaç: https://serveis.ateneucoopbll.cat/program/maig-cooperatiu-2025
URL:https://ateneucoopbll.cat/acte/sessio-dintercooperacio-entre-entitats-de-leconomia-social-i-solidaria-per-a-lacces-a-la-compra-publica/
CATEGORIES:Sessió
END:VEVENT
END:VCALENDAR