BEGIN:VCALENDAR
VERSION:2.0
PRODID:-//Ateneu - ECPv6.15.20//NONSGML v1.0//EN
CALSCALE:GREGORIAN
METHOD:PUBLISH
X-WR-CALNAME:Ateneu
X-ORIGINAL-URL:https://ateneucoopbll.cat
X-WR-CALDESC:Esdeveniments per Ateneu
REFRESH-INTERVAL;VALUE=DURATION:PT1H
X-Robots-Tag:noindex
X-PUBLISHED-TTL:PT1H
BEGIN:VTIMEZONE
TZID:Europe/Madrid
BEGIN:DAYLIGHT
TZOFFSETFROM:+0100
TZOFFSETTO:+0200
TZNAME:CEST
DTSTART:20230326T010000
END:DAYLIGHT
BEGIN:STANDARD
TZOFFSETFROM:+0200
TZOFFSETTO:+0100
TZNAME:CET
DTSTART:20231029T010000
END:STANDARD
BEGIN:DAYLIGHT
TZOFFSETFROM:+0100
TZOFFSETTO:+0200
TZNAME:CEST
DTSTART:20240331T010000
END:DAYLIGHT
BEGIN:STANDARD
TZOFFSETFROM:+0200
TZOFFSETTO:+0100
TZNAME:CET
DTSTART:20241027T010000
END:STANDARD
BEGIN:DAYLIGHT
TZOFFSETFROM:+0100
TZOFFSETTO:+0200
TZNAME:CEST
DTSTART:20250330T010000
END:DAYLIGHT
BEGIN:STANDARD
TZOFFSETFROM:+0200
TZOFFSETTO:+0100
TZNAME:CET
DTSTART:20251026T010000
END:STANDARD
END:VTIMEZONE
BEGIN:VEVENT
DTSTART;TZID=Europe/Madrid:20240313T150000
DTEND;TZID=Europe/Madrid:20240313T180000
DTSTAMP:20260424T235450
CREATED:20240117T104944Z
LAST-MODIFIED:20240220T123532Z
UID:4179-1710342000-1710352800@ateneucoopbll.cat
SUMMARY:Itinerari formatiu “Aquí assessorem l’Economia Social”: Sessió 4 - Règim fiscal
DESCRIPTION:DESCRIPCIÓ \n\nRègim fiscal de cooperatives: llei 20/1990\nCooperatives protegides i especialment protegides\nPèrdua de la protecció fiscal\nBeneficis fiscals de les cooperatives\nRegles de valoració de les operacions cooperativitzades\nImpost de societats\nResultat cooperatiu i extra-cooperatiu\nAplicació del resultat econòmic\n\nA càrrec de Facto SCCL. \nInscripcions.   
URL:https://ateneucoopbll.cat/acte/sessio-4-regim-fiscal/
LOCATION:En línia
CATEGORIES:Sessió
ATTACH;FMTTYPE=image/jpeg:https://ateneucoopbll.cat/wp-content/uploads/2024/01/WEB-baners-sg24.jpg
END:VEVENT
END:VCALENDAR