BEGIN:VCALENDAR
VERSION:2.0
PRODID:-//Ateneu - ECPv6.15.20//NONSGML v1.0//EN
CALSCALE:GREGORIAN
METHOD:PUBLISH
X-WR-CALNAME:Ateneu
X-ORIGINAL-URL:https://ateneucoopbll.cat
X-WR-CALDESC:Esdeveniments per Ateneu
REFRESH-INTERVAL;VALUE=DURATION:PT1H
X-Robots-Tag:noindex
X-PUBLISHED-TTL:PT1H
BEGIN:VTIMEZONE
TZID:Europe/Madrid
BEGIN:DAYLIGHT
TZOFFSETFROM:+0100
TZOFFSETTO:+0200
TZNAME:CEST
DTSTART:20250330T010000
END:DAYLIGHT
BEGIN:STANDARD
TZOFFSETFROM:+0200
TZOFFSETTO:+0100
TZNAME:CET
DTSTART:20251026T010000
END:STANDARD
BEGIN:DAYLIGHT
TZOFFSETFROM:+0100
TZOFFSETTO:+0200
TZNAME:CEST
DTSTART:20260329T010000
END:DAYLIGHT
BEGIN:STANDARD
TZOFFSETFROM:+0200
TZOFFSETTO:+0100
TZNAME:CET
DTSTART:20261025T010000
END:STANDARD
BEGIN:DAYLIGHT
TZOFFSETFROM:+0100
TZOFFSETTO:+0200
TZNAME:CEST
DTSTART:20270328T010000
END:DAYLIGHT
BEGIN:STANDARD
TZOFFSETFROM:+0200
TZOFFSETTO:+0100
TZNAME:CET
DTSTART:20271031T010000
END:STANDARD
END:VTIMEZONE
BEGIN:VEVENT
DTSTART;TZID=Europe/Madrid:20260420T150000
DTEND;TZID=Europe/Madrid:20260420T160000
DTSTAMP:20260426T021215
CREATED:20260309T072646Z
LAST-MODIFIED:20260309T073233Z
UID:7278-1776697200-1776700800@ateneucoopbll.cat
SUMMARY:Introducció a la IA i els seus riscos
DESCRIPTION:Introducció a la IA i els seus riscos\n📅 Data: 20 d’abril de 2026🕒 Hora: De 15:00 h a 16:00 h📍 Lloc: Cotreball Lluís Serra \nAquesta quarta sessió oferirà una introducció clara i accessible a la intel·ligència artificial i al seu impacte actual en la societat i les organitzacions. \nLa càpsula\, d’una hora de durada\, combinarà presentació\, debat i treball pràctic. S’hi abordarà què és i què no és la IA\, els principals reptes tecnològics i la situació actual d’aquesta tecnologia. A partir d’aquesta base\, la sessió aprofundirà en els riscos i oportunitats que la IA pot generar per a les persones i les organitzacions\, així com en els principis ètics que han de guiar-ne l’ús responsable. \nTambé s’analitzaran alguns estudis de cas per reflexionar de manera aplicada sobre els impactes reals de la IA i les decisions que implica la seva adopció. \n🎤 Formadora: Josep Lluís Martínez \nInscripcions aquí
URL:https://ateneucoopbll.cat/acte/sessio-4-introduccio-a-la-ia-i-els-seus-riscos/
LOCATION:Cotreball Lluis Serra\, Pg. Juan Carlos I\, 5\, El Prat de Llobregat\, Barcelona\, Barcelona\, 08820\, Spain
CATEGORIES:Sessió
ATTACH;FMTTYPE=image/png:https://ateneucoopbll.cat/wp-content/uploads/2026/03/1b85a3ec-507a-4c23-8781-7ed5db0bb002.png
ORGANIZER;CN="Ateneu Cooperatiu del Baix Llobregat":MAILTO:ateneucooperatiu@elbaixllobregat.cat
END:VEVENT
END:VCALENDAR