BEGIN:VCALENDAR
VERSION:2.0
PRODID:-//Ateneu - ECPv6.15.20//NONSGML v1.0//EN
CALSCALE:GREGORIAN
METHOD:PUBLISH
X-WR-CALNAME:Ateneu
X-ORIGINAL-URL:https://ateneucoopbll.cat
X-WR-CALDESC:Esdeveniments per Ateneu
REFRESH-INTERVAL;VALUE=DURATION:PT1H
X-Robots-Tag:noindex
X-PUBLISHED-TTL:PT1H
BEGIN:VTIMEZONE
TZID:Europe/Madrid
BEGIN:DAYLIGHT
TZOFFSETFROM:+0100
TZOFFSETTO:+0200
TZNAME:CEST
DTSTART:20250330T010000
END:DAYLIGHT
BEGIN:STANDARD
TZOFFSETFROM:+0200
TZOFFSETTO:+0100
TZNAME:CET
DTSTART:20251026T010000
END:STANDARD
BEGIN:DAYLIGHT
TZOFFSETFROM:+0100
TZOFFSETTO:+0200
TZNAME:CEST
DTSTART:20260329T010000
END:DAYLIGHT
BEGIN:STANDARD
TZOFFSETFROM:+0200
TZOFFSETTO:+0100
TZNAME:CET
DTSTART:20261025T010000
END:STANDARD
BEGIN:DAYLIGHT
TZOFFSETFROM:+0100
TZOFFSETTO:+0200
TZNAME:CEST
DTSTART:20270328T010000
END:DAYLIGHT
BEGIN:STANDARD
TZOFFSETFROM:+0200
TZOFFSETTO:+0100
TZNAME:CET
DTSTART:20271031T010000
END:STANDARD
END:VTIMEZONE
BEGIN:VEVENT
DTSTART;TZID=Europe/Madrid:20260522T123000
DTEND;TZID=Europe/Madrid:20260522T143000
DTSTAMP:20260422T163343
CREATED:20260421T093132Z
LAST-MODIFIED:20260421T093226Z
UID:7532-1779453000-1779460200@ateneucoopbll.cat
SUMMARY:Segon Tast: Donem una nova oportunitat als productes
DESCRIPTION:Segon Tast: Donem una nova oportunitat als productes\n📅 Data: Divendres\, 22 de maig de 2026📍 Lloc: Restaurant Sagnier📌 Adreça: Carrer de Frederica Montseny\, 2\, 08820 El Prat de Llobregat\, Barcelona \n📋 Organitza: Fundació Rubricatus \nSegon Tast. Donem una nova oportunitat als productes és una proposta gastronòmica que combina aprofitament alimentari\, sostenibilitat i compromís social en el marc del Maig Cooperatiu. \nL’activitat consisteix en un dinar d’aprofitament que transforma productes rescatats en un menú creatiu i conscient\, amb l’objectiu de donar una nova vida als aliments i posar en valor la inserció social i el treball vinculat al territori. \nLa iniciativa convida a gaudir d’una experiència que uneix cuina circular i responsabilitat social\, mostrant com es poden reinventar els recursos per generar impacte positiu i reduir el malbaratament alimentari. \nL’activitat és presencial i tindrà lloc de 12.30 a 14.30 h al Restaurant Sagnier. Requereix inscripció prèvia per correu electrònic.
URL:https://ateneucoopbll.cat/acte/segon-tast-donem-una-nova-oportunitat-als-productes/
LOCATION:Restaurant Sagnier\, Carrer de Frederica Montseny\, 2\, El Prat de Llobregat\, Barcelona\, Barcelona\, 08820\, Spain
CATEGORIES:MaigCoop2026
END:VEVENT
END:VCALENDAR