BEGIN:VCALENDAR
VERSION:2.0
PRODID:-//Ateneu - ECPv6.15.20//NONSGML v1.0//EN
CALSCALE:GREGORIAN
METHOD:PUBLISH
X-WR-CALNAME:Ateneu
X-ORIGINAL-URL:https://ateneucoopbll.cat
X-WR-CALDESC:Esdeveniments per Ateneu
REFRESH-INTERVAL;VALUE=DURATION:PT1H
X-Robots-Tag:noindex
X-PUBLISHED-TTL:PT1H
BEGIN:VTIMEZONE
TZID:Europe/Madrid
BEGIN:DAYLIGHT
TZOFFSETFROM:+0100
TZOFFSETTO:+0200
TZNAME:CEST
DTSTART:20240331T010000
END:DAYLIGHT
BEGIN:STANDARD
TZOFFSETFROM:+0200
TZOFFSETTO:+0100
TZNAME:CET
DTSTART:20241027T010000
END:STANDARD
BEGIN:DAYLIGHT
TZOFFSETFROM:+0100
TZOFFSETTO:+0200
TZNAME:CEST
DTSTART:20250330T010000
END:DAYLIGHT
BEGIN:STANDARD
TZOFFSETFROM:+0200
TZOFFSETTO:+0100
TZNAME:CET
DTSTART:20251026T010000
END:STANDARD
BEGIN:DAYLIGHT
TZOFFSETFROM:+0100
TZOFFSETTO:+0200
TZNAME:CEST
DTSTART:20260329T010000
END:DAYLIGHT
BEGIN:STANDARD
TZOFFSETFROM:+0200
TZOFFSETTO:+0100
TZNAME:CET
DTSTART:20261025T010000
END:STANDARD
END:VTIMEZONE
BEGIN:VEVENT
DTSTART;TZID=Europe/Madrid:20250508T183000
DTEND;TZID=Europe/Madrid:20250508T193000
DTSTAMP:20260424T122059
CREATED:20250425T093000Z
LAST-MODIFIED:20250425T093000Z
UID:6115-1746729000-1746732600@ateneucoopbll.cat
SUMMARY:Redueix la teva factura energètica!
DESCRIPTION:Redueix la teva factura energètica!\nEl pròxim 8 de maig t’explicarem el que has de saber per guanyar confort a casa i pagar menys en una xerrada sobre energia i habitatge on s’explicarà com funcionen en l’àmbit energètic els nostres edificis i les seves possibilitats de millora.  \nParlarem de: \n\nEnergia\nEstalvi\nI del que suposa una rehabilitació energètica.\n\nOn tindrà lloc? \n📍 A la biblioteca La Ginesta\, a Begues. \nDetalls de l’activitat\n📅 Data: 8 de maig⏰ Horari: 18:30 – 19:30 h🎯 Format: Presencial\nProcés d’inscripció\nTruca al 936 392 808 o escriu a b.begues.lg@diba.cat
URL:https://ateneucoopbll.cat/acte/redueix-la-teva-factura-energetica/
CATEGORIES:Xerrada
ATTACH;FMTTYPE=application/pdf:https://ateneucoopbll.cat/wp-content/uploads/2025/04/1a-trobada-anual-del-Grup-de-Turisme-18.pdf
END:VEVENT
END:VCALENDAR