BEGIN:VCALENDAR
VERSION:2.0
PRODID:-//Ateneu - ECPv6.15.20//NONSGML v1.0//EN
CALSCALE:GREGORIAN
METHOD:PUBLISH
X-WR-CALNAME:Ateneu
X-ORIGINAL-URL:https://ateneucoopbll.cat
X-WR-CALDESC:Esdeveniments per Ateneu
REFRESH-INTERVAL;VALUE=DURATION:PT1H
X-Robots-Tag:noindex
X-PUBLISHED-TTL:PT1H
BEGIN:VTIMEZONE
TZID:Europe/Madrid
BEGIN:DAYLIGHT
TZOFFSETFROM:+0100
TZOFFSETTO:+0200
TZNAME:CEST
DTSTART:20250330T010000
END:DAYLIGHT
BEGIN:STANDARD
TZOFFSETFROM:+0200
TZOFFSETTO:+0100
TZNAME:CET
DTSTART:20251026T010000
END:STANDARD
BEGIN:DAYLIGHT
TZOFFSETFROM:+0100
TZOFFSETTO:+0200
TZNAME:CEST
DTSTART:20260329T010000
END:DAYLIGHT
BEGIN:STANDARD
TZOFFSETFROM:+0200
TZOFFSETTO:+0100
TZNAME:CET
DTSTART:20261025T010000
END:STANDARD
BEGIN:DAYLIGHT
TZOFFSETFROM:+0100
TZOFFSETTO:+0200
TZNAME:CEST
DTSTART:20270328T010000
END:DAYLIGHT
BEGIN:STANDARD
TZOFFSETFROM:+0200
TZOFFSETTO:+0100
TZNAME:CET
DTSTART:20271031T010000
END:STANDARD
END:VTIMEZONE
BEGIN:VEVENT
DTSTART;TZID=Europe/Madrid:20260506T180000
DTEND;TZID=Europe/Madrid:20260520T180000
DTSTAMP:20260422T133259
CREATED:20260417T085859Z
LAST-MODIFIED:20260421T081814Z
UID:7445-1778090400-1779300000@ateneucoopbll.cat
SUMMARY:Projecció del documental de la COV: 50 anys de cooperativisme
DESCRIPTION:Projecció del documental de la COV: 50 anys de cooperativisme\n📅 Dates: Del 6 al 20 de maig de 2026📍 Lloc: Seu social de la COV – El Prat de Llobregat \n📋 Organitza: COV \nEn el marc de la commemoració dels 50 anys d’història\, la COV impulsa un cicle de projeccions del seu documental amb fins a quatre sessions obertes al públic. \nCada sessió inclourà una introducció a càrrec del Consell Rector\, un passi de fotografies històriques i un espai de debat participatiu amb les persones assistents. \nLa primera sessió comptarà amb la presència d’autoritats i de les autores del documental. \nL’activitat té com a objectiu difondre el cooperativisme\, posar en valor el model de la COV com a experiència replicable i fomentar el debat cooperatiu.
URL:https://ateneucoopbll.cat/acte/projeccio-del-documental-de-la-cov-50-anys-de-cooperativisme/
LOCATION:Seu social de la COV\, Plaça Ramon Roigé i Badia\, 3\, El Prat de Llobregat\, 08820\, Spain
CATEGORIES:MaigCoop2026
ORGANIZER;CN="COV":MAILTO:cov@cov.coop
END:VEVENT
END:VCALENDAR