BEGIN:VCALENDAR
VERSION:2.0
PRODID:-//Ateneu - ECPv6.15.20//NONSGML v1.0//EN
CALSCALE:GREGORIAN
METHOD:PUBLISH
X-WR-CALNAME:Ateneu
X-ORIGINAL-URL:https://ateneucoopbll.cat
X-WR-CALDESC:Esdeveniments per Ateneu
REFRESH-INTERVAL;VALUE=DURATION:PT1H
X-Robots-Tag:noindex
X-PUBLISHED-TTL:PT1H
BEGIN:VTIMEZONE
TZID:UTC
BEGIN:STANDARD
TZOFFSETFROM:+0000
TZOFFSETTO:+0000
TZNAME:UTC
DTSTART:20210101T000000
END:STANDARD
END:VTIMEZONE
BEGIN:VEVENT
DTSTART;TZID=UTC:20220503T184500
DTEND;TZID=UTC:20220503T213000
DTSTAMP:20260425T162808
CREATED:20220303T063003Z
LAST-MODIFIED:20231125T082741Z
UID:2862-1651603500-1651613400@ateneucoopbll.cat
SUMMARY:Presentació del Maig Cooperatiu al Prat i projecció del film “Els espigoladors i l’espigoladora” d’Agnés Varda
DESCRIPTION:Maig Cooperatiu #maigcoop 2022\, el mes de l’economia social i cooperativa al Baix Llobregat. \nL’economia social promou la participació de les persones\, l’ocupació estable\, la innovació\, l’arrelament al territori i el desenvolupament local. Alhora\, les iniciatives d’economia social i cooperativa prioritzen les dimensions socials\, ambientals i humanes de l’economia\, a fi de resoldre més eficaçment les necessitats de la ciutadania. Existeixen cooperatives a tots els àmbits i sectors\, des de l’atenció a les persones\, les energies renovables\, l’habitatge\, el transport\, la restauració\, la comunicació o la indústria\, entre d’altres. \nOrganitzat conjuntament per l’Ateneu Cooperatiu del Baix Llobregat\, els ajuntaments i les entitats d’economia social i les cooperatives de la comarca\, el #maigcoop és un cicle per visibilitzar i sensibilitzar vers l’#ESS durant un mes sencer\, amb una programació d’activitats divulgatives a tota la comarca del #BaixLlobregat. \nAixí doncs\, us convidem a l’acte de presentació de les activitats del Maig Cooperatiu al Prat i de CinemESS\, el cinefòrum de l’Ateneu Cooperatiu del Baix Llobregat\, amb la projecció del film “Els espigoladors i l’espigoladora” d’Agnés Varda (França\, 2000\, 82 minuts). \nA continuació tindrem un col·loqui-debat amb tres ponents vinculats al sector agroalimentari per reflexionar entorn del malbaratament i la sobirania alimentària\, de l’espigolament i els impactes del sistema de producció actual. Modera la Fundació Espigoladors. També hi haurà un tastet de productes “es im-perfect”. \nPonents \n\nMarcel Tort\, productor del Parc Agrari del Baix Llobregat\nGemma Ubeda i Elisa Gibert\, del grup de consum Cals Karxofa\nMariano Martínez\, de l’AGT Baix\n\nEscaleta de l’acte \n18.00 h Obertura de portes. Entrada lliure. Només platea.\n18.45 h Inici activitat\n18:50 h. Paraules de presentació del Maig Cooperatiu 2022 del Tinent d’Alcalde de Desenvolupament Econòmic\, Juan Carlos Moreno\n19.00 h. Presentació del Cine-club de l’Ateneu del Baix Llobregat a càrrec d’Osvaldo Riccardi i Enrique Carrillo\, presentació de la primera sessió de cine-club amb el film d’Agnés Varda.\n19.10 h. Projecció del film.\n20.31 h. Finalització projecció.\n20.33 h. Taula rodona amb la Fundació Espigoladors.\n21.00 h. Tast de productes Es-Imperfecte al hall de l’amfiteatre.\n21.30 h. Fi de l’activitat.\n\nOn: Cinema Capri\, Avinguda Verge de Montserrat\, 111\, Prat de Llobregat.\nEntrada gratuïta amb inscripció: http://serveis.ateneucoopbll.cat/program/maig-cooperatiu\n 
URL:https://ateneucoopbll.cat/acte/presentacio-del-maig-cooperatiu-al-prat-i-projeccio-del-film-les-espigoladores-i-lespigoladora-dagnes-varda/
LOCATION:Cinema Capri\, Av. de la Verge de Montserrat\, 111\, 08820 El Prat de Llobregat\, Barcelona\, Barcelona\, Barcelonba\, 08820\, España
ATTACH;FMTTYPE=image/jpeg:https://ateneucoopbll.cat/wp-content/uploads/2023/10/ATENEU_05_MaigCoop_bnr_WEB_3_Espigladores.jpg
END:VEVENT
END:VCALENDAR