BEGIN:VCALENDAR
VERSION:2.0
PRODID:-//Ateneu - ECPv6.15.20//NONSGML v1.0//EN
CALSCALE:GREGORIAN
METHOD:PUBLISH
X-WR-CALNAME:Ateneu
X-ORIGINAL-URL:https://ateneucoopbll.cat
X-WR-CALDESC:Esdeveniments per Ateneu
REFRESH-INTERVAL;VALUE=DURATION:PT1H
X-Robots-Tag:noindex
X-PUBLISHED-TTL:PT1H
BEGIN:VTIMEZONE
TZID:Europe/Madrid
BEGIN:DAYLIGHT
TZOFFSETFROM:+0100
TZOFFSETTO:+0200
TZNAME:CEST
DTSTART:20250330T010000
END:DAYLIGHT
BEGIN:STANDARD
TZOFFSETFROM:+0200
TZOFFSETTO:+0100
TZNAME:CET
DTSTART:20251026T010000
END:STANDARD
BEGIN:DAYLIGHT
TZOFFSETFROM:+0100
TZOFFSETTO:+0200
TZNAME:CEST
DTSTART:20260329T010000
END:DAYLIGHT
BEGIN:STANDARD
TZOFFSETFROM:+0200
TZOFFSETTO:+0100
TZNAME:CET
DTSTART:20261025T010000
END:STANDARD
BEGIN:DAYLIGHT
TZOFFSETFROM:+0100
TZOFFSETTO:+0200
TZNAME:CEST
DTSTART:20270328T010000
END:DAYLIGHT
BEGIN:STANDARD
TZOFFSETFROM:+0200
TZOFFSETTO:+0100
TZNAME:CET
DTSTART:20271031T010000
END:STANDARD
END:VTIMEZONE
BEGIN:VEVENT
DTSTART;TZID=Europe/Madrid:20260527T183000
DTEND;TZID=Europe/Madrid:20260527T183000
DTSTAMP:20260422T163343
CREATED:20260421T090110Z
LAST-MODIFIED:20260421T090231Z
UID:7519-1779906600-1779906600@ateneucoopbll.cat
SUMMARY:Presentació del llibre LA CAIXA\, una història mai explicada\, de Rafa Burgos
DESCRIPTION:Presentació del llibre LA CAIXA\, una història mai explicada\, de Rafa Burgos\n📅 Data: Dimecres\, 27 de maig de 2026📍 Lloc: Sala Antonio Calzada de la llibreria Els nou rals📌 Adreça: Llibreria Els nou rals\, C/ Sant Joan\, 19 – 08840 Viladecans \n📋 Organitza: Llibreria Els nou rals \nLa presentació del llibre LA CAIXA\, una història mai explicada\, de Rafa Burgos és una proposta oberta al públic que dona a conèixer una investigació crítica sobre la institució financera més influent de l’Estat. \nDesprés de més de quatre anys de recerca\, més de cent entrevistes i la consulta de desenes d’arxius\, l’autor ofereix una radiografia detallada del poder exercit per “la Caixa” en àmbits com la banca\, l’energia\, la cultura\, la sanitat o els mitjans de comunicació. \nL’acte permetrà aprofundir en el contingut d’aquesta obra\, que planteja una mirada crítica i documentada sobre una de les institucions amb més capacitat d’influència del país. \nLa presentació és presencial i no requereix inscripció prèvia. A més\, durant l’acte es podrà adquirir el llibre i l’autor el podrà signar.
URL:https://ateneucoopbll.cat/acte/presentacio-del-llibre-la-caixa-una-historia-mai-explicada-de-rafa-burgos/
LOCATION:Llibreria Els nou rals\, C/ Sant Joan\, 19\, Viladecans\, Barcelona\, 08840\, Spain
CATEGORIES:MaigCoop2026
ORGANIZER;CN="Llibreria Els nous rals":MAILTO:llibreria@elsnourals.cat
END:VEVENT
END:VCALENDAR