BEGIN:VCALENDAR
VERSION:2.0
PRODID:-//Ateneu - ECPv6.15.20//NONSGML v1.0//EN
CALSCALE:GREGORIAN
METHOD:PUBLISH
X-WR-CALNAME:Ateneu
X-ORIGINAL-URL:https://ateneucoopbll.cat
X-WR-CALDESC:Esdeveniments per Ateneu
REFRESH-INTERVAL;VALUE=DURATION:PT1H
X-Robots-Tag:noindex
X-PUBLISHED-TTL:PT1H
BEGIN:VTIMEZONE
TZID:Europe/Madrid
BEGIN:DAYLIGHT
TZOFFSETFROM:+0100
TZOFFSETTO:+0200
TZNAME:CEST
DTSTART:20250330T010000
END:DAYLIGHT
BEGIN:STANDARD
TZOFFSETFROM:+0200
TZOFFSETTO:+0100
TZNAME:CET
DTSTART:20251026T010000
END:STANDARD
BEGIN:DAYLIGHT
TZOFFSETFROM:+0100
TZOFFSETTO:+0200
TZNAME:CEST
DTSTART:20260329T010000
END:DAYLIGHT
BEGIN:STANDARD
TZOFFSETFROM:+0200
TZOFFSETTO:+0100
TZNAME:CET
DTSTART:20261025T010000
END:STANDARD
BEGIN:DAYLIGHT
TZOFFSETFROM:+0100
TZOFFSETTO:+0200
TZNAME:CEST
DTSTART:20270328T010000
END:DAYLIGHT
BEGIN:STANDARD
TZOFFSETFROM:+0200
TZOFFSETTO:+0100
TZNAME:CET
DTSTART:20271031T010000
END:STANDARD
END:VTIMEZONE
BEGIN:VEVENT
DTSTART;TZID=Europe/Madrid:20260507T173000
DTEND;TZID=Europe/Madrid:20260507T173000
DTSTAMP:20260422T133358
CREATED:20260417T092305Z
LAST-MODIFIED:20260421T081617Z
UID:7450-1778175000-1778175000@ateneucoopbll.cat
SUMMARY:Presentació del cicle Maig Cooperatiu\, taula rodona i projecció de El viejo roble
DESCRIPTION:Presentació del cicle Maig Cooperatiu\, taula rodona i projecció de El viejo roble\n📅 Data: Dijous\, 7 de maig de 2026🕠 Hora: 17.30 h📍 Lloc: Cine Capri – El Prat de Llobregat \nEn el marc del cicle Maig Cooperatiu\, tindrà lloc una sessió que combinarà presentació institucional\, debat i cinema social. \nL’acte començarà amb la presentació del programa a càrrec del Tinent d’Alcaldia Juan Carlos Moreno. A continuació\, se celebrarà la taula rodona “Migracions\, drets i treball: com col·laboren l’Administració i l’economia social i cooperativa”\, amb la participació de les entitats Som Llar i CPS Frances Palau. \nSeguidament\, es projectarà el film El viejo roble\, del director Ken Loach. La pel·lícula narra la història de l’últim pub d’un poble del nord-est d’Anglaterra\, marcat pel tancament de les mines i l’arribada de persones refugiades\, posant el focus en la convivència\, la solidaritat i els reptes socials. \nL’activitat vol generar espais de reflexió sobre migracions\, drets i cooperació\, a través del diàleg i la cultura.
URL:https://ateneucoopbll.cat/acte/presentacio-del-cicle-maig-cooperatiu-taula-rodona-i-projeccio-de-el-viejo-roble/
LOCATION:Cine Capri
CATEGORIES:MaigCoop2026
END:VEVENT
END:VCALENDAR