BEGIN:VCALENDAR
VERSION:2.0
PRODID:-//Ateneu - ECPv6.15.20//NONSGML v1.0//EN
CALSCALE:GREGORIAN
METHOD:PUBLISH
X-WR-CALNAME:Ateneu
X-ORIGINAL-URL:https://ateneucoopbll.cat
X-WR-CALDESC:Esdeveniments per Ateneu
REFRESH-INTERVAL;VALUE=DURATION:PT1H
X-Robots-Tag:noindex
X-PUBLISHED-TTL:PT1H
BEGIN:VTIMEZONE
TZID:Europe/Madrid
BEGIN:DAYLIGHT
TZOFFSETFROM:+0100
TZOFFSETTO:+0200
TZNAME:CEST
DTSTART:20240331T010000
END:DAYLIGHT
BEGIN:STANDARD
TZOFFSETFROM:+0200
TZOFFSETTO:+0100
TZNAME:CET
DTSTART:20241027T010000
END:STANDARD
BEGIN:DAYLIGHT
TZOFFSETFROM:+0100
TZOFFSETTO:+0200
TZNAME:CEST
DTSTART:20250330T010000
END:DAYLIGHT
BEGIN:STANDARD
TZOFFSETFROM:+0200
TZOFFSETTO:+0100
TZNAME:CET
DTSTART:20251026T010000
END:STANDARD
BEGIN:DAYLIGHT
TZOFFSETFROM:+0100
TZOFFSETTO:+0200
TZNAME:CEST
DTSTART:20260329T010000
END:DAYLIGHT
BEGIN:STANDARD
TZOFFSETFROM:+0200
TZOFFSETTO:+0100
TZNAME:CET
DTSTART:20261025T010000
END:STANDARD
END:VTIMEZONE
BEGIN:VEVENT
DTSTART;TZID=Europe/Madrid:20250409T100000
DTEND;TZID=Europe/Madrid:20250409T163000
DTSTAMP:20260424T135828
CREATED:20250407T083713Z
LAST-MODIFIED:20250407T083829Z
UID:5960-1744192800-1744216200@ateneucoopbll.cat
SUMMARY:Plenària 2025 de la Xarxa d'Ateneus Cooperatius (XAC)
DESCRIPTION:Plenària 2025 de la Xarxa d’Ateneus Cooperatius (XAC)\n\n\nEl 9 d’abril a la Fàbrica Roca Umbert de Granollers la Plenària 2025 de la Xarxa d’Ateneus Cooperatius (XAC) de Catalunya. Tal com marca d’ordre de l’actual convocatòria\, participaran en la Plenària totes les entitats promotores dels 14 Ateneus Cooperatius de Catalunya.\n\nSerà una jornada d’enxarxament i intercooperació\, on a més d’explicar breument el Pla de Treball de la XAC per aquests tres anys\, hem muntat unes formacions i tallers entorn de dues temàtiques estratègiques en el futur del cooperativisme a Catalunya: Habitatge i Indústria.\nAdjuntem el programa de la jornada. Al llarg de la setmana vinent us enviarem més informació\, inclòs el nom de les persones ponents.\nDetalls de l’activitat\n📅 Data: 9 d’abril\, 10 h – 16.45 h🎯 Format: Presencial – Jornada\nPer arribar a la Fàbrica Roca Umbert\, les companyes de l’Ateneu Cooperatiu del Vallès Oriental que ens acullen ens recomanen venir amb transport públic o\, si no es pot\, amb cotxe compartit (per la C17 o l’AP7\, sortida 13 Granollers). El més fàcil és fer-ho amb la línia R2 de Rodalies\, baixar a Granollers Centre i caminar dos minuts fins arribar a Roca Umbert. Des de Sabadell i Mataró també hi ha bus llançadora. I per aparcar\, ens recomanen aquest pàrquing proper. \nProcés d’inscripció\n📅 Termini d’inscripció: Fins al 4 d’abril a les 14 h.💻 Com inscriure’s? Ompliu el formulari disponible a la web del programa.📌 Més informació i inscripcions aquí:👉 https://oficina-xac.somnuvol.coop/apps/forms/s/GE9zM83d2NW2H2TeiTsDTGqy \nPer qualsevol altra cosa\, podeu afegir-ho al camp de ‘comentaris’ del formulari.\n\nAmb moltes ganes de trobar-nos el dia 9\, us desitgem un molt bon cap de setmana!
URL:https://ateneucoopbll.cat/acte/plenaria-2025-de-la-xarxa-dateneus-cooperatius-xac/
CATEGORIES:Jornada
ATTACH;FMTTYPE=image/jpeg:https://ateneucoopbll.cat/wp-content/uploads/2025/03/XAC-cartell-plenaria-9-4-25.jpeg
END:VEVENT
END:VCALENDAR