BEGIN:VCALENDAR
VERSION:2.0
PRODID:-//Ateneu - ECPv6.15.20//NONSGML v1.0//EN
CALSCALE:GREGORIAN
METHOD:PUBLISH
X-WR-CALNAME:Ateneu
X-ORIGINAL-URL:https://ateneucoopbll.cat
X-WR-CALDESC:Esdeveniments per Ateneu
REFRESH-INTERVAL;VALUE=DURATION:PT1H
X-Robots-Tag:noindex
X-PUBLISHED-TTL:PT1H
BEGIN:VTIMEZONE
TZID:UTC
BEGIN:STANDARD
TZOFFSETFROM:+0000
TZOFFSETTO:+0000
TZNAME:UTC
DTSTART:20210101T000000
END:STANDARD
END:VTIMEZONE
BEGIN:VEVENT
DTSTART;TZID=UTC:20220511T140000
DTEND;TZID=UTC:20220511T183000
DTSTAMP:20260425T144332
CREATED:20220311T064315Z
LAST-MODIFIED:20231125T082728Z
UID:2868-1652277600-1652293800@ateneucoopbll.cat
SUMMARY:Per qui\, què\, quan\, on\, com i per què publicar a les xarxes socials?
DESCRIPTION:Tenir un coneixement de les diferents xarxes socials i sobretot enfocar de forma estratègica la comunicació de qualsevol tipus d’empresa\, incloses les empreses d’economia social i solidària\, a través d’aquest canal i recursos al mateix temps que donar eines per optimitzar els resultats i la gestió. \nDurant la sessió és coneixerà l’evolució de les xarxes socials\, principals dades de l’ús de les xarxes socials\, conceptes bàsics de màrqueting digital per tenir millor resultats a les xarxes socials\, perfil del client. Què hem d’esperar de les xarxes socials i què no. A quina xarxa social he d’estar? Principals característiques de cada una i mirar quina és millor per a cada tipus de públic. En quantes he d’estar? Per què he de publicar? Què vol dir estar a les xarxes socials? Com m’he d’implicar i quina feina em comportarà? Per qui he de publicar? Quan i quan he de publicar? Què he de publicar? Contingut i tipus de publicació. Com he de publicar? 10 idees que t’ajudaran a fer que aquesta acció sigui més efectiva. \nAdreçat a empreses\, comerços\, professionals i també a empreses d’economia social i solidària\, que saben que s’han de posar a les xarxes socials\, però no tenen clar quina estratègia seguir\, i en cas que hi siguin que volen millorar-la. \nActe emmarcat dins del Maig Cooperatiu\, inscriu-t’hi a http://serveis.ateneucoopbll.cat/program/maig-cooperatiu
URL:https://ateneucoopbll.cat/acte/per-qui-que-quan-on-com-i-per-que-publicar-a-les-xarxes-socials/
LOCATION:Activitat Virtual
ATTACH;FMTTYPE=image/jpeg:https://ateneucoopbll.cat/wp-content/uploads/2023/10/ATENEU_05_MaigCoop_bnr_WEB_11_Perqui.jpg
END:VEVENT
END:VCALENDAR