BEGIN:VCALENDAR
VERSION:2.0
PRODID:-//Ateneu - ECPv6.15.20//NONSGML v1.0//EN
CALSCALE:GREGORIAN
METHOD:PUBLISH
X-WR-CALNAME:Ateneu
X-ORIGINAL-URL:https://ateneucoopbll.cat
X-WR-CALDESC:Esdeveniments per Ateneu
REFRESH-INTERVAL;VALUE=DURATION:PT1H
X-Robots-Tag:noindex
X-PUBLISHED-TTL:PT1H
BEGIN:VTIMEZONE
TZID:Europe/Madrid
BEGIN:DAYLIGHT
TZOFFSETFROM:+0100
TZOFFSETTO:+0200
TZNAME:CEST
DTSTART:20240331T010000
END:DAYLIGHT
BEGIN:STANDARD
TZOFFSETFROM:+0200
TZOFFSETTO:+0100
TZNAME:CET
DTSTART:20241027T010000
END:STANDARD
BEGIN:DAYLIGHT
TZOFFSETFROM:+0100
TZOFFSETTO:+0200
TZNAME:CEST
DTSTART:20250330T010000
END:DAYLIGHT
BEGIN:STANDARD
TZOFFSETFROM:+0200
TZOFFSETTO:+0100
TZNAME:CET
DTSTART:20251026T010000
END:STANDARD
BEGIN:DAYLIGHT
TZOFFSETFROM:+0100
TZOFFSETTO:+0200
TZNAME:CEST
DTSTART:20260329T010000
END:DAYLIGHT
BEGIN:STANDARD
TZOFFSETFROM:+0200
TZOFFSETTO:+0100
TZNAME:CET
DTSTART:20261025T010000
END:STANDARD
END:VTIMEZONE
BEGIN:VEVENT
DTSTART;TZID=Europe/Madrid:20250407T080000
DTEND;TZID=Europe/Madrid:20250407T170000
DTSTAMP:20260424T134942
CREATED:20250407T084639Z
LAST-MODIFIED:20250407T084639Z
UID:6017-1744012800-1744045200@ateneucoopbll.cat
SUMMARY:Participeu en l'estudi del cooperativisme de treball!
DESCRIPTION:Participeu en l’estudi del cooperativisme de treball!\nBenvolgudes i benvolguts cooperativistes\, \nS’engega la campanya 2025 del Baròmetre Cooperatiu\, l’eina de la Federació per fer una radiografia a l’estat del cooperativisme de treball. \nOBJECTIUS\n– Disposarem d’un document representatiu que aporti una visió àmplia dels principals indicadors del sector cooperativista. Això ens ajudarà a seguir treballant per cooperativitzar la societat i enfortir el cooperativisme. \n– Rebreu un informe personalitzat elaborat a partir de les vostres respostes. En aquest estudi també podreu comparar-vos amb d’altres cooperatives del vostre àmbit. Si\, a més\, ja vau contestar-hi en edicions anteriors\, se us enviarà també una comparativa per anys\, perquè pugueu valorar la vostra evolució. \nDADES CLAU\n\nAccés al qüestionari: barometre.cooperativestreball.coop\nCodi d’accés:  haureu de posar el NIF de la cooperativa amb la lletra en majúscules i sense separacions.\nTemps: es pot respondre en un màxim de 15 minuts.\n\nMés informació
URL:https://ateneucoopbll.cat/acte/participeu-en-lestudi-del-cooperativisme-de-treball/
ATTACH;FMTTYPE=application/pdf:https://ateneucoopbll.cat/wp-content/uploads/2025/04/1a-trobada-anual-del-Grup-de-Turisme-17.pdf
END:VEVENT
END:VCALENDAR