BEGIN:VCALENDAR
VERSION:2.0
PRODID:-//Ateneu - ECPv6.15.20//NONSGML v1.0//EN
CALSCALE:GREGORIAN
METHOD:PUBLISH
X-WR-CALNAME:Ateneu
X-ORIGINAL-URL:https://ateneucoopbll.cat
X-WR-CALDESC:Esdeveniments per Ateneu
REFRESH-INTERVAL;VALUE=DURATION:PT1H
X-Robots-Tag:noindex
X-PUBLISHED-TTL:PT1H
BEGIN:VTIMEZONE
TZID:UTC
BEGIN:STANDARD
TZOFFSETFROM:+0000
TZOFFSETTO:+0000
TZNAME:UTC
DTSTART:20210101T000000
END:STANDARD
END:VTIMEZONE
BEGIN:VEVENT
DTSTART;TZID=UTC:20220707T093000
DTEND;TZID=UTC:20220708T113000
DTSTAMP:20260422T103222
CREATED:20220616T125636Z
LAST-MODIFIED:20231125T082714Z
UID:2898-1657186200-1657279800@ateneucoopbll.cat
SUMMARY:Màrqueting rESSponsable: taller en línia
DESCRIPTION:Objectiu general: Definir la teva Proposta de Valor Social (PSV) i integrar els criteris de consum responsable a la oferta dels productes i serveis del teu projecte dins i/o fora del Mercat Social. \nContinguts generals:  \n\nContext general i antecedents del Màrqueting Social a l’Economia Social i Solidària.\nLa construcció de la PROPOSTA de VALOR SOCIAL (PVS) o UNIQUE SOCIAL SELLING POINT (USSP).\nDecàleg per a un Màrketing rESSponsable basat en valors de l’Economia Social i Solidària.\nGrups d’interès: interns i externs\, primaris i secundaris\, aliances i sinèrgies.\n\nContinguts específics a treballar per cada entitat participant: \n\nReconèixer i analitzar les característiques del model de Màrqueting predominant al teu sector.\nInvestigar i definir l’àmbit geogràfic i el circuit econòmic\, social i cultural on opera la teva entitat.\nEnumerar\, analitzar i definir les diferents parts que integren la cadena de valor social del teu projecte.\nReconèixer exemples actuals i pràctics de Màrqueting Social replicables a la teva entitat.\n\nExercicis pràctics:  \n\nIdentifica els valors socials i elements responsables del teu producte o servei per construir la teva PROPOSTA DE VALOR SOCIAL (PVS).\nDissenya l’estructura d’una estratègia per al model de pla de Màrqueting Social de la teva entitat.\n\n  \nPerfil dels participants:  \nEntitats\, empreses\, autònomes\, estudiants i emprenedores de l’Economia Social i Solidària\, així com PIMEs i altres persones interessades en l’ESS. \nDurada: 2 sessions\, 1 teòrica i 1 pràctica\, de 2 hores cadascuna. \nDates:  7 i 8 de juliol de 2022\, de 9.30h a 11.30h. \nDocent:  Chus López González\, creaRSA SCCL \nLloc: virtual\, s’enviarà enllaç amb antelació un cop feta la inscripció. \nPer a qualsevol dubte\, escriure a: chuslopez@crearsa.com \nInscriu-t’hi a: https://serveis.ateneucoopbll.cat/program/sessions-collectives-disseny-destrategies-vinculades-a-lemprenedoria-consolidacio-io-creixement-dentitats-de-less
URL:https://ateneucoopbll.cat/acte/marqueting-ressponsable-taller-en-linia/
LOCATION:Activitat Virtual
ATTACH;FMTTYPE=image/jpeg:https://ateneucoopbll.cat/wp-content/uploads/2023/10/ATENEU_13_MRESS_Creacio_WEB.jpg
ORGANIZER;CN="creaRSA SCCL":MAILTO:info@crearsa.com
END:VEVENT
END:VCALENDAR