BEGIN:VCALENDAR
VERSION:2.0
PRODID:-//Ateneu - ECPv6.15.20//NONSGML v1.0//EN
CALSCALE:GREGORIAN
METHOD:PUBLISH
X-WR-CALNAME:Ateneu
X-ORIGINAL-URL:https://ateneucoopbll.cat
X-WR-CALDESC:Esdeveniments per Ateneu
REFRESH-INTERVAL;VALUE=DURATION:PT1H
X-Robots-Tag:noindex
X-PUBLISHED-TTL:PT1H
BEGIN:VTIMEZONE
TZID:Europe/Madrid
BEGIN:DAYLIGHT
TZOFFSETFROM:+0100
TZOFFSETTO:+0200
TZNAME:CEST
DTSTART:20240331T010000
END:DAYLIGHT
BEGIN:STANDARD
TZOFFSETFROM:+0200
TZOFFSETTO:+0100
TZNAME:CET
DTSTART:20241027T010000
END:STANDARD
BEGIN:DAYLIGHT
TZOFFSETFROM:+0100
TZOFFSETTO:+0200
TZNAME:CEST
DTSTART:20250330T010000
END:DAYLIGHT
BEGIN:STANDARD
TZOFFSETFROM:+0200
TZOFFSETTO:+0100
TZNAME:CET
DTSTART:20251026T010000
END:STANDARD
BEGIN:DAYLIGHT
TZOFFSETFROM:+0100
TZOFFSETTO:+0200
TZNAME:CEST
DTSTART:20260329T010000
END:DAYLIGHT
BEGIN:STANDARD
TZOFFSETFROM:+0200
TZOFFSETTO:+0100
TZNAME:CET
DTSTART:20261025T010000
END:STANDARD
END:VTIMEZONE
BEGIN:VEVENT
DTSTART;TZID=Europe/Madrid:20250917T090000
DTEND;TZID=Europe/Madrid:20250917T160000
DTSTAMP:20260422T200135
CREATED:20250828T070225Z
LAST-MODIFIED:20250828T070225Z
UID:6516-1758099600-1758124800@ateneucoopbll.cat
SUMMARY:L’impacte en les iniciatives d’economia social i solidària
DESCRIPTION:L’impacte en les iniciatives d’economia social i solidària\nEl pròxim 17 de setembre destinada a persones tècniques dels Ateneus de forma presencial a Vic\, tindrà lloc una formació tècnica dins de les jornades de cocreació sobre l’economia social i solidària. \n  \nObjectius:\n\nAprendre a definir i mesurar l’impacte de la nostra acció\nConèixer i experimentar alguna de les eines que ajuden a identificar quins són els principals impactes a què es vol posar atenció\nAdquirir les nocions necessàries per poder definir uns primers indicadors d’impacte que ajudin a la planificació de la nostra acció\n\nContingut:\n\nQuè és l’impacte\nL’impacte com el canvi que es vol aconseguir en l’entorn a partir de les actuacions pròpies\nMesurar l’impacte: de l’objectiu teòric a la seva operacionalització\nPlanificació de la mesura de l’impacte\n\n\n*Activitat exclusiva per a equips tècnics de la XAC. En aquest taller la Direcció General té especial interès en que participin el màxim de persones membres de la XAC. \n  \nOrganitza: Calidoscoop \nDetalls de l’activitat\nData: 17 de setembre \nLloc: Vic \nHorari: 9 h – 16 h \nFormat: Presencial \n 
URL:https://ateneucoopbll.cat/acte/limpacte-en-les-iniciatives-deconomia-social-i-solidaria-2/
LOCATION:Vic
CATEGORIES:Formacions
ATTACH;FMTTYPE=image/jpeg:https://ateneucoopbll.cat/wp-content/uploads/2025/08/B76BDA3F-DD9B-44B9-8F4D-508225D68B15.jpeg
ORGANIZER;CN="Calidoscoop":MAILTO:info@calidoscoop.coop
END:VEVENT
END:VCALENDAR