BEGIN:VCALENDAR
VERSION:2.0
PRODID:-//Ateneu - ECPv6.15.20//NONSGML v1.0//EN
CALSCALE:GREGORIAN
METHOD:PUBLISH
X-WR-CALNAME:Ateneu
X-ORIGINAL-URL:https://ateneucoopbll.cat
X-WR-CALDESC:Esdeveniments per Ateneu
REFRESH-INTERVAL;VALUE=DURATION:PT1H
X-Robots-Tag:noindex
X-PUBLISHED-TTL:PT1H
BEGIN:VTIMEZONE
TZID:Europe/Madrid
BEGIN:DAYLIGHT
TZOFFSETFROM:+0100
TZOFFSETTO:+0200
TZNAME:CEST
DTSTART:20240331T010000
END:DAYLIGHT
BEGIN:STANDARD
TZOFFSETFROM:+0200
TZOFFSETTO:+0100
TZNAME:CET
DTSTART:20241027T010000
END:STANDARD
BEGIN:DAYLIGHT
TZOFFSETFROM:+0100
TZOFFSETTO:+0200
TZNAME:CEST
DTSTART:20250330T010000
END:DAYLIGHT
BEGIN:STANDARD
TZOFFSETFROM:+0200
TZOFFSETTO:+0100
TZNAME:CET
DTSTART:20251026T010000
END:STANDARD
BEGIN:DAYLIGHT
TZOFFSETFROM:+0100
TZOFFSETTO:+0200
TZNAME:CEST
DTSTART:20260329T010000
END:DAYLIGHT
BEGIN:STANDARD
TZOFFSETFROM:+0200
TZOFFSETTO:+0100
TZNAME:CET
DTSTART:20261025T010000
END:STANDARD
END:VTIMEZONE
BEGIN:VEVENT
DTSTART;TZID=Europe/Madrid:20250508T173000
DTEND;TZID=Europe/Madrid:20250508T200000
DTSTAMP:20260424T122022
CREATED:20250508T081119Z
LAST-MODIFIED:20250508T081119Z
UID:6134-1746725400-1746734400@ateneucoopbll.cat
SUMMARY:Jornades professionals: Educació\, ètica i responsabilitat
DESCRIPTION:Jornades professionals: Educació\, ètica i responsabilitat\nEl Dijous 8 de maig a Drecera se celebren els 40 anys d’història i es commemora amb un espai de reflexió al Citilab de Cornellà. Es Volen abordar els reptes actuals i futurs de l’acció social des del marc pedagògic i principis com la responsabilitat professional\, la innovació i els drets de les persones ateses. Drecera va néixer amb el somni de cuidar infants i adolescents\, i avui també formen i orienten persones vulnerables. El compromís amb l’educació\, el treball en xarxa i el benestar segueix viu. Celebrem aquest camí col·lectiu mirant cap al futur! \nDetalls de l’activitat\nData: 8 de maig \nHorari: 17.30 h – 20 h \nLloc: Citilab\, Cornellà \nEnllaç: https://docs.google.com/forms/d/1l-xOfj-pZ0zR1HTt42eOeNh6x5ys6ERGU3lxyEKJnhM/viewform?edit_requested=true
URL:https://ateneucoopbll.cat/acte/jornades-professionals-educacio-etica-i-responsabilitat/
CATEGORIES:Jornada
ATTACH;FMTTYPE=image/jpeg:https://ateneucoopbll.cat/wp-content/uploads/2025/05/13_MaigCoop25_bnrAP_080525_Citilab_WEB.jpg
END:VEVENT
END:VCALENDAR