BEGIN:VCALENDAR
VERSION:2.0
PRODID:-//Ateneu - ECPv6.15.20//NONSGML v1.0//EN
CALSCALE:GREGORIAN
METHOD:PUBLISH
X-WR-CALNAME:Ateneu
X-ORIGINAL-URL:https://ateneucoopbll.cat
X-WR-CALDESC:Esdeveniments per Ateneu
REFRESH-INTERVAL;VALUE=DURATION:PT1H
X-Robots-Tag:noindex
X-PUBLISHED-TTL:PT1H
BEGIN:VTIMEZONE
TZID:Europe/Madrid
BEGIN:DAYLIGHT
TZOFFSETFROM:+0100
TZOFFSETTO:+0200
TZNAME:CEST
DTSTART:20240331T010000
END:DAYLIGHT
BEGIN:STANDARD
TZOFFSETFROM:+0200
TZOFFSETTO:+0100
TZNAME:CET
DTSTART:20241027T010000
END:STANDARD
BEGIN:DAYLIGHT
TZOFFSETFROM:+0100
TZOFFSETTO:+0200
TZNAME:CEST
DTSTART:20250330T010000
END:DAYLIGHT
BEGIN:STANDARD
TZOFFSETFROM:+0200
TZOFFSETTO:+0100
TZNAME:CET
DTSTART:20251026T010000
END:STANDARD
BEGIN:DAYLIGHT
TZOFFSETFROM:+0100
TZOFFSETTO:+0200
TZNAME:CEST
DTSTART:20260329T010000
END:DAYLIGHT
BEGIN:STANDARD
TZOFFSETFROM:+0200
TZOFFSETTO:+0100
TZNAME:CET
DTSTART:20261025T010000
END:STANDARD
END:VTIMEZONE
BEGIN:VEVENT
DTSTART;TZID=Europe/Madrid:20250912T080000
DTEND;TZID=Europe/Madrid:20250912T170000
DTSTAMP:20260422T200000
CREATED:20250912T113719Z
LAST-MODIFIED:20250912T113719Z
UID:6771-1757664000-1757696400@ateneucoopbll.cat
SUMMARY:Jornada: Transformació Digital Industrial — Connectant tecnologia i territori
DESCRIPTION:Jornada: Transformació Digital Industrial — Connectant tecnologia i territori\n🗓 Dimecres 17 de setembre de 2025\n🕘 De 9.30 a 13.30 h\n📍 Seu del Consell Comarcal del Baix Llobregat (Parc Torreblanca CN-340\, Sant Feliu de Llobregat) \nAquesta jornada reunirà empreses\, institucions i agents del territori per abordar els reptes i les oportunitats de la transformació digital industrial a Catalunya. A través de ponències\, una taula rodona amb casos reals i una dinàmica de networking estructurat\, es promouran aliances i reflexions sobre com connectar la tecnologia amb el desenvolupament territorial. \nL’acte inclou: \n\nPresentació del Baròmetre de la Transformació Digital de la Indústria a Catalunya\nTaula de bones pràctiques amb empreses del Baix Llobregat\nEspais de trobada i connexió entre empreses i agents tecnològics\n\nUna oportunitat per compartir experiències\, activar sinergies i fer avançar el territori en clau digital.
URL:https://ateneucoopbll.cat/acte/jornada-transformacio-digital-industrial-connectant-tecnologia-i-territori/
CATEGORIES:Jornada
ATTACH;FMTTYPE=image/png:https://ateneucoopbll.cat/wp-content/uploads/2025/09/Noticies-web-BO-30.png
END:VEVENT
END:VCALENDAR