BEGIN:VCALENDAR
VERSION:2.0
PRODID:-//Ateneu - ECPv6.15.20//NONSGML v1.0//EN
CALSCALE:GREGORIAN
METHOD:PUBLISH
X-WR-CALNAME:Ateneu
X-ORIGINAL-URL:https://ateneucoopbll.cat
X-WR-CALDESC:Esdeveniments per Ateneu
REFRESH-INTERVAL;VALUE=DURATION:PT1H
X-Robots-Tag:noindex
X-PUBLISHED-TTL:PT1H
BEGIN:VTIMEZONE
TZID:Europe/Madrid
BEGIN:DAYLIGHT
TZOFFSETFROM:+0100
TZOFFSETTO:+0200
TZNAME:CEST
DTSTART:20250330T010000
END:DAYLIGHT
BEGIN:STANDARD
TZOFFSETFROM:+0200
TZOFFSETTO:+0100
TZNAME:CET
DTSTART:20251026T010000
END:STANDARD
BEGIN:DAYLIGHT
TZOFFSETFROM:+0100
TZOFFSETTO:+0200
TZNAME:CEST
DTSTART:20260329T010000
END:DAYLIGHT
BEGIN:STANDARD
TZOFFSETFROM:+0200
TZOFFSETTO:+0100
TZNAME:CET
DTSTART:20261025T010000
END:STANDARD
BEGIN:DAYLIGHT
TZOFFSETFROM:+0100
TZOFFSETTO:+0200
TZNAME:CEST
DTSTART:20270328T010000
END:DAYLIGHT
BEGIN:STANDARD
TZOFFSETFROM:+0200
TZOFFSETTO:+0100
TZNAME:CET
DTSTART:20271031T010000
END:STANDARD
END:VTIMEZONE
BEGIN:VEVENT
DTSTART;TZID=Europe/Madrid:20260522T123000
DTEND;TZID=Europe/Madrid:20260522T123000
DTSTAMP:20260422T163220
CREATED:20260421T095021Z
LAST-MODIFIED:20260421T095117Z
UID:7546-1779453000-1779453000@ateneucoopbll.cat
SUMMARY:Jornada sobre aprofitament alimentari
DESCRIPTION:Jornada sobre aprofitament alimentari\n📅 Data: Divendres\, 22 de maig de 2026📍 Lloc: Restaurant del Sagnier📌 Adreça: Carrer de Frederica Montseny\, 2 – El Prat de Llobregat \n📋 Organitza: Fundació Rubricatus \nLa Jornada sobre aprofitament alimentari és una proposta per reflexionar i donar a conèixer iniciatives vinculades al reaprofitament alimentari des d’una perspectiva pràctica i compromesa amb la sostenibilitat. \nLa jornada girarà entorn de la filosofia i la manera de fer del Restaurant del Sagnier en relació amb l’aprofitament alimentari\, i vol posar en valor estratègies que permeten reduir el malbaratament i donar una nova vida als productes. \nLa proposta\, que encara s’està acabant de dissenyar\, probablement inclourà una part d’exposició i explicació sobre aquesta tasca\, així com una mostra d’un o dos productes per a degustació in situ. \nL’activitat és presencial i tindrà lloc a les 12.30 h al Restaurant del Sagnier.
URL:https://ateneucoopbll.cat/acte/jornada-sobre-aprofitament-alimentari/
LOCATION:Restaurant Sagnier\, Carrer de Frederica Montseny\, 2\, El Prat de Llobregat\, Barcelona\, Barcelona\, 08820\, Spain
CATEGORIES:MaigCoop2026
END:VEVENT
END:VCALENDAR