BEGIN:VCALENDAR
VERSION:2.0
PRODID:-//Ateneu - ECPv6.15.20//NONSGML v1.0//EN
CALSCALE:GREGORIAN
METHOD:PUBLISH
X-WR-CALNAME:Ateneu
X-ORIGINAL-URL:https://ateneucoopbll.cat
X-WR-CALDESC:Esdeveniments per Ateneu
REFRESH-INTERVAL;VALUE=DURATION:PT1H
X-Robots-Tag:noindex
X-PUBLISHED-TTL:PT1H
BEGIN:VTIMEZONE
TZID:UTC
BEGIN:STANDARD
TZOFFSETFROM:+0000
TZOFFSETTO:+0000
TZNAME:UTC
DTSTART:20210101T000000
END:STANDARD
END:VTIMEZONE
BEGIN:VEVENT
DTSTART;TZID=UTC:20220528T113000
DTEND;TZID=UTC:20220528T140000
DTSTAMP:20260425T131744
CREATED:20220328T073706Z
LAST-MODIFIED:20231125T082714Z
UID:2839-1653737400-1653746400@ateneucoopbll.cat
SUMMARY:Jornada Esperanzah és nom de dona 2022
DESCRIPTION:Recuperem aquesta taula rodona que s’hauria d’haver celebrat el 12 de març i es va postposar: Una mirada feminista a l’Economia Social i Solidària\, on volem posar de manifest la visió de la dona treballadora dins l’economia social i solidària. \n \nData: 28 de maig de 2022 \nHorari: de 11:30 a 14:00 \nLloc: Plaça Catalunya\, el Prat de Llobregat. \nActivitat presencial. \nInscripcions http://serveis.ateneucoopbll.cat/program/taula-rodona-una-mirada-feminista-a-leconomia-social-i-solidaria  \nOrganitzen: Cercles de Cultura i d’Economies Comunitàries del nostre Ateneu i Fundació Cívica Esperanzah\, amb el suport del Ajuntament del Prat de Llobregat.
URL:https://ateneucoopbll.cat/acte/jornada-esperanzah-es-nom-de-dona-2022/
LOCATION:Plaça Catalunya\, el Prat de Llobregat\, Plaça Catalunya\, el Prat de Llobregat\, Barcelona\, España
ATTACH;FMTTYPE=image/jpeg:https://ateneucoopbll.cat/wp-content/uploads/2023/10/ATENEU_02_WEB.jpg
END:VEVENT
END:VCALENDAR