BEGIN:VCALENDAR
VERSION:2.0
PRODID:-//Ateneu - ECPv6.15.20//NONSGML v1.0//EN
CALSCALE:GREGORIAN
METHOD:PUBLISH
X-WR-CALNAME:Ateneu
X-ORIGINAL-URL:https://ateneucoopbll.cat
X-WR-CALDESC:Esdeveniments per Ateneu
REFRESH-INTERVAL;VALUE=DURATION:PT1H
X-Robots-Tag:noindex
X-PUBLISHED-TTL:PT1H
BEGIN:VTIMEZONE
TZID:Europe/Madrid
BEGIN:DAYLIGHT
TZOFFSETFROM:+0100
TZOFFSETTO:+0200
TZNAME:CEST
DTSTART:20250330T010000
END:DAYLIGHT
BEGIN:STANDARD
TZOFFSETFROM:+0200
TZOFFSETTO:+0100
TZNAME:CET
DTSTART:20251026T010000
END:STANDARD
BEGIN:DAYLIGHT
TZOFFSETFROM:+0100
TZOFFSETTO:+0200
TZNAME:CEST
DTSTART:20260329T010000
END:DAYLIGHT
BEGIN:STANDARD
TZOFFSETFROM:+0200
TZOFFSETTO:+0100
TZNAME:CET
DTSTART:20261025T010000
END:STANDARD
BEGIN:DAYLIGHT
TZOFFSETFROM:+0100
TZOFFSETTO:+0200
TZNAME:CEST
DTSTART:20270328T010000
END:DAYLIGHT
BEGIN:STANDARD
TZOFFSETFROM:+0200
TZOFFSETTO:+0100
TZNAME:CET
DTSTART:20271031T010000
END:STANDARD
END:VTIMEZONE
BEGIN:VEVENT
DTSTART;TZID=Europe/Madrid:20260204T120000
DTEND;TZID=Europe/Madrid:20260204T140000
DTSTAMP:20260422T164829
CREATED:20260120T170440Z
LAST-MODIFIED:20260120T170510Z
UID:7098-1770206400-1770213600@ateneucoopbll.cat
SUMMARY:Jornada en línia: Monedes Locals\, Revisió d’Estat
DESCRIPTION:Jornada en línia: Monedes Locals\, Revisió d’Estat\n📅 Data: Dimecres\, 4 de febrer de 2026🕛 Hora: De 12.00 h a 14.00 h🌐 Modalitat: En línia (es facilitarà l’enllaç un cop feta la inscripció)🔗 Inscripció prèvia \nQuin paper tenen avui les monedes locals? Quins són els seus reptes\, potencialitats i aprenentatges? Aquesta jornada en línia proposa una revisió d’estat sobre el present i futur de les monedes complementàries\, amb la participació de municipis que han liderat iniciatives pioneres a Catalunya com La Rosa (Sant Feliu)\, la Grama (Santa Coloma) i els Vilawatts (Viladecans). \nOrganitzada per la XMESS i el Grup Intermunicipal de Monedes Complementàries\, la sessió també abordarà les conclusions del primer congrés europeu sobre monedes locals celebrat a Bordeus\, i compartirà experiències de col·laboració entre administracions\, entitats i projectes emergents en aquest àmbit. \nUna cita imprescindible per a totes les persones interessades en la innovació econòmica\, el desenvolupament local i les estratègies per relocalitzar l’economia. \n📌 Programa destacat: \n\n\n12:00 h · Benvinguda a càrrec del Grup de Moneda Local de la XMESS \n\n\n12:05 h · Presentació del projecte intermunicipal per la consolidació de monedes locals \n\n\n12:50 h · Conclusions del congrés europeu de Bordeus\, amb l’Observatori de la Moneda Complementària \n\n\n13:20 h · Taula d’experiències i balanç de projectes en marxa \n\n\nOrganitzen: XMESS i el Grup Intermunicipal de Monedes ComplementàriesAmb la col·laboració de: Novact\, Ubiquat i la Diputació de Barcelona
URL:https://ateneucoopbll.cat/acte/jornada-en-linia-monedes-locals-revisio-destat/
LOCATION:Taller Online
CATEGORIES:Jornada
ATTACH;FMTTYPE=image/png:https://ateneucoopbll.cat/wp-content/uploads/2026/01/Noticies-web-BO-19.png
END:VEVENT
END:VCALENDAR