BEGIN:VCALENDAR
VERSION:2.0
PRODID:-//Ateneu - ECPv6.15.20//NONSGML v1.0//EN
CALSCALE:GREGORIAN
METHOD:PUBLISH
X-WR-CALNAME:Ateneu
X-ORIGINAL-URL:https://ateneucoopbll.cat
X-WR-CALDESC:Esdeveniments per Ateneu
REFRESH-INTERVAL;VALUE=DURATION:PT1H
X-Robots-Tag:noindex
X-PUBLISHED-TTL:PT1H
BEGIN:VTIMEZONE
TZID:Europe/Madrid
BEGIN:DAYLIGHT
TZOFFSETFROM:+0100
TZOFFSETTO:+0200
TZNAME:CEST
DTSTART:20230326T010000
END:DAYLIGHT
BEGIN:STANDARD
TZOFFSETFROM:+0200
TZOFFSETTO:+0100
TZNAME:CET
DTSTART:20231029T010000
END:STANDARD
BEGIN:DAYLIGHT
TZOFFSETFROM:+0100
TZOFFSETTO:+0200
TZNAME:CEST
DTSTART:20240331T010000
END:DAYLIGHT
BEGIN:STANDARD
TZOFFSETFROM:+0200
TZOFFSETTO:+0100
TZNAME:CET
DTSTART:20241027T010000
END:STANDARD
BEGIN:DAYLIGHT
TZOFFSETFROM:+0100
TZOFFSETTO:+0200
TZNAME:CEST
DTSTART:20250330T010000
END:DAYLIGHT
BEGIN:STANDARD
TZOFFSETFROM:+0200
TZOFFSETTO:+0100
TZNAME:CET
DTSTART:20251026T010000
END:STANDARD
END:VTIMEZONE
BEGIN:VEVENT
DTSTART;TZID=Europe/Madrid:20241015T170000
DTEND;TZID=Europe/Madrid:20241015T190000
DTSTAMP:20260424T172132
CREATED:20241003T100319Z
LAST-MODIFIED:20241007T072842Z
UID:5306-1729011600-1729018800@ateneucoopbll.cat
SUMMARY:Jornada de bones pràctiques a l'ESS: Experiències de creixement d'organitzacions de l'ESS de Catalunya.
DESCRIPTION:Voleu créixer\, però no sabeu com\, o teniu dubtes de com fer-ho? \nUn dels principals reptes identificats al sector de l’economia social i solidària de Catalunya és el de fer créixer la nostra organització: econòmicament o organitzacionalment mantenint l’essència i valors de l’organització. \nDe què parlarem i a qui s’adreça? \nAquesta sessió s’adreça a totes aquelles persones o organitzacions que vulguin conèixer experiències d’èxit en aquest àmbit. Les organitzacions convidades han passat o estan passant per aquestes situacions de creixement i ens explicaran com s’ha desenvolupat\, i com han resolt els reptes que es plantegen. \nQuines experiències coneixerem? \nLes organitzacions que ens acompanyaran en aquest acte en format entrevista i taula rodona seran: \n\nSuara (Sector Salut i Cures de les persones)\nSom Connexió (Sector de les Telecomunicacions)\nCoop57 (Sector finançament)\nEspigoladors / Es Imperfect (Sector Alimentació i Sensibilització)\nLa Fageda (Sector Salut i Alimentació)\n\n  \nOn i quan? \nUs esperem el dia 15 d’octubre de 2024\, de 17h a 19h al Centre Cívic Palmira Domènech (Carrer de Lo Gaiter del Llobregat\, 112\, 08820 El Prat de Llobregat\, Barcelona) (Enllaç directe a Google Maps). \nCal inscripció prèvia? \nSí\, en aquesta publicació pots trobar el formulari d’Inscripcion. \nOrganitza i realitza Heres Social amb la col·laboració de l’Ajuntament del Prat de Llobregat.
URL:https://ateneucoopbll.cat/acte/jornada-de-bones-practiques-a-less-experiencies-de-creixement-dorganitzacions-de-less-de-catalunya/
LOCATION:Centre Cívic Palmira Domènech\, Lo Gaiter del Llobregat 0112\, El Prat de Llobregat\, Barcelona\, 08820\, España
CATEGORIES:Jornada
ATTACH;FMTTYPE=image/jpeg:https://ateneucoopbll.cat/wp-content/uploads/2024/10/ACBLl_79_BonesPractiques_baners_FB_TW_LINK.jpeg
ORGANIZER;CN="Ateneu Cooperatiu del Baix Llobregat":MAILTO:ateneucooperatiu@elbaixllobregat.cat
END:VEVENT
END:VCALENDAR