BEGIN:VCALENDAR
VERSION:2.0
PRODID:-//Ateneu - ECPv6.15.20//NONSGML v1.0//EN
CALSCALE:GREGORIAN
METHOD:PUBLISH
X-WR-CALNAME:Ateneu
X-ORIGINAL-URL:https://ateneucoopbll.cat
X-WR-CALDESC:Esdeveniments per Ateneu
REFRESH-INTERVAL;VALUE=DURATION:PT1H
X-Robots-Tag:noindex
X-PUBLISHED-TTL:PT1H
BEGIN:VTIMEZONE
TZID:UTC
BEGIN:STANDARD
TZOFFSETFROM:+0000
TZOFFSETTO:+0000
TZNAME:UTC
DTSTART:20210101T000000
END:STANDARD
END:VTIMEZONE
BEGIN:VEVENT
DTSTART;TZID=UTC:20220518T183000
DTEND;TZID=UTC:20220518T200000
DTSTAMP:20260425T162455
CREATED:20220318T105612Z
LAST-MODIFIED:20231125T082728Z
UID:2886-1652898600-1652904000@ateneucoopbll.cat
SUMMARY:Instalives amb @LaCoordi
DESCRIPTION:Dimecres\, 18 de maig a les 18:30h directe des de l’Instagram de @LaCoordi: \n\n\n\n\nParlem de sucre de comerç just\, amb Tais Bastida del grup de consum La Bajoca i Laura López de la cooperativa Manduvira (Paraguay)
URL:https://ateneucoopbll.cat/acte/instalives-3/
LOCATION:Activitat Virtual
ATTACH;FMTTYPE=image/jpeg:https://ateneucoopbll.cat/wp-content/uploads/2023/10/ATENEU_05_MaigCoop_bnr_WEB_18_Instalives.jpg
END:VEVENT
END:VCALENDAR