BEGIN:VCALENDAR
VERSION:2.0
PRODID:-//Ateneu - ECPv6.15.20//NONSGML v1.0//EN
CALSCALE:GREGORIAN
METHOD:PUBLISH
X-WR-CALNAME:Ateneu
X-ORIGINAL-URL:https://ateneucoopbll.cat
X-WR-CALDESC:Esdeveniments per Ateneu
REFRESH-INTERVAL;VALUE=DURATION:PT1H
X-Robots-Tag:noindex
X-PUBLISHED-TTL:PT1H
BEGIN:VTIMEZONE
TZID:UTC
BEGIN:STANDARD
TZOFFSETFROM:+0000
TZOFFSETTO:+0000
TZNAME:UTC
DTSTART:20210101T000000
END:STANDARD
END:VTIMEZONE
BEGIN:VEVENT
DTSTART;TZID=UTC:20220601T100000
DTEND;TZID=UTC:20220601T130000
DTSTAMP:20260425T131327
CREATED:20220401T070850Z
LAST-MODIFIED:20231125T082714Z
UID:2848-1654077600-1654088400@ateneucoopbll.cat
SUMMARY:INCUBADORA SOCIAL ESSC BAIX LLOBREGAT - Sessió 6
DESCRIPTION:L’objectiu de la Incubadora Social ESSC Baix Llobregat és fer viables idees o projectes d’empresa\, en una fase inicial de desenvolupament\, per assegurar que poden convertir-se en realitat en un breu període de temps\, així com fer que aquestes idees i projectes tinguin un impacte social positiu. \nSessió 6 – Esdeveniment Social Elevator Pitch: El  programa Incubadora Social ESSC Baix Llobregat acabarà amb una exposició de 8 minuts que cada projecte realitzarà davant un jurat format per  persones representatives del sector de l’economia social. \nÉs una molt bona pràctica per a futures exposicions del teu projecte a possibles aliances\, clients\, usuaris o potencials finançadors. \n  \nINSCRIPCIÓ
URL:https://ateneucoopbll.cat/acte/incubadora-social-essc-baix-llobregat-sessio-6/
LOCATION:Activitat Virtual
ATTACH;FMTTYPE=image/jpeg:https://ateneucoopbll.cat/wp-content/uploads/2023/10/ATENEU_06_Incubadora_WEB.jpg
END:VEVENT
END:VCALENDAR