BEGIN:VCALENDAR
VERSION:2.0
PRODID:-//Ateneu - ECPv6.15.20//NONSGML v1.0//EN
CALSCALE:GREGORIAN
METHOD:PUBLISH
X-WR-CALNAME:Ateneu
X-ORIGINAL-URL:https://ateneucoopbll.cat
X-WR-CALDESC:Esdeveniments per Ateneu
REFRESH-INTERVAL;VALUE=DURATION:PT1H
X-Robots-Tag:noindex
X-PUBLISHED-TTL:PT1H
BEGIN:VTIMEZONE
TZID:Europe/Madrid
BEGIN:DAYLIGHT
TZOFFSETFROM:+0100
TZOFFSETTO:+0200
TZNAME:CEST
DTSTART:20230326T010000
END:DAYLIGHT
BEGIN:STANDARD
TZOFFSETFROM:+0200
TZOFFSETTO:+0100
TZNAME:CET
DTSTART:20231029T010000
END:STANDARD
BEGIN:DAYLIGHT
TZOFFSETFROM:+0100
TZOFFSETTO:+0200
TZNAME:CEST
DTSTART:20240331T010000
END:DAYLIGHT
BEGIN:STANDARD
TZOFFSETFROM:+0200
TZOFFSETTO:+0100
TZNAME:CET
DTSTART:20241027T010000
END:STANDARD
BEGIN:DAYLIGHT
TZOFFSETFROM:+0100
TZOFFSETTO:+0200
TZNAME:CEST
DTSTART:20250330T010000
END:DAYLIGHT
BEGIN:STANDARD
TZOFFSETFROM:+0200
TZOFFSETTO:+0100
TZNAME:CET
DTSTART:20251026T010000
END:STANDARD
END:VTIMEZONE
BEGIN:VEVENT
DTSTART;TZID=Europe/Madrid:20240227T093000
DTEND;TZID=Europe/Madrid:20240227T120000
DTSTAMP:20260424T235613
CREATED:20240125T103917Z
LAST-MODIFIED:20240220T145551Z
UID:4222-1709026200-1709035200@ateneucoopbll.cat
SUMMARY:1a Assemblea de l'Ateneu Cooperatiu del Baix Llobregat 23/24
DESCRIPTION:DESCRIPCIÓ \nActe presencial a Molins de Rei \nOrdre del dia: \n\n9:30 a 10:00 – Presentació de l’Assemblea per part de Sr. Xavi Paz\, Alcalde de Molins de Rei i del Sr. Fernando Vicente\, Conseller de Desenvolupament Econòmic\, Estratègic i Agrícola del Consell Comarcal del Baix Llobregat.\n\n\n\n10:00 a 10:15 – Indicadors de l’Ateneu Coop. del Baix Llobregat per el 2024\, a càrrec dels tècnics de l’Ateneu.\n\n\n\n10:15 a 10:30 – Presentació del Maig Cooperatiu a la Comarca del Baix Llobregat\, a càrrec de Xavier Gimenez\, Tècnic de l’Ajuntament del Prat.\n\n\n\n10:30 a 11:30 – Presentació de tres models d’Ateneus Cooperatius a Catalunya:\n\n            – Ateneu Cooperatiu de la Catalunya Central – a càrrec d’Alba Rojas \n            – Ateneu Cooperatiu de Terres Gironines – a càrrec d’Eva Ferrer \n            – Ateneu Cooperatiu Coòpolis de Barcelona- a càrrec de Josep Maria Ballarin \n\n11:30 a 11:45 – Espai posterior de preguntes als Ateneus convidats per a possibles aclariments.\n11:45 a 12:00 – Torn obert de preguntes i propostes dels ajuntaments participants de la Comarca\, i torn obert de propostes per part de les Entitats que formem part de l’Ateneu\, promotores i participants\, per a la creació d’un grup de treball participatiu de cara al nou projecte d’Ateneu 2024-27.\n\n\n\nInscripcions.
URL:https://ateneucoopbll.cat/acte/i-assemblea-de-lateneu-cooperatiu-del-baix-llobregat-23-24/
LOCATION:Sala d’Actes de la Federació Obrera\, Carrer Jacint Verdaguer\, 48\, Molins de Rei\, Catalunya\, 08750\, Espanya
CATEGORIES:Assemblea
ATTACH;FMTTYPE=image/jpeg:https://ateneucoopbll.cat/wp-content/uploads/2024/01/ACBLl60_I_Assemblea_ACBLl23_24_bnr_WEB.jpg
ORGANIZER;CN="Ateneu Cooperatiu del Baix Llobregat":MAILTO:ateneucooperatiu@elbaixllobregat.cat
END:VEVENT
END:VCALENDAR